{"text_format":"3","workbook":"xlsx","n_sheets":7,"sheets":["Sheet1","分校计划安排表","倾斜专业","职成处公布专业名单","职成处公布院校名单","学校序号","专业超400"],"not_rendered":{"defined_names":6},"read":"whole","date_system":"1900"}

{"sheet":"Sheet1","index":0,"n_rows":238,"n_cols":6,"rows_kept":238,"merged":[[0,0,0,5],[1,0,1,5],[3,0,11,0],[12,0,20,0],[21,0,35,0],[36,0,43,0],[44,0,51,0],[52,0,64,0],[65,0,75,0],[76,0,89,0],[90,0,93,0],[94,0,101,0],[103,0,112,0],[113,0,123,0],[124,0,125,0],[126,0,133,0],[134,0,143,0],[144,0,147,0],[149,0,151,0],[152,0,153,0],[155,0,182,0],[183,0,186,0],[187,0,191,0],[192,0,194,0],[195,0,197,0],[198,0,205,0],[206,0,213,0],[214,0,221,0],[224,0,228,0],[229,0,236,0]]}
["2024年福建省五年制高职教育面向泉州招生计划"]
["  志愿填报步骤：泉州市中考中招信息管理系统→志愿填报→中职本科“3+4”贯通培养、五年制高职常规志愿批次→志愿序号→选填高职院校代码及名称，例如：50012黎明职业大学→选填专业代码、名称及联办中职学校，例如：01市政工程技术（惠安开成职业中专学校）→根据需要继续填报其他志愿→保存、提交。\n  说明：1.根据福建省教育厅相关规定，五年制高职录取最低控制线，原则上不低于我市普通高中录取最低控制分数线下60分；五年制高职教育艺术、体育等特殊专业领域（含艺术设计类、表演艺术类、民族文化类、体育类、公共服务类）招生录取最低控制分数线，原则上不得低于我市普通高中录取最低控制分数线的60%。2.表格中民办院校收费标准为相关院校所提供。"]
["学校代码、名称","专业\n代码","专业名称","“三二分段制”\n中职学校名称","招生人数","备注"]
["黎明职业大学\n（公办高职院校）\n学校代码：50012","01","市政工程技术","惠安开成职业中专学校",45]
[null,"02","机械设计与制造","泉州市泉港区职业中专学校",45]
[null,"03","数控技术","南安职业中专学校",25]
[null,"04","数控技术","永春职业中专学校",25]
[null,"05","服装设计与工艺","晋江职业中专学校",45]
[null,"06","食品检验检测技术","晋江市晋兴职业中专学校",25]
[null,"07","食品检验检测技术","福建经贸学校",25]
[null,"08","动漫制作技术","晋江华侨职业中专学校",45]
[null,"09","旅游管理","泉州市工商旅游职业中专学校",45]
["泉州幼儿师范高等专科学校\n（公办高职院校）\n学校代码：50001","01","休闲服务与管理","晋江华侨职业中专学校",50]
[null,"02","休闲服务与管理","石狮鹏山工贸学校",36]
[null,"03","学前教育","泉州华侨职业中专学校",30]
[null,"04","学前教育","晋江华侨职业中专学校",30]
[null,"05","学前教育","石狮鹏山工贸学校",24]
[null,"06","学前教育","泉州市工商旅游职业中专学校",30]
[null,"07","学前教育","南安职业中专学校",25]
[null,"08","舞蹈教育","泉州艺术学校",15,"须面试"]
[null,"09","艺术教育","泉州艺术学校",15,"须面试"]
["泉州经贸职业技术学院\n（公办高职院校）\n学校代码：50013","01","服装设计与工艺","福建经贸学校",50]
[null,"02","服装设计与工艺","惠安职业中专学校",50]
[null,"03","服装设计与工艺","厦门市集美职业技术学校",5]
[null,"04","汽车检测与维修技术","南安市工业学校",50]
[null,"05","会计信息管理","安溪陈利职业中专学校",50]
[null,"06","会计信息管理","石狮鹏山工贸学校",50]
[null,"07","会计信息管理","南安职业中专学校",50]
[null,"08","统计与会计核算","惠安职业中专学校",50]
[null,"09","统计与会计核算","泉州市农业学校",50]
[null,"10","电子商务","泉州市农业学校",50]
[null,"11","电子商务","南安职业中专学校",50]
[null,"12","现代物流管理","福建经贸学校",50]
[null,"13","现代物流管理","晋江职业中专学校",50]
[null,"14","数字媒体艺术设计","永安职业中专学校",2,"艺术设计类"]
[null,"15","数字媒体艺术设计","闽清职业中专学校",10,"艺术设计类"]
["泉州工艺美术职业学院\n（公办高职院校）\n学校代码：50014","01","电子商务","德化职业技术学校",90]
[null,"02","休闲服务与管理","德化职业技术学校",40]
[null,"03","艺术设计","德化职业技术学校",90,"艺术设计类"]
[null,"04","视觉传达设计","福建经贸学校",40,"艺术设计类"]
[null,"05","视觉传达设计","德化职业技术学校",80,"艺术设计类"]
[null,"06","数字媒体艺术设计","福建经贸学校",40,"艺术设计类"]
[null,"07","数字媒体艺术设计","惠安职业中专学校",40,"艺术设计类"]
[null,"08","工艺美术品设计","惠安开成职业中专学校",40,"艺术设计类"]
["泉州纺织服装职业学院\n（民办高职院校）\n学校代码：50015\n收费：所有专业前三年6000元/学年；后两年电子商务、服装设计与工艺、服装与服饰设计、社会体育专业13800元/学年，环境艺术设计、室内艺术设计、人物形象设计专业14800元/学年，护理专业15800元/学年。","01","服装设计与工艺","自办",55]
[null,"02","护理","自办",61]
[null,"03","电子商务","自办",74]
[null,"04","服装与服饰设计","自办",74,"艺术设计类"]
[null,"05","环境艺术设计","自办",71,"艺术设计类"]
[null,"06","室内艺术设计","自办",70,"艺术设计类"]
[null,"07","人物形象设计","自办",70,"艺术设计类"]
[null,"08","社会体育","自办",71,"体育类"]
["泉州华光职业学院\n（民办高职院校）\n学校代码：50016\n收费：自办的专业前三年6500元/学年，其中服装与服饰设计专业后两年12800元/学年，摄影与摄像艺术、休闲体育专业后两年13800元/学年，表演艺术、广告艺术设计、室内艺术设计、学前教育专业后两年14800元/学年；联办的休闲体育专业前三年4600元/学年，后两年13800元/学年；联办的其他专业前三年免学费，电子商务专业后两年12800元/学年，学前教育、建筑室内设计、广告艺术设计专业后两年14800元/学年。","01","建筑室内设计","惠安职业中专学校",50]
[null,"02","电子商务","惠安开成职业中专学校",50]
[null,"03","服装与服饰设计","自办",56,"艺术设计类"]
[null,"04","广告艺术设计","自办",85,"艺术设计类"]
[null,"05","广告艺术设计","安溪华侨职业中专学校",50,"艺术设计类"]
[null,"06","室内艺术设计","自办",87,"艺术设计类"]
[null,"07","摄影与摄像艺术","自办",87,"艺术设计类"]
[null,"08","表演艺术","自办",58,"表演艺术类"]
[null,"09","学前教育","自办",46]
[null,"10","学前教育","南安职业中专学校",50]
[null,"11","学前教育","惠安职业中专学校",50]
[null,"12","休闲体育","自办",58,"体育类"]
[null,"13","休闲体育","泉州海事学校",70,"体育类"]
["泉州海洋职业学院\n（民办高职院校）\n学校代码：50019\n收费：自办的专业前三年6800元/学年，其中航海技术、轮机工程技术、空中乘务专业后两年16900元/学年，艺术设计、表演艺术、社会体育专业后两年14900元/学年；联办的专业前三年免学费，其中高速铁路客运服务、航海技术、轮机工程技术专业后两年16900元/学年，电子商务专业后两年13900元/学年,艺术设计专业后两年14900元/学年。","01","高速铁路客运服务","福建省民政学校",5]
[null,"02","航海技术","自办",40]
[null,"03","航海技术","福建海洋职业技术学校",13]
[null,"04","轮机工程技术","自办",30]
[null,"05","轮机工程技术","福建海洋职业技术学校",11]
[null,"06","空中乘务","自办",30]
[null,"07","电子商务","石狮鹏山工贸学校",50]
[null,"08","艺术设计","自办",90,"艺术设计类"]
[null,"09","艺术设计","泉州市泉港区职业中专学校",50,"艺术设计类"]
[null,"10","表演艺术","自办",80,"表演艺术类"]
[null,"11","社会体育","自办",80,"体育类"]
["泉州轻工职业学院\n（民办高职院校）\n学校代码：50020\n学费：前三年免学费，后两年建筑室内设计、机电一体化技术专业13500元/学年，其他专业12500元/学年。","01","建筑室内设计","晋江市晋兴职业中专学校",50]
[null,"02","建筑工程技术","惠安职业中专学校",45]
[null,"03","机电一体化技术","南安市工业学校",50]
[null,"04","机电一体化技术","晋江职业中专学校",50]
[null,"05","鞋类设计与工艺","晋江华侨职业中专学校",50]
[null,"06","动漫制作技术","泉州市泉中职业中专学校",50]
[null,"07","动漫制作技术","南安职业中专学校",50]
[null,"08","婴幼儿托育服务与管理","晋江华侨职业中专学校",50]
[null,"09","大数据与财务管理","晋江华侨职业中专学校",50]
[null,"10","西式烹饪工艺","福鼎职业中专学校",10]
[null,"11","服装与服饰设计","永春职业中专学校",45,"艺术设计类"]
[null,"12","服装与服饰设计","泉州市泉中职业中专学校",40,"艺术设计类"]
[null,"13","广告艺术设计","南安职业中专学校",50,"艺术设计类"]
[null,"14","广告艺术设计","晋江职业中专学校",50,"艺术设计类"]
["福建船政交通职业学院\n（公办高职院校）\n学校代码：50026","01","建设工程管理","福建建筑学校",2]
[null,"02","汽车检测与维修技术","福建工业学校",1]
[null,"03","电子商务","福建省邮电学校",1]
[null,"04","电子商务","福州经济技术开发区职业中专学校",2]
["福建信息职业技术学院\n\n（公办高职院校）\n学校代码：50035","01","建筑装饰工程技术","厦门市翔安职业技术学校",2]
[null,"02","建筑装饰工程技术","福建建筑学校",2]
[null,"03","工业机器人技术","福建工业学校",1]
[null,"04","电子信息工程技术","福建经济学校",2]
[null,"05","物联网应用技术","福建经济学校",2]
[null,"06","信息安全技术应用","永安职业中专学校",2]
[null,"07","现代通信技术","福建省邮电学校",1]
[null,"08","大数据与会计","三明工贸学校",2]
["福建幼儿师范高等专科学校\n（公办高职院校）\n学校代码：50040","01","首饰设计与工艺","福建商贸学校",1]
["福建林业职业技术学院\n（公办高职院校）\n学校代码：50034","01","林业技术","福建三明林业学校",1]
[null,"02","园林技术","福建三明林业学校",1]
[null,"03","园林工程技术","福建生态工程职业技术学校",2]
[null,"04","风景园林设计","永安职业中专学校",2]
[null,"05","建筑智能化工程技术","惠安开成职业中专学校",40]
[null,"06","市政工程技术","福建三明林业学校",1]
[null,"07","道路与桥梁工程技术","惠安开成职业中专学校",40]
[null,"08","计算机应用技术","福建三明林业学校",1]
[null,"09","旅游管理","永安职业中专学校",2]
[null,"10","广告艺术设计","福建三明林业学校",1,"艺术设计类"]
["福建水利电力职业技术学院\n（公办高职院校）\n学校代码：50036","01","供用电技术","三明工贸学校",2]
[null,"02","供用电技术","福建铁路机电学校",3]
[null,"03","供用电技术","福建工业学校",1]
[null,"04","水利水电工程智能管理","永安职业中专学校",2]
[null,"05","电气自动化技术","南安职业中专学校",26]
[null,"06","新能源汽车技术","厦门工商旅游学校",1]
[null,"07","道路与桥梁工程技术","福建三明林业学校",1]
[null,"08","计算机应用技术","福建省邮电学校",1]
[null,"09","电子商务","福建经济学校",1]
[null,"10","电子商务","福建经贸学校",40]
[null,"11","环境艺术设计","惠安开成职业中专学校",40,"艺术设计类"]
["厦门海洋职业技术学院\n（公办高职院校）\n学校代码：50037","01","数控技术","厦门市翔安职业技术学校",2]
[null,"02","数字媒体技术","厦门工商旅游学校",2]
["福建农业职业技术学院\n（公办高职院校）\n学校代码：50038","01","园林技术","福建经济学校",1]
[null,"02","园林技术","龙岩市农业学校",2]
[null,"03","园林技术","泉州市农业学校",40]
[null,"04","畜牧兽医","龙岩市农业学校",1]
[null,"05","宠物养护与驯导","将乐职业中专学校",1]
[null,"06","金融服务与管理","福建经济学校",1]
[null,"07","金融服务与管理","福建商贸学校",1]
[null,"08","金融服务与管理","福建省邮电学校",1]
["福建生物工程职业技术学院\n（公办高职院校）\n学校代码：50042","01","食品检验检测技术","福建工贸学校",4]
[null,"02","药品生产技术","福建工贸学校",4]
[null,"03","生物制药技术","福建工贸学校",4]
[null,"04","生物制药技术","永春职业中专学校",40]
[null,"05","药品经营与管理","福建建筑学校",2]
[null,"06","药品经营与管理","福建商贸学校",1]
[null,"07","药品经营与管理","福建工业学校",2]
[null,"08","药学","福建工贸学校",4]
[null,"09","药学","安溪华侨职业中专学校",50]
[null,"10","药学","永春职业中专学校",40]
["福建艺术职业学院\n（公办高职院校）\n学校代码：50043","01","服装与服饰设计","福建工贸学校",4,"艺术设计类"]
[null,"02","音乐表演","自办",2,"表演艺术类，\n须面试"]
[null,"03","舞蹈表演（中国舞方向）","自办",5,"表演艺术类，\n须面试"]
[null,"04","戏曲表演","泉州艺术学校",18,"表演艺术类，\n须面试"]
["福建体育职业技术学院\n（公办高职院校）\n学校代码：50080","01","运动训练","自办",35,"体育类，\n须面试"]
["闽江师范高等专科学校\n（公办高职院校）\n学校代码：50039","01","物联网应用技术","福建经济学校",1]
[null,"02","表演艺术","福建经济学校",1,"表演艺术类，\n须面试"]
[null,"03","学前教育","福州经济技术开发区职业中专学校",1]
["闽北职业技术学院\n（公办高职院校）\n学校代码：50051","01","数控技术","福建经贸学校",45]
[null,"02","食品检验检测技术","福建经贸学校",30]
["湄洲湾职业技术学院\n（公办高职院校）\n学校代码：50078","01","工业机器人技术","南安职业中专学校",40]
["三明医学科技职业学院\n（公办高职院校）\n学校代码：50068","01","建设工程管理","福州建筑工程职业中专学校",5]
[null,"02","数控技术","南安职业中专学校",55]
[null,"03","数控技术","三明市农业学校",2]
[null,"04","数控技术","永安职业中专学校",1]
[null,"05","机械制造及自动化","三明工贸学校",2]
[null,"06","机电一体化技术","厦门市集美职业技术学校",4]
[null,"07","机电一体化技术","永安职业中专学校",2]
[null,"08","智能控制技术","安溪华侨职业中专学校",50]
[null,"09","智能控制技术","福建三明林业学校",1]
[null,"10","汽车制造与试验技术","安溪华侨职业中专学校",40]
[null,"11","汽车制造与试验技术","三明工贸学校",3]
[null,"12","汽车制造与试验技术","福建三明林业学校",1]
[null,"13","汽车制造与试验技术","厦门市集美职业技术学校",3]
[null,"14","护理","自办",5]
[null,"15","康复治疗技术","自办",3]
[null,"16","会计信息管理","南安职业中专学校",40]
[null,"17","会计信息管理","福建三明林业学校",1]
[null,"18","会计信息管理","厦门工商旅游学校",2]
[null,"19","会计信息管理","永安职业中专学校",2]
[null,"20","电子商务","福建三明林业学校",1]
[null,"21","旅游管理","三明市金湖旅游职业中专学校",2]
[null,"22","旅游管理","厦门工商旅游学校",1]
[null,"23","酒店管理与数字化运营","永安职业中专学校",2]
[null,"24","数字媒体艺术设计","安溪华侨职业中专学校",40,"艺术设计类"]
[null,"25","数字媒体艺术设计","三明市金湖旅游职业中专学校",2,"艺术设计类"]
[null,"26","服装与服饰设计","安溪华侨职业中专学校",50,"艺术设计类"]
[null,"27","早期教育","南安职业中专学校",42]
[null,"28","学前教育","厦门工商旅游学校",2]
["福建华南女子职业学院\n（民办高职院校）\n学校代码：50065\n收费：前三年免学费，后两年空中乘务专业11800元/学年，其他专业10800元/学年。","01","空中乘务","福建省民政学校",3]
[null,"02","空中乘务","福建商贸学校",1]
[null,"03","现代家政服务与管理","南安市工业学校",50,"公共服务类"]
[null,"04","智慧健康养老服务与管理","福建省民政学校",3,"公共服务类"]
["福州英华职业学院\n（民办高职院校）\n学校代码：50073\n收费：建设工程管理、金融服务与管理专业前三年免学费，后两年12800元/学年；其他专业前三年免学费，后两年13800元/学年。","01","建筑室内设计","福建工贸学校",5]
[null,"02","建设工程管理","福建海洋职业技术学校",2]
[null,"03","金融服务与管理","福建工贸学校",2]
[null,"04","电子商务","福建工贸学校",4]
[null,"05","电子商务","永安职业中专学校",2]
["厦门演艺职业学院\n（民办高职院校）\n\n学校代码：50074\n收费：音乐表演专业前三年9000元/学年，后两年16000元/学年；舞蹈表演、国际标准舞专业前三年9500元/学年，后两年18000元/学年。","01","音乐表演","自办",8,"表演艺术类"]
[null,"02","舞蹈表演","自办",14,"表演艺术类"]
[null,"03","国际标准舞","自办",13,"表演艺术类"]
["厦门华天涉外职业技术学院\n（民办高职院校）\n学校代码：50053\n学费：前三年9400元/学年，后两年视觉传达设计专业11900元/学年，其他专业12800元/学年。","01","动漫制作技术","自办",13]
[null,"02","视觉传达设计","自办",13,"艺术设计类"]
[null,"03","室内艺术设计","自办",14,"艺术设计类"]
["福州软件职业技术学院\n（民办高职院校）\n学校代码：50075\n收费：大数据与会计、现代物流管理前三年免学费，后两年9500元/学年；其他专业前三年免学费，后两年10500元/学年。","01","软件技术","福建省邮电学校",4]
[null,"02","数字媒体技术","福建海洋职业技术学校",2]
[null,"03","动漫制作技术","福建海洋职业技术学校",2]
[null,"04","大数据与会计","福建经济学校",2]
[null,"05","大数据与会计","福建商贸学校",1]
[null,"06","现代物流管理","福建经济学校",2]
[null,"07","动漫设计","福建经济学校",2,"艺术设计类"]
[null,"08","动漫设计","福建商贸学校",1,"艺术设计类"]
["厦门软件职业技术学院\n（民办高职院校）\n学校代码：50057\n收费：自办的专业前三年9800元/学年，数字媒体技术、电子商务、建筑室内设计、大数据与会计专业后两年12800元/学年，计算机网络技术专业后两年14800元/学年；联办的专业前三年免学费，动漫制作技术、电子商务专业后两年12800元/学年，计算机网络技术后两年14800元/学年。","01","建筑室内设计","自办",17]
[null,"02","计算机网络技术","厦门市集美职业技术学校",10]
[null,"03","计算机网络技术","自办",25]
[null,"04","数字媒体技术","自办",18]
[null,"05","动漫制作技术","厦门市集美职业技术学校",10]
[null,"06","大数据与会计","自办",12]
[null,"07","电子商务","厦门市集美职业技术学校",10]
[null,"08","电子商务","自办",12]
["厦门南洋职业学院\n（民办高职院校）\n学校代码：50069\n学费：无人机应用技术专业前三年免学费，后两年18800元/学年；电子商务专业前三年免学费，后两年13800元/学年；数字媒体艺术设计、动漫设计专业前三年8900元/学年，后两年18800元/学年；广告艺术设计专业前三年8900元/学年，后两年15800元/学年；学前教育、护理专业前三年12800元/学年，后两年15800元/学年。","01","无人机应用技术","龙岩市农业学校",3]
[null,"02","无人机应用技术","上杭职业中专学校",2]
[null,"03","护理","自办",24]
[null,"04","电子商务","永春职业中专学校",40]
[null,"05","数字媒体艺术设计","自办",20,"艺术设计类"]
[null,"06","广告艺术设计","自办",16,"艺术设计类"]
[null,"07","动漫设计","自办",17,"艺术设计类"]
[null,"08","学前教育","自办",16]
["厦门东海职业技术学院\n（民办高职院校）\n学校代码：50072\n学费：前三年6800元/学年，后两年8900元/学年。","01","智慧健康养老服务与管理","自办",8,"公共服务类"]
["漳州科技职业学院\n（民办高职院校）\n学校代码：50070\n收费：前三年7000元/学年，后两年12600元/学年。","01","茶艺与茶文化","自办",2]
["武夷山职业学院\n（民办高职院校）\n学校代码：50076\n\n收费：前三年5900元/学年,计算机应用技术专业后两年13800元/学年,其他专业后两年12800元/学年。","01","高速铁路客运服务","自办",5]
[null,"02","计算机应用技术","自办",5]
[null,"03","大数据与财务管理","自办",5]
[null,"04","茶艺与茶文化","自办",5]
[null,"05","表演艺术","自办",5,"表演艺术类"]
["厦门安防科技职业学院\n（民办高职院校）\n学校代码：50063\n收费：自办的专业前三年8300元/学年，软件技术专业前三年4400元/学年，建筑消防技术、健康管理、婴幼儿托育服务与管理专业后两年10800元/学年，软件技术、数字媒体技术、动漫制作技术、室内艺术设计、社会体育专业后两年11800元/学年。","01","建筑消防技术","自办",20]
[null,"02","软件技术","泉州理工学校",80]
[null,"03","数字媒体技术","自办",10]
[null,"04","动漫制作技术","自办",10]
[null,"05","健康管理","自办",3]
[null,"06","婴幼儿托育服务与管理","自办",3]
[null,"07","室内艺术设计","自办",17,"艺术设计类"]
[null,"08","社会体育","自办",17,"体育类"]
[{"$nulls":3},"总计",5708]

{"sheet":"分校计划安排表","index":1,"n_rows":48,"n_cols":6,"rows_kept":48,"hidden":true,"merged":[[1,0,1,5],[3,0,3,1]]}
["附件1"]
["2023年福建省五年制高等职业教育招生分校计划安排表"]
["序号","学校名称","申报计划数","拟下达计划数","比申报数减少数","备注"]
["合计",null,{"$f":"SUM(C5:C48)","v":43901},{"$f":"SUM(D5:D48)","v":35121},{"$f":"SUM(E5:E48)","v":8780}]
[1,"福建船政交通职业学院",670,670,{"$f":"C5-D5","v":0}]
[2,"福建信息职业技术学院",900,900,0]
[3,"福建幼儿师范高等专科学校",160,160,0]
[4,"福建林业职业技术学院",1445,1445,0]
[5,"福建水利电力职业技术学院",1240,1240,0]
[6,"福建农业职业技术学院",720,720,0]
[7,"福建卫生职业技术学院",440,440,0]
[8,"福建生物工程职业技术学院",570,570,0]
[9,"福建艺术职业学院",255,255,0]
[10,"福建体育职业技术学院",400,400,0]
[11,"泉州幼儿师范高等专科学校",620,590,30]
[12,"闽江师范高等专科学校",775,775,0]
[13,"漳州职业技术学院",690,690,0]
[14,"闽西职业技术学院",1085,1085,0]
[15,"黎明职业大学",530,530,0]
[16,"福州职业技术学院",375,375,0]
[17,"闽北职业技术学院",1010,1010,0]
[18,"泉州经贸职业技术学院",845,845,0]
[19,"湄洲湾职业技术学院",840,840,0]
[20,"厦门城市职业学院",150,150,0]
[21,"泉州工艺美术职业学院",505,505,0]
[22,"三明医学科技职业学院",2195,2195,0]
[23,"宁德职业技术学院",876,876,0]
[24,"漳州城市职业学院",330,330,0]
[25,"漳州卫生职业学院",200,200,0]
[26,"福建华南女子职业学院",870,870,0]
[27,"福州英华职业学院",1075,1075,0]
[28,"泉州纺织服装职业学院",2000,1310,690]
[29,"泉州华光职业学院",2025,1265,760]
[30,"福州黎明职业技术学院",435,435,0]
[31,"厦门演艺职业学院",1500,750,750]
[32,"厦门华天涉外职业技术学院",1000,460,540]
[33,"福州软件职业技术学院",745,745,0]
[34,"厦门兴才职业技术学院",325,325,0]
[35,"厦门软件职业技术学院",1180,660,520]
[36,"厦门南洋职业学院",4690,1611,3079]
[37,"厦门东海职业技术学院",730,630,100]
[38,"漳州科技职业学院",1330,1320,10]
[39,"漳州理工职业学院",2065,1664,401]
[40,"武夷山职业学院",1800,940,860]
[41,"泉州海洋职业学院",1430,950,480]
[42,"泉州轻工职业学院",925,925,0]
[43,"厦门安防科技职业学院",1800,1240,560]
[44,"泉州工程职业技术学院",150,150,0]

{"sheet":"倾斜专业","index":2,"n_rows":11,"n_cols":9,"rows_kept":11,"hidden":true}
["学校名称","专业代码","专业名称","“三二分段制”中职学校名称","2022年是否倾斜专业","年度","申报数","关联项","2023是否倾斜"]
["福建体育职业技术学院","570303","运动训练","自办","否",2022,400,{"$f":"A2&C2&D2","v":"福建体育职业技术学院运动训练自办"},"是"]
["三明医学科技职业学院","520201","护理","自办","否",2022,160,{"$f":"A3&C3&D3","v":"三明医学科技职业学院护理自办"},"是"]
["泉州纺织服装职业学院","520802","婴幼儿托育服务与管理","漳州市交通职业技术学校","否",2022,200,"泉州纺织服装职业学院婴幼儿托育服务与管理漳州市交通职业技术学校","是"]
["泉州纺织服装职业学院","520802","婴幼儿托育服务与管理","自办","否",2022,200,"泉州纺织服装职业学院婴幼儿托育服务与管理自办","是"]
["厦门南洋职业学院","520802","婴幼儿托育服务与管理","自办","否",2022,400,"厦门南洋职业学院婴幼儿托育服务与管理自办","是"]
["厦门南洋职业学院","590301","现代家政服务与管理","自办","否",2022,400,"厦门南洋职业学院现代家政服务与管理自办","是"]
["泉州海洋职业学院","500301","航海技术","自办","否",2022,200,"泉州海洋职业学院航海技术自办","是"]
["泉州海洋职业学院","500303","轮机工程技术","自办","否",2022,200,"泉州海洋职业学院轮机工程技术自办","是"]
["厦门安防科技职业学院","440406","建筑消防技术","自办","否",2022,200,"厦门安防科技职业学院建筑消防技术自办","是"]
["厦门安防科技职业学院","520802","婴幼儿托育服务与管理","自办","否",2022,200,"厦门安防科技职业学院婴幼儿托育服务与管理自办","是"]

{"sheet":"职成处公布专业名单","index":3,"n_rows":605,"n_cols":12,"rows_kept":605,"hidden":true}
["序号","高职院校名称","高职专业代码","高职专业名称","办学形式","联办中职学校名称","联办/衔接中职专业名称","中职专业代码","连接项",null,"反向查询"]
[1,"福建船政交通职业学院",440502,"建设工程管理","联办","福建建筑学校","建筑工程施工",640301,{"$f":"CONCATENATE(B2,C2,F2)","v":"福建船政交通职业学院440502福建建筑学校"},"是",{"$f":"VLOOKUP(I2,#REF!,2,0)","v":{"$error":"#REF!"}}]
[2,"福建船政交通职业学院",440502,"建设工程管理","联办","闽清职业中专学校","建筑工程施工",640301,{"$f":"CONCATENATE(B3,C3,F3)","v":"福建船政交通职业学院440502闽清职业中专学校"},"是",{"$f":"VLOOKUP(I3,#REF!,2,0)","v":{"$error":"#REF!"}}]
[3,"福建船政交通职业学院",460104,"机械制造及自动化","联办","厦门市海沧区职业中专学校","机械加工技术",660102,"福建船政交通职业学院460104厦门市海沧区职业中专学校","是",{"$f":"VLOOKUP(I4,#REF!,2,0)","v":{"$error":"#REF!"}}]
[4,"福建船政交通职业学院",460701,"汽车制造与试验技术","联办","闽清职业中专学校","汽车运用与维修",700206,"福建船政交通职业学院460701闽清职业中专学校","是",{"$f":"VLOOKUP(I5,#REF!,2,0)","v":{"$error":"#REF!"}}]
[5,"福建船政交通职业学院",460701,"汽车制造与试验技术","联办","顺昌中等职业学校","汽车运用与维修",700206,"福建船政交通职业学院460701顺昌中等职业学校","是",{"$f":"VLOOKUP(I6,#REF!,2,0)","v":{"$error":"#REF!"}}]
[6,"福建船政交通职业学院",460701,"汽车制造与试验技术","联办","古田职业中专学校","汽车运用与维修",700206,"福建船政交通职业学院460701古田职业中专学校","是",{"$f":"VLOOKUP(I7,#REF!,2,0)","v":{"$error":"#REF!"}}]
[7,"福建船政交通职业学院",500211,"汽车检测与维修技术","联办","福建理工学校","汽车运用与维修",700206,"福建船政交通职业学院500211福建理工学校","是",{"$f":"VLOOKUP(I8,#REF!,2,0)","v":{"$error":"#REF!"}}]
[8,"福建船政交通职业学院",500211,"汽车检测与维修技术","联办","福建工业学校","汽车运用与维修",700206,"福建船政交通职业学院500211福建工业学校","是",{"$f":"VLOOKUP(I9,#REF!,2,0)","v":{"$error":"#REF!"}}]
[9,"福建船政交通职业学院",500303,"轮机工程技术","联办","福建航运学校","轮机维护与管理",700303,"福建船政交通职业学院500303福建航运学校","是",{"$f":"VLOOKUP(I10,#REF!,2,0)","v":{"$error":"#REF!"}}]
[10,"福建船政交通职业学院",500303,"轮机工程技术","联办","武平职业中专学校","制冷和空调设备运行与维护",660205,"福建船政交通职业学院500303武平职业中专学校","是",{"$f":"VLOOKUP(I11,#REF!,2,0)","v":{"$error":"#REF!"}}]
[11,"福建船政交通职业学院",530701,"电子商务","联办","福建省邮电学校","电子商务",730701,"福建船政交通职业学院530701福建省邮电学校","是",{"$f":"VLOOKUP(I12,#REF!,2,0)","v":{"$error":"#REF!"}}]
[12,"福建船政交通职业学院",530701,"电子商务","联办","厦门市海沧区职业中专学校","电子商务",730701,"福建船政交通职业学院530701厦门市海沧区职业中专学校","是",{"$f":"VLOOKUP(I13,#REF!,2,0)","v":{"$error":"#REF!"}}]
[13,"福建信息职业技术学院",420304,"摄影测量与遥感技术","联办","福州建筑工程职业中专学校","工程测量技术",620301,"福建信息职业技术学院420304福州建筑工程职业中专学校","是",{"$f":"VLOOKUP(I14,#REF!,2,0)","v":{"$error":"#REF!"}}]
[14,"福建信息职业技术学院",440102,"建筑装饰工程技术","联办","福建建筑学校","建筑装饰技术",640102,"福建信息职业技术学院440102福建建筑学校","是",{"$f":"VLOOKUP(I15,#REF!,2,0)","v":{"$error":"#REF!"}}]
[15,"福建信息职业技术学院",460104,"机械制造及自动化","联办","建瓯职业中专学校","数控技术应用",660103,"福建信息职业技术学院460104建瓯职业中专学校","是",{"$f":"VLOOKUP(I16,#REF!,2,0)","v":{"$error":"#REF!"}}]
[16,"福建信息职业技术学院",460305,"工业机器人技术","联办","福建工业学校","工业机器人技术应用",660303,"福建信息职业技术学院460305福建工业学校","是",{"$f":"VLOOKUP(I17,#REF!,2,0)","v":{"$error":"#REF!"}}]
[17,"福建信息职业技术学院",500211,"汽车检测与维修技术","联办","厦门市集美职业技术学校","汽车制造与检测",660701,"福建信息职业技术学院500211厦门市集美职业技术学校","是",{"$f":"VLOOKUP(I18,#REF!,2,0)","v":{"$error":"#REF!"}}]
[18,"福建信息职业技术学院",500304,"国际邮轮乘务管理","联办","福州旅游职业中专学校","邮轮乘务",700304,"福建信息职业技术学院500304福州旅游职业中专学校","是",{"$f":"VLOOKUP(I19,#REF!,2,0)","v":{"$error":"#REF!"}}]
[19,"福建信息职业技术学院",510101,"电子信息工程技术","联办","福建技术师范学院附属龙华职业技术学校","电子技术应用",710103,"福建信息职业技术学院510101福建技术师范学院附属龙华职业技术学校","是",{"$f":"VLOOKUP(I20,#REF!,2,0)","v":{"$error":"#REF!"}}]
[20,"福建信息职业技术学院",510101,"电子信息工程技术","联办","平潭职业中专学校","电子信息技术",710101,"福建信息职业技术学院510101平潭职业中专学校","是",{"$f":"VLOOKUP(I21,#REF!,2,0)","v":{"$error":"#REF!"}}]
[21,"福建信息职业技术学院",510101,"电子信息工程技术","联办","福建经济学校","计算机与数码设备维修",710211,"福建信息职业技术学院510101福建经济学校","是",{"$f":"VLOOKUP(I22,#REF!,2,0)","v":{"$error":"#REF!"}}]
[22,"福建信息职业技术学院",510102,"物联网应用技术","联办","福州机电工程职业技术学校","物联网技术应用",710102,"福建信息职业技术学院510102福州机电工程职业技术学校","是",{"$f":"VLOOKUP(I23,#REF!,2,0)","v":{"$error":"#REF!"}}]
[23,"福建信息职业技术学院",510102,"物联网应用技术","联办","福建经济学校","物联网技术应用",710102,"福建信息职业技术学院510102福建经济学校","是",{"$f":"VLOOKUP(I24,#REF!,2,0)","v":{"$error":"#REF!"}}]
[24,"福建信息职业技术学院",510207,"信息安全技术应用","联办","永安职业中专学校","计算机应用",710201,"福建信息职业技术学院510207永安职业中专学校","是",{"$f":"VLOOKUP(I25,#REF!,2,0)","v":{"$error":"#REF!"}}]
[25,"福建信息职业技术学院",510301,"现代通信技术","联办","福建省邮电学校","现代通信技术应用",710301,"福建信息职业技术学院510301福建省邮电学校","是",{"$f":"VLOOKUP(I26,#REF!,2,0)","v":{"$error":"#REF!"}}]
[26,"福建信息职业技术学院",530302,"大数据与会计","联办","三明工贸学校","会计事务",730301,"福建信息职业技术学院530302三明工贸学校","是",{"$f":"VLOOKUP(I27,#REF!,2,0)","v":{"$error":"#REF!"}}]
[27,"福建信息职业技术学院",530701,"电子商务","联办","福州商贸职业中专学校","电子商务",730701,"福建信息职业技术学院530701福州商贸职业中专学校","是",{"$f":"VLOOKUP(I28,#REF!,2,0)","v":{"$error":"#REF!"}}]
[28,"福建信息职业技术学院",540101,"旅游管理","联办","平潭职业中专学校","旅游服务与管理",740101,"福建信息职业技术学院540101平潭职业中专学校","是",{"$f":"VLOOKUP(I29,#REF!,2,0)","v":{"$error":"#REF!"}}]
[29,"福建信息职业技术学院",540113,"休闲服务与管理","联办","龙岩华侨职业中专学校","旅游服务与管理",740101,"福建信息职业技术学院540113龙岩华侨职业中专学校","是",{"$f":"VLOOKUP(I30,#REF!,2,0)","v":{"$error":"#REF!"}}]
[30,"福建水利电力职业技术学院",430108,"供用电技术","联办","三明工贸学校","电子电器应用与维修",710105,"福建水利电力职业技术学院430108三明工贸学校","是",{"$f":"VLOOKUP(I31,#REF!,2,0)","v":{"$error":"#REF!"}}]
[31,"福建水利电力职业技术学院",430108,"供用电技术","联办","福建铁路机电学校","电气化铁道供电",700105,"福建水利电力职业技术学院430108福建铁路机电学校","是",{"$f":"VLOOKUP(I32,#REF!,2,0)","v":{"$error":"#REF!"}}]
[32,"福建水利电力职业技术学院",430108,"供用电技术","联办","福建工业学校","电气设备运行与控制",660302,"福建水利电力职业技术学院430108福建工业学校","是",{"$f":"VLOOKUP(I33,#REF!,2,0)","v":{"$error":"#REF!"}}]
[33,"福建水利电力职业技术学院",440601,"市政工程技术","联办","永安职业中专学校","建筑工程施工",640301,"福建水利电力职业技术学院440601永安职业中专学校","是",{"$f":"VLOOKUP(I34,#REF!,2,0)","v":{"$error":"#REF!"}}]
[34,"福建水利电力职业技术学院",440601,"市政工程技术","联办","南靖第一职业技术学校","建筑工程施工",640301,"福建水利电力职业技术学院440601南靖第一职业技术学校","是",{"$f":"VLOOKUP(I35,#REF!,2,0)","v":{"$error":"#REF!"}}]
[35,"福建水利电力职业技术学院",440601,"市政工程技术","联办","厦门市翔安职业技术学校","建筑工程施工",640301,"福建水利电力职业技术学院440601厦门市翔安职业技术学校","是",{"$f":"VLOOKUP(I36,#REF!,2,0)","v":{"$error":"#REF!"}}]
[36,"福建水利电力职业技术学院",450204,"水利水电工程智能管理","联办","永安职业中专学校","建筑工程施工",640301,"福建水利电力职业技术学院450204永安职业中专学校","是",{"$f":"VLOOKUP(I37,#REF!,2,0)","v":{"$error":"#REF!"}}]
[37,"福建水利电力职业技术学院",450301,"水电站设备安装与管理","联办","建瓯职业中专学校","电子技术应用",710103,"福建水利电力职业技术学院450301建瓯职业中专学校","是",{"$f":"VLOOKUP(I38,#REF!,2,0)","v":{"$error":"#REF!"}}]
[38,"福建水利电力职业技术学院",460301,"机电一体化技术","联办","福建理工学校","机电技术应用",660301,"福建水利电力职业技术学院460301福建理工学校","是",{"$f":"VLOOKUP(I39,#REF!,2,0)","v":{"$error":"#REF!"}}]
[39,"福建水利电力职业技术学院",460301,"机电一体化技术","联办","厦门信息学校","机电技术应用",660301,"福建水利电力职业技术学院460301厦门信息学校","是",{"$f":"VLOOKUP(I40,#REF!,2,0)","v":{"$error":"#REF!"}}]
[40,"福建水利电力职业技术学院",460303,"智能控制技术","联办","闽清职业中专学校","电子技术应用",710103,"福建水利电力职业技术学院460303闽清职业中专学校","是",{"$f":"VLOOKUP(I41,#REF!,2,0)","v":{"$error":"#REF!"}}]
[41,"福建水利电力职业技术学院",460306,"电气自动化技术","联办","三明市农业学校","电气设备运行与控制",660302,"福建水利电力职业技术学院460306三明市农业学校","是",{"$f":"VLOOKUP(I42,#REF!,2,0)","v":{"$error":"#REF!"}}]
[42,"福建水利电力职业技术学院",460306,"电气自动化技术","联办","福建理工学校","机电技术应用",660301,"福建水利电力职业技术学院460306福建理工学校","是",{"$f":"VLOOKUP(I43,#REF!,2,0)","v":{"$error":"#REF!"}}]
[43,"福建水利电力职业技术学院",460306,"电气自动化技术","联办","南安职业中专学校","电子技术应用",710103,"福建水利电力职业技术学院460306南安职业中专学校","是",{"$f":"VLOOKUP(I44,#REF!,2,0)","v":{"$error":"#REF!"}}]
[44,"福建水利电力职业技术学院",460701,"汽车制造与试验技术","联办","大田职业中专学校","汽车运用与维修",700206,"福建水利电力职业技术学院460701大田职业中专学校","是",{"$f":"VLOOKUP(I45,#REF!,2,0)","v":{"$error":"#REF!"}}]
[45,"福建水利电力职业技术学院",460702,"新能源汽车技术","联办","集美工业学校","汽车运用与维修",700206,"福建水利电力职业技术学院460702集美工业学校","是",{"$f":"VLOOKUP(I46,#REF!,2,0)","v":{"$error":"#REF!"}}]
[46,"福建水利电力职业技术学院",460702,"新能源汽车技术","联办","厦门工商旅游学校","新能源汽车运用与维修",700209,"福建水利电力职业技术学院460702厦门工商旅游学校","是",{"$f":"VLOOKUP(I47,#REF!,2,0)","v":{"$error":"#REF!"}}]
[47,"福建水利电力职业技术学院",460702,"新能源汽车技术","联办","龙岩华侨职业中专学校","汽车运用与维修",700206,"福建水利电力职业技术学院460702龙岩华侨职业中专学校","是",{"$f":"VLOOKUP(I48,#REF!,2,0)","v":{"$error":"#REF!"}}]
[48,"福建水利电力职业技术学院",500201,"道路与桥梁工程技术","联办","福建三明林业学校","建筑工程施工",640301,"福建水利电力职业技术学院500201福建三明林业学校","是",{"$f":"VLOOKUP(I49,#REF!,2,0)","v":{"$error":"#REF!"}}]
[49,"福建水利电力职业技术学院",510101,"电子信息工程技术","联办","厦门市海沧区职业中专学校","电子技术应用",710103,"福建水利电力职业技术学院510101厦门市海沧区职业中专学校","是",{"$f":"VLOOKUP(I50,#REF!,2,0)","v":{"$error":"#REF!"}}]
[50,"福建水利电力职业技术学院",510101,"电子信息工程技术","联办","福建铁路机电学校","现代通信技术应用",710301,"福建水利电力职业技术学院510101福建铁路机电学校","是",{"$f":"VLOOKUP(I51,#REF!,2,0)","v":{"$error":"#REF!"}}]
[51,"福建水利电力职业技术学院",510201,"计算机应用技术","联办","平潭职业中专学校","计算机应用",710201,"福建水利电力职业技术学院510201平潭职业中专学校","是",{"$f":"VLOOKUP(I52,#REF!,2,0)","v":{"$error":"#REF!"}}]
[52,"福建水利电力职业技术学院",510204,"数字媒体技术","联办","三明工贸学校","计算机应用",710201,"福建水利电力职业技术学院510204三明工贸学校","是",{"$f":"VLOOKUP(I53,#REF!,2,0)","v":{"$error":"#REF!"}}]
[53,"福建水利电力职业技术学院",530701,"电子商务","联办","福建经济学校","电子商务",730701,"福建水利电力职业技术学院530701福建经济学校","是",{"$f":"VLOOKUP(I54,#REF!,2,0)","v":{"$error":"#REF!"}}]
[54,"福建水利电力职业技术学院",530701,"电子商务","联办","福建经贸学校","电子商务",730701,"福建水利电力职业技术学院530701福建经贸学校","是",{"$f":"VLOOKUP(I55,#REF!,2,0)","v":{"$error":"#REF!"}}]
[55,"福建水利电力职业技术学院",550106,"环境艺术设计","联办","厦门信息学校","建筑装饰技术",640102,"福建水利电力职业技术学院550106厦门信息学校","是",{"$f":"VLOOKUP(I56,#REF!,2,0)","v":{"$error":"#REF!"}}]
[56,"福建水利电力职业技术学院",550106,"环境艺术设计","联办","福建第二轻工业学校","工艺美术",750106,"福建水利电力职业技术学院550106福建第二轻工业学校","是",{"$f":"VLOOKUP(I57,#REF!,2,0)","v":{"$error":"#REF!"}}]
[57,"福建水利电力职业技术学院",550106,"环境艺术设计","联办","惠安开成职业中专学校","建筑装饰技术",640102,"福建水利电力职业技术学院550106惠安开成职业中专学校","是",{"$f":"VLOOKUP(I58,#REF!,2,0)","v":{"$error":"#REF!"}}]
[58,"福建林业职业技术学院",410201,"林业技术","联办","福建三明林业学校","林业生产技术",610201,"福建林业职业技术学院410201福建三明林业学校","是",{"$f":"VLOOKUP(I59,#REF!,2,0)","v":{"$error":"#REF!"}}]
[59,"福建林业职业技术学院",410202,"园林技术","联办","南平市农业学校","园林技术",610202,"福建林业职业技术学院410202南平市农业学校","是",{"$f":"VLOOKUP(I60,#REF!,2,0)","v":{"$error":"#REF!"}}]
[60,"福建林业职业技术学院",410202,"园林技术","联办","福建三明林业学校","园林技术",610202,"福建林业职业技术学院410202福建三明林业学校","是",{"$f":"VLOOKUP(I61,#REF!,2,0)","v":{"$error":"#REF!"}}]
[61,"福建林业职业技术学院",410202,"园林技术","联办","福建生态工程职业技术学校","园林技术",610202,"福建林业职业技术学院410202福建生态工程职业技术学校","是",{"$f":"VLOOKUP(I62,#REF!,2,0)","v":{"$error":"#REF!"}}]
[62,"福建林业职业技术学院",440104,"园林工程技术","联办","福建生态工程职业技术学校","园林技术",610202,"福建林业职业技术学院440104福建生态工程职业技术学校","是",{"$f":"VLOOKUP(I63,#REF!,2,0)","v":{"$error":"#REF!"}}]
[63,"福建林业职业技术学院",440105,"风景园林设计","联办","福州环保职业中专学校","园林技术",610202,"福建林业职业技术学院440105福州环保职业中专学校","是",{"$f":"VLOOKUP(I64,#REF!,2,0)","v":{"$error":"#REF!"}}]
[64,"福建林业职业技术学院",440105,"风景园林设计","联办","三明市农业学校","园林绿化",610203,"福建林业职业技术学院440105三明市农业学校","是",{"$f":"VLOOKUP(I65,#REF!,2,0)","v":{"$error":"#REF!"}}]
[65,"福建林业职业技术学院",440105,"风景园林设计","联办","永安职业中专学校","建筑工程施工",640301,"福建林业职业技术学院440105永安职业中专学校","是",{"$f":"VLOOKUP(I66,#REF!,2,0)","v":{"$error":"#REF!"}}]
[66,"福建林业职业技术学院",440106,"建筑室内设计","联办","南平市职业中专学校","建筑装饰技术",640102,{"$f":"CONCATENATE(B67,C67,F67)","v":"福建林业职业技术学院440106南平市职业中专学校"},"是",{"$f":"VLOOKUP(I67,#REF!,2,0)","v":{"$error":"#REF!"}}]
[67,"福建林业职业技术学院",440106,"建筑室内设计","联办","福建生态工程职业技术学校","工艺美术",750106,"福建林业职业技术学院440106福建生态工程职业技术学校","是",{"$f":"VLOOKUP(I68,#REF!,2,0)","v":{"$error":"#REF!"}}]
[68,"福建林业职业技术学院",440106,"建筑室内设计","联办","三明市农业学校","建筑工程施工",640301,"福建林业职业技术学院440106三明市农业学校","是",{"$f":"VLOOKUP(I69,#REF!,2,0)","v":{"$error":"#REF!"}}]
[69,"福建林业职业技术学院",440404,"建筑智能化工程技术","联办","惠安开成职业中专学校","建筑水电设备安装与运维",640402,"福建林业职业技术学院440404惠安开成职业中专学校","是",{"$f":"VLOOKUP(I70,#REF!,2,0)","v":{"$error":"#REF!"}}]
[70,"福建林业职业技术学院",440404,"建筑智能化工程技术","联办","福州建筑工程职业中专学校","建筑智能化设备安装与运维",640401,"福建林业职业技术学院440404福州建筑工程职业中专学校","是",{"$f":"VLOOKUP(I71,#REF!,2,0)","v":{"$error":"#REF!"}}]
[71,"福建林业职业技术学院",440601,"市政工程技术","联办","福建三明林业学校","市政工程施工",640601,"福建林业职业技术学院440601福建三明林业学校","是",{"$f":"VLOOKUP(I72,#REF!,2,0)","v":{"$error":"#REF!"}}]
[72,"福建林业职业技术学院",460301,"机电一体化技术","联办","南平机电职业学校","机电技术应用",660301,"福建林业职业技术学院460301南平机电职业学校","是",{"$f":"VLOOKUP(I73,#REF!,2,0)","v":{"$error":"#REF!"}}]
[73,"福建林业职业技术学院",460301,"机电一体化技术","联办","南平市农业学校","数控技术应用",660103,"福建林业职业技术学院460301南平市农业学校","是",{"$f":"VLOOKUP(I74,#REF!,2,0)","v":{"$error":"#REF!"}}]
[74,"福建林业职业技术学院",460301,"机电一体化技术","联办","福州建筑工程职业中专学校","智能设备运行与维护",660201,"福建林业职业技术学院460301福州建筑工程职业中专学校","是",{"$f":"VLOOKUP(I75,#REF!,2,0)","v":{"$error":"#REF!"}}]
[75,"福建林业职业技术学院",500201,"道路与桥梁工程技术","联办","惠安开成职业中专学校","建筑工程施工",640301,"福建林业职业技术学院500201惠安开成职业中专学校","是",{"$f":"VLOOKUP(I76,#REF!,2,0)","v":{"$error":"#REF!"}}]
[76,"福建林业职业技术学院",500201,"道路与桥梁工程技术","联办","福州建筑工程职业中专学校","道路与桥梁工程施工",700201,"福建林业职业技术学院500201福州建筑工程职业中专学校","是",{"$f":"VLOOKUP(I77,#REF!,2,0)","v":{"$error":"#REF!"}}]
[77,"福建林业职业技术学院",510201,"计算机应用技术","联办","建宁县职业中学","计算机应用",710201,"福建林业职业技术学院510201建宁县职业中学","是",{"$f":"VLOOKUP(I78,#REF!,2,0)","v":{"$error":"#REF!"}}]
[78,"福建林业职业技术学院",510201,"计算机应用技术","联办","福建三明林业学校","计算机应用",710201,"福建林业职业技术学院510201福建三明林业学校","是",{"$f":"VLOOKUP(I79,#REF!,2,0)","v":{"$error":"#REF!"}}]
[79,"福建林业职业技术学院",510201,"计算机应用技术","联办","福建生态工程职业技术学校","计算机网络技术",710202,"福建林业职业技术学院510201福建生态工程职业技术学校","是",{"$f":"VLOOKUP(I80,#REF!,2,0)","v":{"$error":"#REF!"}}]
[80,"福建林业职业技术学院",510201,"计算机应用技术","联办","福州环保职业中专学校","计算机网络技术",710202,"福建林业职业技术学院510201福州环保职业中专学校","是",{"$f":"VLOOKUP(I81,#REF!,2,0)","v":{"$error":"#REF!"}}]
[81,"福建林业职业技术学院",530304,"会计信息管理","联办","南平市武夷旅游商贸学校","会计事务",730301,"福建林业职业技术学院530304南平市武夷旅游商贸学校","是",{"$f":"VLOOKUP(I82,#REF!,2,0)","v":{"$error":"#REF!"}}]
[82,"福建林业职业技术学院",530304,"会计信息管理","联办","福州环保职业中专学校","会计事务",730301,"福建林业职业技术学院530304福州环保职业中专学校","是",{"$f":"VLOOKUP(I83,#REF!,2,0)","v":{"$error":"#REF!"}}]
[83,"福建林业职业技术学院",540101,"旅游管理","联办","南平市武夷旅游商贸学校","旅游服务与管理",740101,"福建林业职业技术学院540101南平市武夷旅游商贸学校","是",{"$f":"VLOOKUP(I84,#REF!,2,0)","v":{"$error":"#REF!"}}]
[84,"福建林业职业技术学院",540101,"旅游管理","联办","永安职业中专学校","旅游服务与管理",740101,"福建林业职业技术学院540101永安职业中专学校","是",{"$f":"VLOOKUP(I85,#REF!,2,0)","v":{"$error":"#REF!"}}]
[85,"福建林业职业技术学院",550113,"广告艺术设计","联办","福建三明林业学校","计算机平面设计",710210,"福建林业职业技术学院550113福建三明林业学校","是",{"$f":"VLOOKUP(I86,#REF!,2,0)","v":{"$error":"#REF!"}}]
[86,"福建林业职业技术学院",550113,"广告艺术设计","联办","三明市农业学校","动漫与游戏制作",760204,"福建林业职业技术学院550113三明市农业学校","是",{"$f":"VLOOKUP(I87,#REF!,2,0)","v":{"$error":"#REF!"}}]
[87,"福建农业职业技术学院",410202,"园林技术","联办","福建经济学校","园林绿化",610203,"福建农业职业技术学院410202福建经济学校","是",{"$f":"VLOOKUP(I88,#REF!,2,0)","v":{"$error":"#REF!"}}]
[88,"福建农业职业技术学院",410202,"园林技术","联办","福州环保职业中专学校","园林技术",610202,"福建农业职业技术学院410202福州环保职业中专学校","是",{"$f":"VLOOKUP(I89,#REF!,2,0)","v":{"$error":"#REF!"}}]
[89,"福建农业职业技术学院",410202,"园林技术","联办","龙岩市农业学校","园林技术",610202,"福建农业职业技术学院410202龙岩市农业学校","是",{"$f":"VLOOKUP(I90,#REF!,2,0)","v":{"$error":"#REF!"}}]
[90,"福建农业职业技术学院",410202,"园林技术","联办","泉州市农业学校","园林技术",610202,"福建农业职业技术学院410202泉州市农业学校","是",{"$f":"VLOOKUP(I91,#REF!,2,0)","v":{"$error":"#REF!"}}]
[91,"福建农业职业技术学院",410303,"畜牧兽医","联办","南平市农业学校","农产品贮藏与加工",610115,"福建农业职业技术学院410303南平市农业学校","是",{"$f":"VLOOKUP(I92,#REF!,2,0)","v":{"$error":"#REF!"}}]
[92,"福建农业职业技术学院",410303,"畜牧兽医","联办","龙岩市农业学校","畜禽生产技术",610301,"福建农业职业技术学院410303龙岩市农业学校","是",{"$f":"VLOOKUP(I93,#REF!,2,0)","v":{"$error":"#REF!"}}]
[93,"福建农业职业技术学院",410303,"畜牧兽医","联办","三明市农业学校","畜禽生产技术",610301,"福建农业职业技术学院410303三明市农业学校","是",{"$f":"VLOOKUP(I94,#REF!,2,0)","v":{"$error":"#REF!"}}]
[94,"福建农业职业技术学院",410303,"畜牧兽医","联办","永安职业中专学校","畜禽生产技术",610301,"福建农业职业技术学院410303永安职业中专学校","是",{"$f":"VLOOKUP(I95,#REF!,2,0)","v":{"$error":"#REF!"}}]
[95,"福建农业职业技术学院",410303,"畜牧兽医","联办","光泽县职业技术教育中心","畜禽生产技术",610301,"福建农业职业技术学院410303光泽县职业技术教育中心","是",{"$f":"VLOOKUP(I96,#REF!,2,0)","v":{"$error":"#REF!"}}]
[96,"福建农业职业技术学院",410309,"宠物养护与驯导","联办","福州环保职业中专学校","畜禽生产技术",610301,"福建农业职业技术学院410309福州环保职业中专学校","是",{"$f":"VLOOKUP(I97,#REF!,2,0)","v":{"$error":"#REF!"}}]
[97,"福建农业职业技术学院",490101,"食品智能加工技术","联办","福建技术师范学院附属龙华职业技术学校","食品加工工艺",690101,"福建农业职业技术学院490101福建技术师范学院附属龙华职业技术学校","是",{"$f":"VLOOKUP(I98,#REF!,2,0)","v":{"$error":"#REF!"}}]
[98,"福建农业职业技术学院",490101,"食品智能加工技术","联办","南平市农业学校","畜禽生产技术",610301,"福建农业职业技术学院490101南平市农业学校","是",{"$f":"VLOOKUP(I99,#REF!,2,0)","v":{"$error":"#REF!"}}]
[99,"福建农业职业技术学院",490101,"食品智能加工技术","联办","三明市农业学校","中餐烹饪",740201,"福建农业职业技术学院490101三明市农业学校","是",{"$f":"VLOOKUP(I100,#REF!,2,0)","v":{"$error":"#REF!"}}]
[100,"福建农业职业技术学院",490104,"食品检验检测技术","联办","泉州市农业学校","农产品贮藏与加工",610115,"福建农业职业技术学院490104泉州市农业学校","是",{"$f":"VLOOKUP(I101,#REF!,2,0)","v":{"$error":"#REF!"}}]
[101,"福建农业职业技术学院",530201,"金融服务与管理","联办","福建经济学校","金融事务",730201,"福建农业职业技术学院530201福建经济学校","是",{"$f":"VLOOKUP(I102,#REF!,2,0)","v":{"$error":"#REF!"}}]
[102,"福建农业职业技术学院",530201,"金融服务与管理","联办","福建商贸学校","金融事务",730201,"福建农业职业技术学院530201福建商贸学校","是",{"$f":"VLOOKUP(I103,#REF!,2,0)","v":{"$error":"#REF!"}}]
[103,"福建农业职业技术学院",530201,"金融服务与管理","联办","福建省邮电学校","金融事务",730201,"福建农业职业技术学院530201福建省邮电学校","是",{"$f":"VLOOKUP(I104,#REF!,2,0)","v":{"$error":"#REF!"}}]
[104,"福建农业职业技术学院",530201,"金融服务与管理","联办","福建理工学校","会计事务",730301,"福建农业职业技术学院530201福建理工学校","是",{"$f":"VLOOKUP(I105,#REF!,2,0)","v":{"$error":"#REF!"}}]
[105,"福建卫生职业技术学院",490201,"药品生产技术","联办","柘荣职业技术学校","药剂",720301,"福建卫生职业技术学院490201柘荣职业技术学校","是",{"$f":"VLOOKUP(I106,#REF!,2,0)","v":{"$error":"#REF!"}}]
[106,"福建卫生职业技术学院",490210,"智能医疗装备技术","联办","福建铁路机电学校","电子信息技术",710101,"福建卫生职业技术学院490210福建铁路机电学校","是",{"$f":"VLOOKUP(I107,#REF!,2,0)","v":{"$error":"#REF!"}}]
[107,"福建卫生职业技术学院",520201,"护理","联办","闽北卫生学校","护理",720201,"福建卫生职业技术学院520201闽北卫生学校","是",{"$f":"VLOOKUP(I108,#REF!,2,0)","v":{"$error":"#REF!"}}]
[108,"福建卫生职业技术学院",520301,"药学","联办","闽侯县职业中专学校","药剂",720301,"福建卫生职业技术学院520301闽侯县职业中专学校","是",{"$f":"VLOOKUP(I109,#REF!,2,0)","v":{"$error":"#REF!"}}]
[109,"福建卫生职业技术学院",520301,"药学","联办","柘荣职业技术学校","药剂",720301,"福建卫生职业技术学院520301柘荣职业技术学校","是",{"$f":"VLOOKUP(I110,#REF!,2,0)","v":{"$error":"#REF!"}}]
[110,"福建卫生职业技术学院",520507,"医学美容技术","联办","闽侯县职业中专学校","美容美体艺术",750111,"福建卫生职业技术学院520507闽侯县职业中专学校","是",{"$f":"VLOOKUP(I111,#REF!,2,0)","v":{"$error":"#REF!"}}]
[111,"福建卫生职业技术学院",520507,"医学美容技术","联办","连江职业中专学校","美容美体艺术",750111,"福建卫生职业技术学院520507连江职业中专学校","是",{"$f":"VLOOKUP(I112,#REF!,2,0)","v":{"$error":"#REF!"}}]
[112,"福建卫生职业技术学院",520601,"康复治疗技术","联办","闽侯县职业中专学校","康复技术",720601,"福建卫生职业技术学院520601闽侯县职业中专学校","是",{"$f":"VLOOKUP(I113,#REF!,2,0)","v":{"$error":"#REF!"}}]
[113,"福建生物工程职业技术学院",490104,"食品检验检测技术","联办","福建工贸学校","食品加工工艺",690101,"福建生物工程职业技术学院490104福建工贸学校","是",{"$f":"VLOOKUP(I114,#REF!,2,0)","v":{"$error":"#REF!"}}]
[114,"福建生物工程职业技术学院",490201,"药品生产技术","联办","福建工贸学校","食品加工工艺",690101,"福建生物工程职业技术学院490201福建工贸学校","是",{"$f":"VLOOKUP(I115,#REF!,2,0)","v":{"$error":"#REF!"}}]
[115,"福建生物工程职业技术学院",490201,"药品生产技术","联办","厦门市集美职业技术学校","药剂",720301,"福建生物工程职业技术学院490201厦门市集美职业技术学校","是",{"$f":"VLOOKUP(I116,#REF!,2,0)","v":{"$error":"#REF!"}}]
[116,"福建生物工程职业技术学院",490202,"生物制药技术","联办","福建工贸学校","食品加工工艺",690101,"福建生物工程职业技术学院490202福建工贸学校","是",{"$f":"VLOOKUP(I117,#REF!,2,0)","v":{"$error":"#REF!"}}]
[117,"福建生物工程职业技术学院",490202,"生物制药技术","联办","永春职业中专学校","生物化工技术应用",670102,"福建生物工程职业技术学院490202永春职业中专学校","是",{"$f":"VLOOKUP(I118,#REF!,2,0)","v":{"$error":"#REF!"}}]
[118,"福建生物工程职业技术学院",490208,"药品经营与管理","联办","福建建筑学校","市场营销",730602,"福建生物工程职业技术学院490208福建建筑学校","是",{"$f":"VLOOKUP(I119,#REF!,2,0)","v":{"$error":"#REF!"}}]
[119,"福建生物工程职业技术学院",490208,"药品经营与管理","联办","福建商贸学校","市场营销",730602,"福建生物工程职业技术学院490208福建商贸学校","是",{"$f":"VLOOKUP(I120,#REF!,2,0)","v":{"$error":"#REF!"}}]
[120,"福建生物工程职业技术学院",490213,"医疗器械维护与管理","联办","长汀职业中专学校","电子技术应用",710103,"福建生物工程职业技术学院490213长汀职业中专学校","是",{"$f":"VLOOKUP(I121,#REF!,2,0)","v":{"$error":"#REF!"}}]
[121,"福建生物工程职业技术学院",520301,"药学","联办","福建工贸学校","食品加工工艺",690101,"福建生物工程职业技术学院520301福建工贸学校","是",{"$f":"VLOOKUP(I122,#REF!,2,0)","v":{"$error":"#REF!"}}]
[122,"福建生物工程职业技术学院",520301,"药学","联办","安溪华侨职业中专学校","药剂",720301,"福建生物工程职业技术学院520301安溪华侨职业中专学校","是",{"$f":"VLOOKUP(I123,#REF!,2,0)","v":{"$error":"#REF!"}}]
[123,"福建生物工程职业技术学院",520301,"药学","联办","永春职业中专学校","药剂",720301,"福建生物工程职业技术学院520301永春职业中专学校","是",{"$f":"VLOOKUP(I124,#REF!,2,0)","v":{"$error":"#REF!"}}]
[124,"福建生物工程职业技术学院",520410,"中药学","联办","邵武职业中专学校","中药",720403,"福建生物工程职业技术学院520410邵武职业中专学校","是",{"$f":"VLOOKUP(I125,#REF!,2,0)","v":{"$error":"#REF!"}}]
[125,"福建生物工程职业技术学院",520410,"中药学","联办","柘荣职业技术学校","药剂",720301,"福建生物工程职业技术学院520410柘荣职业技术学校","是",{"$f":"VLOOKUP(I126,#REF!,2,0)","v":{"$error":"#REF!"}}]
[126,"福建幼儿师范高等专科学校",550101,"艺术设计","联办","福建理工学校","工艺美术",750106,"福建幼儿师范高等专科学校550101福建理工学校","是",{"$f":"VLOOKUP(I127,#REF!,2,0)","v":{"$error":"#REF!"}}]
[127,"福建幼儿师范高等专科学校",550123,"首饰设计与工艺","联办","福州财政金融职业中专学校","首饰设计与制作",750108,"福建幼儿师范高等专科学校550123福州财政金融职业中专学校","是",{"$f":"VLOOKUP(I128,#REF!,2,0)","v":{"$error":"#REF!"}}]
[128,"福建幼儿师范高等专科学校","570113K","艺术教育","自办","自办","幼儿保育",770101,"福建幼儿师范高等专科学校570113K自办","是",{"$f":"VLOOKUP(I129,#REF!,2,0)","v":{"$error":"#REF!"}}]
[129,"福建艺术职业学院",540109,"茶艺与茶文化","联办","福州旅游职业中专学校","茶艺与茶营销",740105,"福建艺术职业学院540109福州旅游职业中专学校","是",{"$f":"VLOOKUP(I130,#REF!,2,0)","v":{"$error":"#REF!"}}]
[130,"福建艺术职业学院",550101,"艺术设计","联办","福州旅游职业中专学校","工艺美术",750106,{"$f":"CONCATENATE(B131,C131,F131)","v":"福建艺术职业学院550101福州旅游职业中专学校"},"是",{"$f":"VLOOKUP(I131,#REF!,2,0)","v":{"$error":"#REF!"}}]
[131,"福建艺术职业学院",550105,"服装与服饰设计","联办","福建第二轻工业学校","服装设计与工艺",680402,"福建艺术职业学院550105福建第二轻工业学校","是",{"$f":"VLOOKUP(I132,#REF!,2,0)","v":{"$error":"#REF!"}}]
[132,"福建艺术职业学院",550112,"工艺美术品设计（漆艺方向）","联办","福州旅游职业中专学校","绘画",750107,"福建艺术职业学院550112福州旅游职业中专学校","是",{"$f":"VLOOKUP(I133,#REF!,2,0)","v":{"$error":"#REF!"}}]
[133,"福建艺术职业学院",550201,"音乐表演","自办","自办","音乐表演",750201,"福建艺术职业学院550201自办","是",{"$f":"VLOOKUP(I134,#REF!,2,0)","v":{"$error":"#REF!"}}]
[134,"福建艺术职业学院",550202,"舞蹈表演（中国舞方向）","自办","自办","舞蹈表演（中国舞方向）",750202,"福建艺术职业学院550202自办","是",{"$f":"VLOOKUP(I135,#REF!,2,0)","v":{"$error":"#REF!"}}]
[135,"福建体育职业技术学院",570303,"运动训练","自办","自办","运动训练",150100,"福建体育职业技术学院570303自办","是",{"$f":"VLOOKUP(I136,#REF!,2,0)","v":{"$error":"#REF!"}}]
[136,"福州职业技术学院",500211,"汽车检测与维修技术","联办","福建工业学校","汽车运用与维修",700206,"福州职业技术学院500211福建工业学校","是",{"$f":"VLOOKUP(I137,#REF!,2,0)","v":{"$error":"#REF!"}},"停招"]
[137,"福州职业技术学院",500211,"汽车检测与维修技术","联办","长乐职业中专学校","汽车运用与维修",700206,"福州职业技术学院500211长乐职业中专学校","是",{"$f":"VLOOKUP(I138,#REF!,2,0)","v":{"$error":"#REF!"}}]
[138,"福州职业技术学院",500405,"空中乘务","联办","福州旅游职业中专学校","航空服务",700402,"福州职业技术学院500405福州旅游职业中专学校","是",{"$f":"VLOOKUP(I139,#REF!,2,0)","v":{"$error":"#REF!"}}]
[139,"福州职业技术学院",510103,"应用电子技术","联办","周宁职业中专学校","电子信息技术",710101,"福州职业技术学院510103周宁职业中专学校","是",{"$f":"VLOOKUP(I140,#REF!,2,0)","v":{"$error":"#REF!"}}]
[140,"福州职业技术学院",510103,"应用电子技术","联办","福州机电工程职业技术学校","电子电器应用与维修",710105,"福州职业技术学院510103福州机电工程职业技术学校","是",{"$f":"VLOOKUP(I141,#REF!,2,0)","v":{"$error":"#REF!"}}]
[141,"福州职业技术学院",510203,"软件技术","联办","福州财政金融职业中专学校","计算机应用",710201,"福州职业技术学院510203福州财政金融职业中专学校","是",{"$f":"VLOOKUP(I142,#REF!,2,0)","v":{"$error":"#REF!"}}]
[142,"福州职业技术学院",510203,"软件技术","联办","福州机电工程职业技术学校","动漫与游戏制作",760204,"福州职业技术学院510203福州机电工程职业技术学校","是",{"$f":"VLOOKUP(I143,#REF!,2,0)","v":{"$error":"#REF!"}}]
[143,"福州职业技术学院",510207,"信息安全技术应用","联办","福州机电工程职业技术学校","计算机应用",710201,"福州职业技术学院510207福州机电工程职业技术学校","是",{"$f":"VLOOKUP(I144,#REF!,2,0)","v":{"$error":"#REF!"}}]
[144,"福州职业技术学院",510207,"信息安全技术应用","联办","周宁职业中专学校","计算机平面设计",710210,"福州职业技术学院510207周宁职业中专学校","是",{"$f":"VLOOKUP(I145,#REF!,2,0)","v":{"$error":"#REF!"}}]
[145,"福州职业技术学院",530701,"电子商务","联办","福建技术师范学院附属龙华职业技术学校","电子商务",730701,"福州职业技术学院530701福建技术师范学院附属龙华职业技术学校","是",{"$f":"VLOOKUP(I146,#REF!,2,0)","v":{"$error":"#REF!"}}]
[146,"福州职业技术学院",530701,"电子商务","联办","福建理工学校","电子商务",730701,"福州职业技术学院530701福建理工学校","是",{"$f":"VLOOKUP(I147,#REF!,2,0)","v":{"$error":"#REF!"}}]
[147,"福州职业技术学院",550101,"艺术设计","联办","福州旅游职业中专学校","民族工艺品设计与制作（寿山石雕）",750306,"福州职业技术学院550101福州旅游职业中专学校","是",{"$f":"VLOOKUP(I148,#REF!,2,0)","v":{"$error":"#REF!"}}]
[148,"福州职业技术学院",550114,"室内艺术设计","联办","福州文教职业中专学校","艺术设计与制作",750101,"福州职业技术学院550114福州文教职业中专学校","是",{"$f":"VLOOKUP(I149,#REF!,2,0)","v":{"$error":"#REF!"}}]
[149,"闽江师范高等专科学校",460305,"工业机器人技术","联办","福州机电工程职业技术学校","工业机器人技术应用",660303,"闽江师范高等专科学校460305福州机电工程职业技术学校","是",{"$f":"VLOOKUP(I150,#REF!,2,0)","v":{"$error":"#REF!"}}]
[150,"闽江师范高等专科学校",460701,"汽车制造与试验技术","联办","连江职业中专学校","汽车运用与维修",700206,"闽江师范高等专科学校460701连江职业中专学校","是",{"$f":"VLOOKUP(I151,#REF!,2,0)","v":{"$error":"#REF!"}}]
[151,"闽江师范高等专科学校",470208,"分析检验技术","联办","连江职业中专学校","农产品贮藏与加工",610115,"闽江师范高等专科学校470208连江职业中专学校","是",{"$f":"VLOOKUP(I152,#REF!,2,0)","v":{"$error":"#REF!"}}]
[152,"闽江师范高等专科学校",470208,"分析检验技术","联办","福建工贸学校","粮油储运与检验技术",690302,"闽江师范高等专科学校470208福建工贸学校","是",{"$f":"VLOOKUP(I153,#REF!,2,0)","v":{"$error":"#REF!"}}]
[153,"闽江师范高等专科学校",470208,"分析检验技术","联办","福州环保职业中专学校","生态环境保护",620803,"闽江师范高等专科学校470208福州环保职业中专学校","是",{"$f":"VLOOKUP(I154,#REF!,2,0)","v":{"$error":"#REF!"}}]
[154,"闽江师范高等专科学校",510102,"物联网应用技术","联办","福州机电工程职业技术学校","计算机网络技术",710202,"闽江师范高等专科学校510102福州机电工程职业技术学校","是",{"$f":"VLOOKUP(I155,#REF!,2,0)","v":{"$error":"#REF!"}}]
[155,"闽江师范高等专科学校",510102,"物联网应用技术","联办","福州经济技术开发区职业中专学校","物联网技术应用",710102,"闽江师范高等专科学校510102福州经济技术开发区职业中专学校","是",{"$f":"VLOOKUP(I156,#REF!,2,0)","v":{"$error":"#REF!"}}]
[156,"闽江师范高等专科学校",510102,"物联网应用技术","联办","福建技术师范学院附属龙华职业技术学校","物联网技术应用",710102,"闽江师范高等专科学校510102福建技术师范学院附属龙华职业技术学校","是",{"$f":"VLOOKUP(I157,#REF!,2,0)","v":{"$error":"#REF!"}}]
[157,"闽江师范高等专科学校",510204,"数字媒体技术","联办","福州旅游职业中专学校","数字媒体技术应用",710204,"闽江师范高等专科学校510204福州旅游职业中专学校","是",{"$f":"VLOOKUP(I158,#REF!,2,0)","v":{"$error":"#REF!"}}]
[158,"闽江师范高等专科学校",510204,"数字媒体技术","联办","福州商贸职业中专学校","数字媒体技术应用（VR方向）",710204,"闽江师范高等专科学校510204福州商贸职业中专学校","是",{"$f":"VLOOKUP(I159,#REF!,2,0)","v":{"$error":"#REF!"}}]
[159,"闽江师范高等专科学校",540102,"导游","联办","福州旅游职业中专学校","旅游服务与管理",740101,"闽江师范高等专科学校540102福州旅游职业中专学校","是",{"$f":"VLOOKUP(I160,#REF!,2,0)","v":{"$error":"#REF!"}}]
[160,"闽江师范高等专科学校",550204,"表演艺术","联办","福州市艺术学校","戏曲表演",750203,"闽江师范高等专科学校550204福州市艺术学校","是",{"$f":"VLOOKUP(I161,#REF!,2,0)","v":{"$error":"#REF!"}}]
[161,"闽江师范高等专科学校",550204,"表演艺术","联办","莆田艺术学校","戏曲表演",750203,"闽江师范高等专科学校550204莆田艺术学校","是",{"$f":"VLOOKUP(I162,#REF!,2,0)","v":{"$error":"#REF!"}}]
[162,"闽江师范高等专科学校",550204,"表演艺术","联办","福建经济学校","音乐表演",750201,"闽江师范高等专科学校550204福建经济学校","是",{"$f":"VLOOKUP(I163,#REF!,2,0)","v":{"$error":"#REF!"}}]
[163,"闽江师范高等专科学校",570202,"应用英语","联办","福建经济学校","商务英语",770201,"闽江师范高等专科学校570202福建经济学校","是",{"$f":"VLOOKUP(I164,#REF!,2,0)","v":{"$error":"#REF!"}}]
[164,"闽江师范高等专科学校","570102K","学前教育","联办","福州文教职业中专学校","幼儿保育",770101,"闽江师范高等专科学校570102K福州文教职业中专学校","是",{"$f":"VLOOKUP(I165,#REF!,2,0)","v":{"$error":"#REF!"}}]
[165,"闽江师范高等专科学校","570102K","学前教育","联办","福州经济技术开发区职业中专学校","幼儿保育",770101,"闽江师范高等专科学校570102K福州经济技术开发区职业中专学校","是",{"$f":"VLOOKUP(I166,#REF!,2,0)","v":{"$error":"#REF!"}}]
[166,"闽江师范高等专科学校","570102K","学前教育","联办","闽侯县职业中专学校","幼儿保育",770101,"闽江师范高等专科学校570102K闽侯县职业中专学校","是",{"$f":"VLOOKUP(I167,#REF!,2,0)","v":{"$error":"#REF!"}}]
[167,"福建华南女子职业学院",440501,"工程造价","联办","福建商贸学校","建筑工程施工",640301,"福建华南女子职业学院440501福建商贸学校","是",{"$f":"VLOOKUP(I168,#REF!,2,0)","v":{"$error":"#REF!"}}]
[168,"福建华南女子职业学院",440501,"工程造价","联办","长乐职业中专学校","建筑工程施工",640301,"福建华南女子职业学院440501长乐职业中专学校","是",{"$f":"VLOOKUP(I169,#REF!,2,0)","v":{"$error":"#REF!"}}]
[169,"福建华南女子职业学院",440501,"工程造价","联办","永泰城乡建设职业中专学校","建筑工程施工",640301,"福建华南女子职业学院440501永泰城乡建设职业中专学校","是",{"$f":"VLOOKUP(I170,#REF!,2,0)","v":{"$error":"#REF!"}}]
[170,"福建华南女子职业学院",490104,"食品检验检测技术","联办","霞浦职业中专学校","农产品营销与储运",610116,"福建华南女子职业学院490104霞浦职业中专学校","是",{"$f":"VLOOKUP(I171,#REF!,2,0)","v":{"$error":"#REF!"}}]
[171,"福建华南女子职业学院",500405,"空中乘务","联办","福建商贸学校","旅游服务与管理",740101,"福建华南女子职业学院500405福建商贸学校","是",{"$f":"VLOOKUP(I172,#REF!,2,0)","v":{"$error":"#REF!"}}]
[172,"福建华南女子职业学院",500405,"空中乘务","联办","福建省民政学校","航空服务",700402,"福建华南女子职业学院500405福建省民政学校","是",{"$f":"VLOOKUP(I173,#REF!,2,0)","v":{"$error":"#REF!"}}]
[173,"福建华南女子职业学院",540101,"旅游管理","联办","霞浦职业中专学校","旅游服务与管理",740101,"福建华南女子职业学院540101霞浦职业中专学校","是",{"$f":"VLOOKUP(I174,#REF!,2,0)","v":{"$error":"#REF!"}}]
[174,"福建华南女子职业学院",550103,"数字媒体艺术设计","联办","福建工贸学校","动漫与游戏制作",760204,"福建华南女子职业学院550103福建工贸学校","是",{"$f":"VLOOKUP(I175,#REF!,2,0)","v":{"$error":"#REF!"}}]
[175,"福建华南女子职业学院",550103,"数字媒体艺术设计","联办","福州财政金融职业中专学校","计算机应用",710201,"福建华南女子职业学院550103福州财政金融职业中专学校","是",{"$f":"VLOOKUP(I176,#REF!,2,0)","v":{"$error":"#REF!"}}]
[176,"福建华南女子职业学院",550103,"数字媒体艺术设计","联办","邵武职业中专学校","计算机应用",710201,"福建华南女子职业学院550103邵武职业中专学校","是",{"$f":"VLOOKUP(I177,#REF!,2,0)","v":{"$error":"#REF!"}}]
[177,"福建华南女子职业学院",550105,"服装与服饰设计","联办","福建工贸学校","服装表演",750206,"福建华南女子职业学院550105福建工贸学校","是",{"$f":"VLOOKUP(I178,#REF!,2,0)","v":{"$error":"#REF!"}}]
[178,"福建华南女子职业学院",550105,"服装与服饰设计","联办","福州财政金融职业中专学校","服装设计与工艺",680402,"福建华南女子职业学院550105福州财政金融职业中专学校","是",{"$f":"VLOOKUP(I179,#REF!,2,0)","v":{"$error":"#REF!"}}]
[179,"福建华南女子职业学院",550105,"服装与服饰设计","联办","长乐职业中专学校","服装设计与工艺",680402,"福建华南女子职业学院550105长乐职业中专学校","是",{"$f":"VLOOKUP(I180,#REF!,2,0)","v":{"$error":"#REF!"}}]
[180,"福建华南女子职业学院",550117,"人物形象设计","联办","福建工贸学校","美发与形象设计",750110,"福建华南女子职业学院550117福建工贸学校","是",{"$f":"VLOOKUP(I181,#REF!,2,0)","v":{"$error":"#REF!"}}]
[181,"福建华南女子职业学院",550117,"人物形象设计","联办","长乐职业中专学校","美发与形象设计",750110,"福建华南女子职业学院550117长乐职业中专学校","是",{"$f":"VLOOKUP(I182,#REF!,2,0)","v":{"$error":"#REF!"}}]
[182,"福建华南女子职业学院",590301,"现代家政服务与管理","联办","南安市工业学校","现代家政服务与管理",790301,"福建华南女子职业学院590301南安市工业学校","是",{"$f":"VLOOKUP(I183,#REF!,2,0)","v":{"$error":"#REF!"}}]
[183,"福建华南女子职业学院",590302,"智慧健康养老服务与管理","联办","福建省民政学校","老年人服务与管理",790303,"福建华南女子职业学院590302福建省民政学校","是",{"$f":"VLOOKUP(I184,#REF!,2,0)","v":{"$error":"#REF!"}}]
[184,"福建华南女子职业学院","570102K","学前教育","联办","屏南职业中专学校","幼儿保育",770101,"福建华南女子职业学院570102K屏南职业中专学校","是",{"$f":"VLOOKUP(I185,#REF!,2,0)","v":{"$error":"#REF!"}}]
[185,"福建华南女子职业学院","570102K","学前教育","联办","霞浦职业中专学校","幼儿保育",770101,"福建华南女子职业学院570102K霞浦职业中专学校","是",{"$f":"VLOOKUP(I186,#REF!,2,0)","v":{"$error":"#REF!"}}]
[186,"福建华南女子职业学院","570102K","学前教育","联办","邵武职业中专学校","幼儿保育",770101,"福建华南女子职业学院570102K邵武职业中专学校","是",{"$f":"VLOOKUP(I187,#REF!,2,0)","v":{"$error":"#REF!"}}]
[187,"福州英华职业学院",440106,"建筑室内设计","联办","福州建筑工程职业中专学校","建筑装饰技术",640102,"福州英华职业学院440106福州建筑工程职业中专学校","是",{"$f":"VLOOKUP(I188,#REF!,2,0)","v":{"$error":"#REF!"}}]
[188,"福州英华职业学院",440106,"建筑室内设计","联办","福建工贸学校","计算机平面设计",710210,"福州英华职业学院440106福建工贸学校","是",{"$f":"VLOOKUP(I189,#REF!,2,0)","v":{"$error":"#REF!"}}]
[189,"福州英华职业学院",440501,"工程造价","联办","福州建筑工程职业中专学校","建筑工程造价",640501,"福州英华职业学院440501福州建筑工程职业中专学校","是",{"$f":"VLOOKUP(I190,#REF!,2,0)","v":{"$error":"#REF!"}}]
[190,"福州英华职业学院",440502,"建设工程管理","联办","泉州理工学校","建筑工程施工",640301,"福州英华职业学院440502泉州理工学校","是",{"$f":"VLOOKUP(I191,#REF!,2,0)","v":{"$error":"#REF!"}}]
[191,"福州英华职业学院",440502,"建设工程管理","联办","福建技术师范学院附属龙华职业技术学校","建筑工程施工",640301,"福州英华职业学院440502福建技术师范学院附属龙华职业技术学校","是",{"$f":"VLOOKUP(I192,#REF!,2,0)","v":{"$error":"#REF!"}},"停招"]
[192,"福州英华职业学院",510201,"计算机应用技术","联办","福州财政金融职业中专学校","计算机应用",710201,"福州英华职业学院510201福州财政金融职业中专学校","是",{"$f":"VLOOKUP(I193,#REF!,2,0)","v":{"$error":"#REF!"}}]
[193,"福州英华职业学院",510201,"计算机应用技术","联办","湄洲湾职业技术学校","计算机应用",710201,"福州英华职业学院510201湄洲湾职业技术学校","是",{"$f":"VLOOKUP(I194,#REF!,2,0)","v":{"$error":"#REF!"}}]
[194,"福州英华职业学院",510201,"计算机应用技术","联办","福州机电工程职业技术学校","软件与信息服务",710203,{"$f":"CONCATENATE(B195,C195,F195)","v":"福州英华职业学院510201福州机电工程职业技术学校"},"是",{"$f":"VLOOKUP(I195,#REF!,2,0)","v":{"$error":"#REF!"}}]
[195,"福州英华职业学院",510201,"计算机应用技术","联办","福州商贸职业中专学校","移动应用技术与服务",710206,"福州英华职业学院510201福州商贸职业中专学校","是",{"$f":"VLOOKUP(I196,#REF!,2,0)","v":{"$error":"#REF!"}}]
[196,"福州英华职业学院",510215,"动漫制作技术","联办","福建技术师范学院附属龙华职业技术学校","动漫与游戏制作",760204,"福州英华职业学院510215福建技术师范学院附属龙华职业技术学校","是",{"$f":"VLOOKUP(I197,#REF!,2,0)","v":{"$error":"#REF!"}},"停招"]
[197,"福州英华职业学院",510215,"动漫制作技术","联办","福州建筑工程职业中专学校","计算机平面设计",710210,"福州英华职业学院510215福州建筑工程职业中专学校","是",{"$f":"VLOOKUP(I198,#REF!,2,0)","v":{"$error":"#REF!"}}]
[198,"福州英华职业学院",510215,"动漫制作技术","联办","仙游职业中专学校","动漫与游戏制作",760204,"福州英华职业学院510215仙游职业中专学校","是",{"$f":"VLOOKUP(I199,#REF!,2,0)","v":{"$error":"#REF!"}}]
[199,"福州英华职业学院",520201,"护理","联办","闽侯县职业中专学校","康复技术",720601,"福州英华职业学院520201闽侯县职业中专学校","是",{"$f":"VLOOKUP(I200,#REF!,2,0)","v":{"$error":"#REF!"}}]
[200,"福州英华职业学院",530201,"金融服务与管理","联办","福州财政金融职业中专学校","金融事务",730201,"福州英华职业学院530201福州财政金融职业中专学校","是",{"$f":"VLOOKUP(I201,#REF!,2,0)","v":{"$error":"#REF!"}}]
[201,"福州英华职业学院",530201,"金融服务与管理","联办","长乐职业中专学校","会计事务",730301,"福州英华职业学院530201长乐职业中专学校","是",{"$f":"VLOOKUP(I202,#REF!,2,0)","v":{"$error":"#REF!"}}]
[202,"福州英华职业学院",530701,"电子商务","联办","福州财政金融职业中专学校","电子商务",730701,"福州英华职业学院530701福州财政金融职业中专学校","是",{"$f":"VLOOKUP(I203,#REF!,2,0)","v":{"$error":"#REF!"}}]
[203,"福州英华职业学院",530701,"电子商务","联办","福建工贸学校","电子商务",730701,"福州英华职业学院530701福建工贸学校","是",{"$f":"VLOOKUP(I204,#REF!,2,0)","v":{"$error":"#REF!"}}]
[204,"福州英华职业学院",530701,"电子商务","联办","湄洲湾职业技术学校","电子商务",730701,"福州英华职业学院530701湄洲湾职业技术学校","是",{"$f":"VLOOKUP(I205,#REF!,2,0)","v":{"$error":"#REF!"}}]
[205,"福州英华职业学院",530701,"电子商务","联办","长乐职业中专学校","电子商务",730701,"福州英华职业学院530701长乐职业中专学校","是",{"$f":"VLOOKUP(I206,#REF!,2,0)","v":{"$error":"#REF!"}}]
[206,"福州英华职业学院",530701,"电子商务","联办","永安职业中专学校","电子商务",730701,"福州英华职业学院530701永安职业中专学校","是",{"$f":"VLOOKUP(I207,#REF!,2,0)","v":{"$error":"#REF!"}}]
[207,"福州英华职业学院",570201,"商务英语","联办","福州财政金融职业中专学校","商务英语",770201,"福州英华职业学院570201福州财政金融职业中专学校","是",{"$f":"VLOOKUP(I208,#REF!,2,0)","v":{"$error":"#REF!"}}]
[208,"福州黎明职业技术学院",440106,"建筑室内设计","联办","福建商贸学校","工艺美术",750106,"福州黎明职业技术学院440106福建商贸学校","是",{"$f":"VLOOKUP(I209,#REF!,2,0)","v":{"$error":"#REF!"}}]
[209,"福州黎明职业技术学院",440501,"工程造价","联办","南平市农业学校","建筑工程施工",640301,"福州黎明职业技术学院440501南平市农业学校","是",{"$f":"VLOOKUP(I210,#REF!,2,0)","v":{"$error":"#REF!"}}]
[210,"福州黎明职业技术学院",460702,"新能源汽车技术","联办","福州机电工程职业技术学校","新能源汽车运用与维修",700209,"福州黎明职业技术学院460702福州机电工程职业技术学校","是",{"$f":"VLOOKUP(I211,#REF!,2,0)","v":{"$error":"#REF!"}}]
[211,"福州黎明职业技术学院",500113,"高速铁路客运服务","联办","永泰城乡建设职业中专学校","旅游服务与管理",740101,"福州黎明职业技术学院500113永泰城乡建设职业中专学校","是",{"$f":"VLOOKUP(I212,#REF!,2,0)","v":{"$error":"#REF!"}}]
[212,"福州黎明职业技术学院",500113,"高速铁路客运服务","联办","平潭职业中专学校","旅游服务与管理",740101,"福州黎明职业技术学院500113平潭职业中专学校","是",{"$f":"VLOOKUP(I213,#REF!,2,0)","v":{"$error":"#REF!"}}]
[213,"福州黎明职业技术学院",500113,"高速铁路客运服务","联办","福州机电工程职业技术学校","城市轨道交通运营服务",700604,"福州黎明职业技术学院500113福州机电工程职业技术学校","是",{"$f":"VLOOKUP(I214,#REF!,2,0)","v":{"$error":"#REF!"}}]
[214,"福州黎明职业技术学院",530701,"电子商务","联办","福州机电工程职业技术学校","电子商务",730701,"福州黎明职业技术学院530701福州机电工程职业技术学校","是",{"$f":"VLOOKUP(I215,#REF!,2,0)","v":{"$error":"#REF!"}}]
[215,"福州黎明职业技术学院",530701,"电子商务","联办","福建商贸学校","电子商务",730701,"福州黎明职业技术学院530701福建商贸学校","是",{"$f":"VLOOKUP(I216,#REF!,2,0)","v":{"$error":"#REF!"}}]
[216,"福州黎明职业技术学院",540202,"烹饪工艺与营养","联办","福州环保职业中专学校","中餐烹饪",740201,"福州黎明职业技术学院540202福州环保职业中专学校","是",{"$f":"VLOOKUP(I217,#REF!,2,0)","v":{"$error":"#REF!"}}]
[217,"福州黎明职业技术学院",540202,"烹饪工艺与营养","联办","安溪茶业职业技术学校","中餐烹饪",740201,"福州黎明职业技术学院540202安溪茶业职业技术学校","是",{"$f":"VLOOKUP(I218,#REF!,2,0)","v":{"$error":"#REF!"}}]
[218,"福州软件职业技术学院",440106,"建筑室内设计","联办","福建经济学校","工艺美术",750106,"福州软件职业技术学院440106福建经济学校","是",{"$f":"VLOOKUP(I219,#REF!,2,0)","v":{"$error":"#REF!"}}]
[219,"福州软件职业技术学院",440106,"建筑室内设计","联办","福州商贸职业中专学校","艺术设计与制作",750101,"福州软件职业技术学院440106福州商贸职业中专学校","是",{"$f":"VLOOKUP(I220,#REF!,2,0)","v":{"$error":"#REF!"}}]
[220,"福州软件职业技术学院",510203,"软件技术","联办","仙游职业中专学校","计算机应用",710201,"福州软件职业技术学院510203仙游职业中专学校","是",{"$f":"VLOOKUP(I221,#REF!,2,0)","v":{"$error":"#REF!"}}]
[221,"福州软件职业技术学院",510203,"软件技术","联办","福建省邮电学校","计算机网络技术",710202,"福州软件职业技术学院510203福建省邮电学校","是",{"$f":"VLOOKUP(I222,#REF!,2,0)","v":{"$error":"#REF!"}}]
[222,"福州软件职业技术学院",510204,"数字媒体技术","联办","福建经济学校","计算机应用",710201,"福州软件职业技术学院510204福建经济学校","是",{"$f":"VLOOKUP(I223,#REF!,2,0)","v":{"$error":"#REF!"}}]
[223,"福州软件职业技术学院",510204,"数字媒体技术","联办","福建海洋职业技术学校","计算机平面设计",710210,"福州软件职业技术学院510204福建海洋职业技术学校","是",{"$f":"VLOOKUP(I224,#REF!,2,0)","v":{"$error":"#REF!"}}]
[224,"福州软件职业技术学院",510204,"数字媒体技术","联办","长乐职业中专学校","数字媒体技术应用",710204,"福州软件职业技术学院510204长乐职业中专学校","是",{"$f":"VLOOKUP(I225,#REF!,2,0)","v":{"$error":"#REF!"}}]
[225,"福州软件职业技术学院",510215,"动漫制作技术","联办","福建经济学校","动漫与游戏制作",760204,"福州软件职业技术学院510215福建经济学校","是",{"$f":"VLOOKUP(I226,#REF!,2,0)","v":{"$error":"#REF!"}}]
[226,"福州软件职业技术学院",510215,"动漫制作技术","联办","福建商贸学校","动漫与游戏设计",750109,"福州软件职业技术学院510215福建商贸学校","是",{"$f":"VLOOKUP(I227,#REF!,2,0)","v":{"$error":"#REF!"}}]
[227,"福州软件职业技术学院",510215,"动漫制作技术","联办","福建海洋职业技术学校","动漫与游戏制作",760204,"福州软件职业技术学院510215福建海洋职业技术学校","是",{"$f":"VLOOKUP(I228,#REF!,2,0)","v":{"$error":"#REF!"}}]
[228,"福州软件职业技术学院",510215,"动漫制作技术","联办","长乐职业中专学校","动漫与游戏制作",760204,"福州软件职业技术学院510215长乐职业中专学校","是",{"$f":"VLOOKUP(I229,#REF!,2,0)","v":{"$error":"#REF!"}}]
[229,"福州软件职业技术学院",530302,"大数据与会计","联办","福建经济学校","会计事务",730301,"福州软件职业技术学院530302福建经济学校","是",{"$f":"VLOOKUP(I230,#REF!,2,0)","v":{"$error":"#REF!"}}]
[230,"福州软件职业技术学院",530302,"大数据与会计","联办","福建商贸学校","会计事务",730301,"福州软件职业技术学院530302福建商贸学校","是",{"$f":"VLOOKUP(I231,#REF!,2,0)","v":{"$error":"#REF!"}}]
[231,"福州软件职业技术学院",530802,"现代物流管理","联办","福建经济学校","物流服务与管理",730801,"福州软件职业技术学院530802福建经济学校","是",{"$f":"VLOOKUP(I232,#REF!,2,0)","v":{"$error":"#REF!"}}]
[232,"福州软件职业技术学院",530802,"现代物流管理","联办","福州商贸职业中专学校","物流服务与管理",730801,"福州软件职业技术学院530802福州商贸职业中专学校","是",{"$f":"VLOOKUP(I233,#REF!,2,0)","v":{"$error":"#REF!"}}]
[233,"厦门城市职业学院",500405,"空中乘务","联办","厦门工商旅游学校","航空服务",700402,"厦门城市职业学院500405厦门工商旅游学校","是",{"$f":"VLOOKUP(I234,#REF!,2,0)","v":{"$error":"#REF!"}}]
[234,"厦门城市职业学院",500606,"城市轨道交通运营管理","联办","集美工业学校","城市轨道交通运营服务",700604,"厦门城市职业学院500606集美工业学校","是",{"$f":"VLOOKUP(I235,#REF!,2,0)","v":{"$error":"#REF!"}}]
[235,"厦门城市职业学院",530802,"现代物流管理","联办","厦门市海沧区职业中专学校","物流服务与管理",730801,"厦门城市职业学院530802厦门市海沧区职业中专学校","是",{"$f":"VLOOKUP(I236,#REF!,2,0)","v":{"$error":"#REF!"}}]
[236,"厦门演艺职业学院",530701,"电子商务","自办","自办","电子商务",730701,"厦门演艺职业学院530701自办","是",{"$f":"VLOOKUP(I237,#REF!,2,0)","v":{"$error":"#REF!"}}]
[237,"厦门演艺职业学院",550201,"音乐表演","自办","自办","音乐表演",750201,"厦门演艺职业学院550201自办","是",{"$f":"VLOOKUP(I238,#REF!,2,0)","v":{"$error":"#REF!"}}]
[238,"厦门演艺职业学院",550202,"舞蹈表演","自办","自办","舞蹈表演",750202,"厦门演艺职业学院550202自办","是",{"$f":"VLOOKUP(I239,#REF!,2,0)","v":{"$error":"#REF!"}}]
[239,"厦门演艺职业学院",550209,"国际标准舞","自办","自办","舞蹈表演",750202,"厦门演艺职业学院550209自办","是",{"$f":"VLOOKUP(I240,#REF!,2,0)","v":{"$error":"#REF!"}}]
[240,"厦门演艺职业学院",560201,"播音与主持","自办","自办","播音与主持",760201,"厦门演艺职业学院560201自办","是",{"$f":"VLOOKUP(I241,#REF!,2,0)","v":{"$error":"#REF!"}}]
[241,"厦门华天涉外职业技术学院",510201,"计算机应用技术","联办","仙游职业中专学校","计算机应用",710201,"厦门华天涉外职业技术学院510201仙游职业中专学校","是",{"$f":"VLOOKUP(I242,#REF!,2,0)","v":{"$error":"#REF!"}}]
[242,"厦门华天涉外职业技术学院",510215,"动漫制作技术","自办","自办","动漫与游戏制作",760204,"厦门华天涉外职业技术学院510215自办","是",{"$f":"VLOOKUP(I243,#REF!,2,0)","v":{"$error":"#REF!"}}]
[243,"厦门华天涉外职业技术学院",550102,"视觉传达设计","自办","自办","艺术设计与制作",750101,"厦门华天涉外职业技术学院550102自办","是",{"$f":"VLOOKUP(I244,#REF!,2,0)","v":{"$error":"#REF!"}}]
[244,"厦门华天涉外职业技术学院",550114,"室内艺术设计","自办","自办","建筑装饰技术",640102,"厦门华天涉外职业技术学院550114自办","是",{"$f":"VLOOKUP(I245,#REF!,2,0)","v":{"$error":"#REF!"}}]
[245,"厦门兴才职业技术学院",510201,"计算机应用技术","联办","安溪陈利职业中专学校","计算机应用",710201,"厦门兴才职业技术学院510201安溪陈利职业中专学校","是",{"$f":"VLOOKUP(I246,#REF!,2,0)","v":{"$error":"#REF!"}}]
[246,"厦门兴才职业技术学院",530302,"大数据与会计","联办","仙游职业中专学校","会计事务",730301,"厦门兴才职业技术学院530302仙游职业中专学校","是",{"$f":"VLOOKUP(I247,#REF!,2,0)","v":{"$error":"#REF!"}}]
[247,"厦门兴才职业技术学院",550113,"广告艺术设计","联办","仙游职业中专学校","工艺美术",750106,"厦门兴才职业技术学院550113仙游职业中专学校","是",{"$f":"VLOOKUP(I248,#REF!,2,0)","v":{"$error":"#REF!"}}]
[248,"厦门兴才职业技术学院",550116,"动漫设计","联办","晋江晋兴职业中专学校","动漫与游戏制作",760204,"厦门兴才职业技术学院550116晋江晋兴职业中专学校","是",{"$f":"VLOOKUP(I249,#REF!,2,0)","v":{"$error":"#REF!"}}]
[249,"厦门兴才职业技术学院","570102K","学前教育","联办","安溪陈利职业中专学校","幼儿保育",770101,"厦门兴才职业技术学院570102K安溪陈利职业中专学校","是",{"$f":"VLOOKUP(I250,#REF!,2,0)","v":{"$error":"#REF!"}}]
[250,"厦门兴才职业技术学院","570102K","学前教育","联办","晋江晋兴职业中专学校","幼儿保育",770101,"厦门兴才职业技术学院570102K晋江晋兴职业中专学校","是",{"$f":"VLOOKUP(I251,#REF!,2,0)","v":{"$error":"#REF!"}}]
[251,"厦门兴才职业技术学院","570102K","学前教育","联办","仙游职业中专学校","幼儿保育",770101,"厦门兴才职业技术学院570102K仙游职业中专学校","是",{"$f":"VLOOKUP(I252,#REF!,2,0)","v":{"$error":"#REF!"}}]
[252,"厦门软件职业技术学院",440106,"建筑室内设计","自办","自办","建筑装饰技术",640102,"厦门软件职业技术学院440106自办","是",{"$f":"VLOOKUP(I253,#REF!,2,0)","v":{"$error":"#REF!"}}]
[253,"厦门软件职业技术学院",510202,"计算机网络技术","联办","厦门市集美职业技术学校","计算机网络技术",710202,"厦门软件职业技术学院510202厦门市集美职业技术学校","是",{"$f":"VLOOKUP(I254,#REF!,2,0)","v":{"$error":"#REF!"}}]
[254,"厦门软件职业技术学院",510202,"计算机网络技术","自办","自办","计算机网络技术",710202,"厦门软件职业技术学院510202自办","是",{"$f":"VLOOKUP(I255,#REF!,2,0)","v":{"$error":"#REF!"}}]
[255,"厦门软件职业技术学院",510204,"数字媒体技术","自办","自办","数字媒体技术应用",710204,"厦门软件职业技术学院510204自办","是",{"$f":"VLOOKUP(I256,#REF!,2,0)","v":{"$error":"#REF!"}}]
[256,"厦门软件职业技术学院",510215,"动漫制作技术","联办","厦门市集美职业技术学校","动漫与游戏制作",760204,"厦门软件职业技术学院510215厦门市集美职业技术学校","是",{"$f":"VLOOKUP(I257,#REF!,2,0)","v":{"$error":"#REF!"}}]
[257,"厦门软件职业技术学院",530302,"大数据与会计","自办","自办","会计事务",730301,"厦门软件职业技术学院530302自办","是",{"$f":"VLOOKUP(I258,#REF!,2,0)","v":{"$error":"#REF!"}}]
[258,"厦门软件职业技术学院",530701,"电子商务","联办","厦门市集美职业技术学校","电子商务",730701,{"$f":"CONCATENATE(B259,C259,F259)","v":"厦门软件职业技术学院530701厦门市集美职业技术学校"},"是",{"$f":"VLOOKUP(I259,#REF!,2,0)","v":{"$error":"#REF!"}}]
[259,"厦门软件职业技术学院",530701,"电子商务","自办","自办","电子商务",730701,"厦门软件职业技术学院530701自办","是",{"$f":"VLOOKUP(I260,#REF!,2,0)","v":{"$error":"#REF!"}}]
[260,"厦门东海职业技术学院",440102,"建筑装饰工程技术","自办","自办","建筑装饰技术",640102,"厦门东海职业技术学院440102自办","是",{"$f":"VLOOKUP(I261,#REF!,2,0)","v":{"$error":"#REF!"}}]
[261,"厦门东海职业技术学院",460701,"汽车制造与试验技术","联办","厦门市同安职业技术学校","汽车运用与维修",700206,"厦门东海职业技术学院460701厦门市同安职业技术学校","是",{"$f":"VLOOKUP(I262,#REF!,2,0)","v":{"$error":"#REF!"}}]
[262,"厦门东海职业技术学院",500405,"空中乘务","联办","厦门市同安职业技术学校","旅游服务与管理",740101,"厦门东海职业技术学院500405厦门市同安职业技术学校","是",{"$f":"VLOOKUP(I263,#REF!,2,0)","v":{"$error":"#REF!"}}]
[263,"厦门东海职业技术学院",520201,"护理","自办","自办","护理",720201,"厦门东海职业技术学院520201自办","是",{"$f":"VLOOKUP(I264,#REF!,2,0)","v":{"$error":"#REF!"}}]
[264,"厦门东海职业技术学院",520802,"婴幼儿托育服务与管理","自办","自办","婴幼儿托育",720803,"厦门东海职业技术学院520802自办","是",{"$f":"VLOOKUP(I265,#REF!,2,0)","v":{"$error":"#REF!"}}]
[265,"厦门东海职业技术学院",530701,"电子商务","联办","厦门市同安职业技术学校","电子商务",730701,"厦门东海职业技术学院530701厦门市同安职业技术学校","是",{"$f":"VLOOKUP(I266,#REF!,2,0)","v":{"$error":"#REF!"}}]
[266,"厦门东海职业技术学院",550101,"艺术设计","自办","自办","艺术设计与制作",750101,"厦门东海职业技术学院550101自办","是",{"$f":"VLOOKUP(I267,#REF!,2,0)","v":{"$error":"#REF!"}}]
[267,"厦门东海职业技术学院",590302,"智慧健康养老服务与管理","自办","自办","智慧健康养老服务",790302,"厦门东海职业技术学院590302自办","是",{"$f":"VLOOKUP(I268,#REF!,2,0)","v":{"$error":"#REF!"}}]
[268,"厦门南洋职业学院",460609,"无人机应用技术","联办","龙岩市农业学校","无人机操控与维护",660601,"厦门南洋职业学院460609龙岩市农业学校","是",{"$f":"VLOOKUP(I269,#REF!,2,0)","v":{"$error":"#REF!"}}]
[269,"厦门南洋职业学院",500113,"高速铁路客运服务","联办","武平职业中专学校","旅游服务与管理",740101,"厦门南洋职业学院500113武平职业中专学校","是",{"$f":"VLOOKUP(I270,#REF!,2,0)","v":{"$error":"#REF!"}}]
[270,"厦门南洋职业学院",520201,"护理","自办","自办","护理",720201,"厦门南洋职业学院520201自办","是",{"$f":"VLOOKUP(I271,#REF!,2,0)","v":{"$error":"#REF!"}}]
[271,"厦门南洋职业学院",520802,"婴幼儿托育服务与管理","自办","自办","婴幼儿托育",720803,"厦门南洋职业学院520802自办","是",{"$f":"VLOOKUP(I272,#REF!,2,0)","v":{"$error":"#REF!"}}]
[272,"厦门南洋职业学院",530701,"电子商务","联办","永春职业中专学校","电子商务",730701,"厦门南洋职业学院530701永春职业中专学校","是",{"$f":"VLOOKUP(I273,#REF!,2,0)","v":{"$error":"#REF!"}}]
[273,"厦门南洋职业学院",530701,"电子商务","联办","建瓯职业中专学校","电子商务",730701,"厦门南洋职业学院530701建瓯职业中专学校","是",{"$f":"VLOOKUP(I274,#REF!,2,0)","v":{"$error":"#REF!"}}]
[274,"厦门南洋职业学院",550103,"数字媒体艺术设计","自办","自办","数字影像技术",750103,"厦门南洋职业学院550103自办","是",{"$f":"VLOOKUP(I275,#REF!,2,0)","v":{"$error":"#REF!"}}]
[275,"厦门南洋职业学院",550105,"服装与服饰设计","自办","自办","服装制作与生产管理",680406,"厦门南洋职业学院550105自办","是",{"$f":"VLOOKUP(I276,#REF!,2,0)","v":{"$error":"#REF!"}}]
[276,"厦门南洋职业学院",550106,"环境艺术设计","自办","自办","建筑装饰技术",640102,"厦门南洋职业学院550106自办","是",{"$f":"VLOOKUP(I277,#REF!,2,0)","v":{"$error":"#REF!"}}]
[277,"厦门南洋职业学院",550113,"广告艺术设计","自办","自办","艺术设计与制作",750101,"厦门南洋职业学院550113自办","是",{"$f":"VLOOKUP(I278,#REF!,2,0)","v":{"$error":"#REF!"}}]
[278,"厦门南洋职业学院",550116,"动漫设计","自办","自办","动漫与游戏制作",760204,"厦门南洋职业学院550116自办","是",{"$f":"VLOOKUP(I279,#REF!,2,0)","v":{"$error":"#REF!"}}]
[279,"厦门南洋职业学院",550201,"音乐表演","自办","自办","音乐表演",750201,"厦门南洋职业学院550201自办","是",{"$f":"VLOOKUP(I280,#REF!,2,0)","v":{"$error":"#REF!"}}]
[280,"厦门南洋职业学院",570301,"社会体育","自办","自办","休闲体育服务与管理",770302,"厦门南洋职业学院570301自办","是",{"$f":"VLOOKUP(I281,#REF!,2,0)","v":{"$error":"#REF!"}}]
[281,"厦门南洋职业学院",590301,"现代家政服务与管理","自办","自办","现代家政服务与管理",790301,"厦门南洋职业学院590301自办","是",{"$f":"VLOOKUP(I282,#REF!,2,0)","v":{"$error":"#REF!"}}]
[282,"厦门南洋职业学院","570102K","学前教育","自办","自办","幼儿保育",770101,"厦门南洋职业学院570102K自办","是",{"$f":"VLOOKUP(I283,#REF!,2,0)","v":{"$error":"#REF!"}}]
[283,"厦门安防科技职业学院",440406,"建筑消防技术","自办","自办","建筑智能化设备安装与运维",640401,"厦门安防科技职业学院440406自办","是",{"$f":"VLOOKUP(I284,#REF!,2,0)","v":{"$error":"#REF!"}}]
[284,"厦门安防科技职业学院",510102,"物联网应用技术","联办","漳州市交通职业技术学校","电子信息技术",710101,"厦门安防科技职业学院510102漳州市交通职业技术学校","是",{"$f":"VLOOKUP(I285,#REF!,2,0)","v":{"$error":"#REF!"}}]
[285,"厦门安防科技职业学院",510203,"软件技术","联办","泉州理工学校","计算机网络技术",710202,"厦门安防科技职业学院510203泉州理工学校","是",{"$f":"VLOOKUP(I286,#REF!,2,0)","v":{"$error":"#REF!"}}]
[286,"厦门安防科技职业学院",510203,"软件技术","联办","漳州市交通职业技术学校","电子信息技术",710101,"厦门安防科技职业学院510203漳州市交通职业技术学校","是",{"$f":"VLOOKUP(I287,#REF!,2,0)","v":{"$error":"#REF!"}}]
[287,"厦门安防科技职业学院",510204,"数字媒体技术","自办","自办","数字媒体技术应用",710204,"厦门安防科技职业学院510204自办","是",{"$f":"VLOOKUP(I288,#REF!,2,0)","v":{"$error":"#REF!"}}]
[288,"厦门安防科技职业学院",510215,"动漫制作技术","自办","自办","动漫与游戏制作",760204,"厦门安防科技职业学院510215自办","是",{"$f":"VLOOKUP(I289,#REF!,2,0)","v":{"$error":"#REF!"}}]
[289,"厦门安防科技职业学院",520801,"健康管理","自办","自办","营养与保健",720801,"厦门安防科技职业学院520801自办","是",{"$f":"VLOOKUP(I290,#REF!,2,0)","v":{"$error":"#REF!"}}]
[290,"厦门安防科技职业学院",520802,"婴幼儿托育服务与管理","自办","自办","婴幼儿托育",720803,"厦门安防科技职业学院520802自办","是",{"$f":"VLOOKUP(I291,#REF!,2,0)","v":{"$error":"#REF!"}}]
[291,"厦门安防科技职业学院",530304,"会计信息管理","联办","漳州市交通职业技术学校","会计事务",730301,"厦门安防科技职业学院530304漳州市交通职业技术学校","是",{"$f":"VLOOKUP(I292,#REF!,2,0)","v":{"$error":"#REF!"}}]
[292,"厦门安防科技职业学院",550114,"室内艺术设计","自办","自办","艺术设计与制作",750101,"厦门安防科技职业学院550114自办","是",{"$f":"VLOOKUP(I293,#REF!,2,0)","v":{"$error":"#REF!"}}]
[293,"厦门安防科技职业学院",570301,"社会体育","自办","自办","休闲体育服务与管理",770302,"厦门安防科技职业学院570301自办","是",{"$f":"VLOOKUP(I294,#REF!,2,0)","v":{"$error":"#REF!"}}]
[294,"漳州职业技术学院",440106,"建筑室内设计","联办","漳州第一职业中专学校","建筑装饰技术",640102,"漳州职业技术学院440106漳州第一职业中专学校","是",{"$f":"VLOOKUP(I295,#REF!,2,0)","v":{"$error":"#REF!"}}]
[295,"漳州职业技术学院",460101,"机械设计与制造","联办","南靖第一职业技术学校","机械加工技术",660102,"漳州职业技术学院460101南靖第一职业技术学校","是",{"$f":"VLOOKUP(I296,#REF!,2,0)","v":{"$error":"#REF!"}}]
[296,"漳州职业技术学院",460301,"机电一体化技术","联办","漳浦职业技术学校","机电技术应用",660301,"漳州职业技术学院460301漳浦职业技术学校","是",{"$f":"VLOOKUP(I297,#REF!,2,0)","v":{"$error":"#REF!"}}]
[297,"漳州职业技术学院",460301,"机电一体化技术","联办","漳州第一职业中专学校","电气设备运行与控制",660302,"漳州职业技术学院460301漳州第一职业中专学校","是",{"$f":"VLOOKUP(I298,#REF!,2,0)","v":{"$error":"#REF!"}}]
[298,"漳州职业技术学院",490101,"食品智能加工技术","联办","龙海职业技术学校","食品加工工艺",690101,"漳州职业技术学院490101龙海职业技术学校","是",{"$f":"VLOOKUP(I299,#REF!,2,0)","v":{"$error":"#REF!"}}]
[299,"漳州职业技术学院",490101,"食品智能加工技术","联办","漳州第一职业中专学校","食品加工工艺",690101,"漳州职业技术学院490101漳州第一职业中专学校","是",{"$f":"VLOOKUP(I300,#REF!,2,0)","v":{"$error":"#REF!"}}]
[300,"漳州职业技术学院",500211,"汽车检测与维修技术","联办","漳州高新职业技术学校","汽车运用与维修",700206,"漳州职业技术学院500211漳州高新职业技术学校","是",{"$f":"VLOOKUP(I301,#REF!,2,0)","v":{"$error":"#REF!"}}]
[301,"漳州职业技术学院",500211,"汽车检测与维修技术","联办","平和职业技术学校","汽车运用与维修",700206,"漳州职业技术学院500211平和职业技术学校","是",{"$f":"VLOOKUP(I302,#REF!,2,0)","v":{"$error":"#REF!"}}]
[302,"漳州职业技术学院",500211,"汽车检测与维修技术","联办","龙海职业技术学校","汽车制造与检测",660701,"漳州职业技术学院500211龙海职业技术学校","是",{"$f":"VLOOKUP(I303,#REF!,2,0)","v":{"$error":"#REF!"}}]
[303,"漳州职业技术学院",510101,"电子信息工程技术","联办","漳州高新职业技术学校","电子技术应用",710103,"漳州职业技术学院510101漳州高新职业技术学校","是",{"$f":"VLOOKUP(I304,#REF!,2,0)","v":{"$error":"#REF!"}}]
[304,"漳州职业技术学院",510102,"物联网应用技术","联办","漳州高新职业技术学校","计算机网络技术",710202,"漳州职业技术学院510102漳州高新职业技术学校","是",{"$f":"VLOOKUP(I305,#REF!,2,0)","v":{"$error":"#REF!"}}]
[305,"漳州职业技术学院",510103,"应用电子技术","联办","漳州第一职业中专学校","电子技术应用",710103,"漳州职业技术学院510103漳州第一职业中专学校","是",{"$f":"VLOOKUP(I306,#REF!,2,0)","v":{"$error":"#REF!"}}]
[306,"漳州职业技术学院",510103,"应用电子技术","联办","南靖第一职业技术学校","电子技术应用",710103,"漳州职业技术学院510103南靖第一职业技术学校","是",{"$f":"VLOOKUP(I307,#REF!,2,0)","v":{"$error":"#REF!"}}]
[307,"漳州职业技术学院",510204,"数字媒体技术","联办","漳州第一职业中专学校","计算机平面设计",710210,"漳州职业技术学院510204漳州第一职业中专学校","是",{"$f":"VLOOKUP(I308,#REF!,2,0)","v":{"$error":"#REF!"}}]
[308,"漳州职业技术学院",530701,"电子商务","联办","平和职业技术学校","电子商务",730701,"漳州职业技术学院530701平和职业技术学校","是",{"$f":"VLOOKUP(I309,#REF!,2,0)","v":{"$error":"#REF!"}}]
[309,"漳州职业技术学院",530701,"电子商务","联办","华安职业技术学校","电子商务",730701,"漳州职业技术学院530701华安职业技术学校","是",{"$f":"VLOOKUP(I310,#REF!,2,0)","v":{"$error":"#REF!"}}]
[310,"漳州职业技术学院",540101,"旅游管理","联办","漳州高新职业技术学校","旅游服务与管理",740101,"漳州职业技术学院540101漳州高新职业技术学校","是",{"$f":"VLOOKUP(I311,#REF!,2,0)","v":{"$error":"#REF!"}}]
[311,"漳州职业技术学院",540101,"旅游管理","联办","南靖第一职业技术学校","旅游服务与管理",740101,"漳州职业技术学院540101南靖第一职业技术学校","是",{"$f":"VLOOKUP(I312,#REF!,2,0)","v":{"$error":"#REF!"}}]
[312,"漳州职业技术学院",540101,"旅游管理","联办","东山岛职业中专学校","旅游服务与管理",740101,"漳州职业技术学院540101东山岛职业中专学校","是",{"$f":"VLOOKUP(I313,#REF!,2,0)","v":{"$error":"#REF!"}}]
[313,"漳州卫生职业学院",490203,"药物制剂技术","联办","漳平职业中专学校","药剂",720301,"漳州卫生职业学院490203漳平职业中专学校","是",{"$f":"VLOOKUP(I314,#REF!,2,0)","v":{"$error":"#REF!"}}]
[314,"漳州卫生职业学院",490210,"智能医疗装备技术","联办","南靖第一职业技术学校","医疗设备安装与维护",690206,"漳州卫生职业学院490210南靖第一职业技术学校","是",{"$f":"VLOOKUP(I315,#REF!,2,0)","v":{"$error":"#REF!"}}]
[315,"漳州卫生职业学院",520504,"口腔医学技术","联办","漳平职业中专学校","口腔修复工艺",720504,"漳州卫生职业学院520504漳平职业中专学校","是",{"$f":"VLOOKUP(I316,#REF!,2,0)","v":{"$error":"#REF!"}}]
[316,"漳州卫生职业学院",520601,"康复治疗技术","联办","南靖第一职业技术学校","康复技术",720601,"漳州卫生职业学院520601南靖第一职业技术学校","是",{"$f":"VLOOKUP(I317,#REF!,2,0)","v":{"$error":"#REF!"}}]
[317,"漳州城市职业学院",490102,"食品质量与安全","联办","诏安职业技术学校","食品加工工艺",690101,"漳州城市职业学院490102诏安职业技术学校","是",{"$f":"VLOOKUP(I318,#REF!,2,0)","v":{"$error":"#REF!"}}]
[318,"漳州城市职业学院",530301,"大数据与财务管理","联办","漳州高新职业技术学校","会计事务",730301,"漳州城市职业学院530301漳州高新职业技术学校","是",{"$f":"VLOOKUP(I319,#REF!,2,0)","v":{"$error":"#REF!"}}]
[319,"漳州城市职业学院","570102K","学前教育","自办","自办","幼儿保育",770101,"漳州城市职业学院570102K自办","是",{"$f":"VLOOKUP(I320,#REF!,2,0)","v":{"$error":"#REF!"}}]
[320,"漳州城市职业学院","570102K","学前教育","联办","漳州高新职业技术学校","幼儿保育",770101,"漳州城市职业学院570102K漳州高新职业技术学校","是",{"$f":"VLOOKUP(I321,#REF!,2,0)","v":{"$error":"#REF!"}}]
[321,"漳州城市职业学院","570102K","学前教育","联办","东山岛职业中专学校","幼儿保育",770101,"漳州城市职业学院570102K东山岛职业中专学校","是",{"$f":"VLOOKUP(I322,#REF!,2,0)","v":{"$error":"#REF!"}}]
[322,"漳州城市职业学院","570102K","学前教育","联办","云霄职业技术学校","幼儿保育",770101,{"$f":"CONCATENATE(B323,C323,F323)","v":"漳州城市职业学院570102K云霄职业技术学校"},"是",{"$f":"VLOOKUP(I323,#REF!,2,0)","v":{"$error":"#REF!"}}]
[323,"漳州城市职业学院","570102K","学前教育","联办","漳浦职业技术学校","幼儿保育",770101,"漳州城市职业学院570102K漳浦职业技术学校","是",{"$f":"VLOOKUP(I324,#REF!,2,0)","v":{"$error":"#REF!"}}]
[324,"漳州城市职业学院","570102K","学前教育","联办","龙海职业技术学校","幼儿保育",770101,"漳州城市职业学院570102K龙海职业技术学校","是",{"$f":"VLOOKUP(I325,#REF!,2,0)","v":{"$error":"#REF!"}}]
[325,"漳州科技职业学院",410107,"茶叶生产与加工技术","自办","自办","茶叶生产与加工",610107,"漳州科技职业学院410107自办","是",{"$f":"VLOOKUP(I326,#REF!,2,0)","v":{"$error":"#REF!"}}]
[326,"漳州科技职业学院",440502,"建设工程管理","自办","自办","建设项目材料管理",640502,"漳州科技职业学院440502自办","是",{"$f":"VLOOKUP(I327,#REF!,2,0)","v":{"$error":"#REF!"}}]
[327,"漳州科技职业学院",490101,"食品智能加工技术","自办","自办","食品加工工艺",690101,"漳州科技职业学院490101自办","是",{"$f":"VLOOKUP(I328,#REF!,2,0)","v":{"$error":"#REF!"}}]
[328,"漳州科技职业学院",490101,"食品智能加工技术","联办","漳州高新职业技术学校","食品加工工艺",690101,"漳州科技职业学院490101漳州高新职业技术学校","是",{"$f":"VLOOKUP(I329,#REF!,2,0)","v":{"$error":"#REF!"}}]
[329,"漳州科技职业学院",490101,"食品智能加工技术","联办","漳浦职业技术学校","食品加工工艺",690101,"漳州科技职业学院490101漳浦职业技术学校","是",{"$f":"VLOOKUP(I330,#REF!,2,0)","v":{"$error":"#REF!"}}]
[330,"漳州科技职业学院",490104,"食品检验检测技术","自办","自办","食品安全与检测技术",690104,"漳州科技职业学院490104自办","是",{"$f":"VLOOKUP(I331,#REF!,2,0)","v":{"$error":"#REF!"}}]
[331,"漳州科技职业学院",520201,"护理","自办","自办","护理",720201,"漳州科技职业学院520201自办","是",{"$f":"VLOOKUP(I332,#REF!,2,0)","v":{"$error":"#REF!"}}]
[332,"漳州科技职业学院",530302,"大数据与会计","联办","东山岛职业中专学校","会计事务",730301,"漳州科技职业学院530302东山岛职业中专学校","是",{"$f":"VLOOKUP(I333,#REF!,2,0)","v":{"$error":"#REF!"}}]
[333,"漳州科技职业学院",530701,"电子商务","联办","云霄职业技术学校","电子商务",730701,"漳州科技职业学院530701云霄职业技术学校","是",{"$f":"VLOOKUP(I334,#REF!,2,0)","v":{"$error":"#REF!"}}]
[334,"漳州科技职业学院",530701,"电子商务","联办","东山岛职业中专学校","电子商务",730701,"漳州科技职业学院530701东山岛职业中专学校","是",{"$f":"VLOOKUP(I335,#REF!,2,0)","v":{"$error":"#REF!"}}]
[335,"漳州科技职业学院",530704,"网络营销与直播电商","自办","自办","网络营销",730704,"漳州科技职业学院530704自办","是",{"$f":"VLOOKUP(I336,#REF!,2,0)","v":{"$error":"#REF!"}}]
[336,"漳州科技职业学院",540101,"旅游管理","联办","漳浦职业技术学校","旅游服务与管理",740101,"漳州科技职业学院540101漳浦职业技术学校","是",{"$f":"VLOOKUP(I337,#REF!,2,0)","v":{"$error":"#REF!"}}]
[337,"漳州科技职业学院",540101,"旅游管理","联办","东山岛职业中专学校","旅游服务与管理",740101,"漳州科技职业学院540101东山岛职业中专学校","是",{"$f":"VLOOKUP(I338,#REF!,2,0)","v":{"$error":"#REF!"}}]
[338,"漳州科技职业学院",540109,"茶艺与茶文化","自办","自办","茶艺与茶营销",740105,"漳州科技职业学院540109自办","是",{"$f":"VLOOKUP(I339,#REF!,2,0)","v":{"$error":"#REF!"}}]
[339,"漳州科技职业学院",550101,"艺术设计","自办","自办","艺术设计与制作",750101,"漳州科技职业学院550101自办","是",{"$f":"VLOOKUP(I340,#REF!,2,0)","v":{"$error":"#REF!"}}]
[340,"漳州科技职业学院",550103,"数字媒体艺术设计","自办","自办","数字媒体技术应用",710204,"漳州科技职业学院550103自办","是",{"$f":"VLOOKUP(I341,#REF!,2,0)","v":{"$error":"#REF!"}}]
[341,"漳州科技职业学院",550104,"产品艺术设计","联办","漳州第一职业中专学校","艺术设计与制作",750101,"漳州科技职业学院550104漳州第一职业中专学校","是",{"$f":"VLOOKUP(I342,#REF!,2,0)","v":{"$error":"#REF!"}}]
[342,"漳州科技职业学院",550114,"室内艺术设计","自办","自办","建筑装饰技术",640102,"漳州科技职业学院550114自办","是",{"$f":"VLOOKUP(I343,#REF!,2,0)","v":{"$error":"#REF!"}}]
[343,"漳州科技职业学院","570102K","学前教育","自办","自办"," 幼儿保育",770101,"漳州科技职业学院570102K自办","是",{"$f":"VLOOKUP(I344,#REF!,2,0)","v":{"$error":"#REF!"}}]
[344,"漳州科技职业学院","570102K","学前教育","联办","东山岛职业中专学校","幼儿保育",770101,"漳州科技职业学院570102K东山岛职业中专学校","是",{"$f":"VLOOKUP(I345,#REF!,2,0)","v":{"$error":"#REF!"}}]
[345,"漳州理工职业学院",460301,"机电一体化技术","联办","漳浦职业技术学校","机电技术应用",660301,"漳州理工职业学院460301漳浦职业技术学校","是",{"$f":"VLOOKUP(I346,#REF!,2,0)","v":{"$error":"#REF!"}}]
[346,"漳州理工职业学院",460301,"机电一体化技术","联办","诏安职业技术学校","机电技术应用",660301,"漳州理工职业学院460301诏安职业技术学校","是",{"$f":"VLOOKUP(I347,#REF!,2,0)","v":{"$error":"#REF!"}}]
[347,"漳州理工职业学院",460701,"汽车制造与试验技术","联办","诏安职业技术学校","汽车车身修复",700207,"漳州理工职业学院460701诏安职业技术学校","是",{"$f":"VLOOKUP(I348,#REF!,2,0)","v":{"$error":"#REF!"}}]
[348,"漳州理工职业学院",460702,"新能源汽车技术","联办","漳州市交通职业技术学校","汽车运用与维修",700206,"漳州理工职业学院460702漳州市交通职业技术学校","是",{"$f":"VLOOKUP(I349,#REF!,2,0)","v":{"$error":"#REF!"}}]
[349,"漳州理工职业学院",480302,"印刷媒体技术","自办","自办","印刷媒体技术",680301,"漳州理工职业学院480302自办","是",{"$f":"VLOOKUP(I350,#REF!,2,0)","v":{"$error":"#REF!"}}]
[350,"漳州理工职业学院",510103,"应用电子技术","联办","漳浦职业技术学校","电子技术应用",710103,"漳州理工职业学院510103漳浦职业技术学校","是",{"$f":"VLOOKUP(I351,#REF!,2,0)","v":{"$error":"#REF!"}}]
[351,"漳州理工职业学院",510103,"应用电子技术","联办","漳州市交通职业技术学校","电子信息技术",710101,"漳州理工职业学院510103漳州市交通职业技术学校","是",{"$f":"VLOOKUP(I352,#REF!,2,0)","v":{"$error":"#REF!"}}]
[352,"漳州理工职业学院",510202,"计算机网络技术","自办","自办","计算机网络技术",90500,"漳州理工职业学院510202自办","是",{"$f":"VLOOKUP(I353,#REF!,2,0)","v":{"$error":"#REF!"}}]
[353,"漳州理工职业学院",510203,"软件技术","联办","漳浦职业技术学校","计算机应用",710201,"漳州理工职业学院510203漳浦职业技术学校","是",{"$f":"VLOOKUP(I354,#REF!,2,0)","v":{"$error":"#REF!"}}]
[354,"漳州理工职业学院",520201,"护理","自办","自办","护理",100100,"漳州理工职业学院520201自办","是",{"$f":"VLOOKUP(I355,#REF!,2,0)","v":{"$error":"#REF!"}}]
[355,"漳州理工职业学院",520802,"婴幼儿托育服务与管理","自办","自办","婴幼儿托育",720803,"漳州理工职业学院520802自办","是",{"$f":"VLOOKUP(I356,#REF!,2,0)","v":{"$error":"#REF!"}}]
[356,"漳州理工职业学院",530701,"电子商务","自办","自办","电子商务",121100,"漳州理工职业学院530701自办","是",{"$f":"VLOOKUP(I357,#REF!,2,0)","v":{"$error":"#REF!"}}]
[357,"漳州理工职业学院",550101,"艺术设计","自办","自办","工艺美术",750106,"漳州理工职业学院550101自办","是",{"$f":"VLOOKUP(I358,#REF!,2,0)","v":{"$error":"#REF!"}}]
[358,"漳州理工职业学院",550103,"数字媒体艺术设计","自办","自办","数字影像技术",141900,"漳州理工职业学院550103自办","是",{"$f":"VLOOKUP(I359,#REF!,2,0)","v":{"$error":"#REF!"}}]
[359,"漳州理工职业学院",550106,"环境艺术设计","自办","自办","工艺品设计与制作",750112,"漳州理工职业学院550106自办","是",{"$f":"VLOOKUP(I360,#REF!,2,0)","v":{"$error":"#REF!"}}]
[360,"漳州理工职业学院",550113,"广告艺术设计","自办","自办","美术设计与制作",142200,"漳州理工职业学院550113自办","是",{"$f":"VLOOKUP(I361,#REF!,2,0)","v":{"$error":"#REF!"}}]
[361,"漳州理工职业学院",570301,"社会体育","自办","自办","运动训练",150100,"漳州理工职业学院570301自办","是",{"$f":"VLOOKUP(I362,#REF!,2,0)","v":{"$error":"#REF!"}}]
[362,"黎明职业大学",440106,"建筑室内设计","联办","上杭职业中专学校","建筑工程施工",640301,"黎明职业大学440106上杭职业中专学校","是",{"$f":"VLOOKUP(I363,#REF!,2,0)","v":{"$error":"#REF!"}}]
[363,"黎明职业大学",440601,"市政工程技术","联办","惠安开成职业中专学校","市政工程施工",640601,"黎明职业大学440601惠安开成职业中专学校","是",{"$f":"VLOOKUP(I364,#REF!,2,0)","v":{"$error":"#REF!"}}]
[364,"黎明职业大学",460101,"机械设计与制造","联办","泉州市泉港区职业中专学校","智能设备运行与维护",660201,"黎明职业大学460101泉州市泉港区职业中专学校","是",{"$f":"VLOOKUP(I365,#REF!,2,0)","v":{"$error":"#REF!"}}]
[365,"黎明职业大学",460103,"数控技术","联办","永春职业中专学校","数控技术应用",660103,"黎明职业大学460103永春职业中专学校","是",{"$f":"VLOOKUP(I366,#REF!,2,0)","v":{"$error":"#REF!"}}]
[366,"黎明职业大学",460103,"数控技术","联办","南安职业中专学校","数控技术应用",660103,"黎明职业大学460103南安职业中专学校","是",{"$f":"VLOOKUP(I367,#REF!,2,0)","v":{"$error":"#REF!"}}]
[367,"黎明职业大学",470201,"应用化工技术","联办","泉州市泉港区职业中专学校","分析检验技术",670207,"黎明职业大学470201泉州市泉港区职业中专学校","是",{"$f":"VLOOKUP(I368,#REF!,2,0)","v":{"$error":"#REF!"}}]
[368,"黎明职业大学",470201,"应用化工技术","联办","清流县高级职业中学","化学工艺",670201,"黎明职业大学470201清流县高级职业中学","是",{"$f":"VLOOKUP(I369,#REF!,2,0)","v":{"$error":"#REF!"}}]
[369,"黎明职业大学",480402,"服装设计与工艺","联办","晋江职业中专学校","服装设计与工艺",680402,"黎明职业大学480402晋江职业中专学校","是",{"$f":"VLOOKUP(I370,#REF!,2,0)","v":{"$error":"#REF!"}}]
[370,"黎明职业大学",490104,"食品检验检测技术","联办","晋江市晋兴职业中专学校","食品加工工艺",690101,"黎明职业大学490104晋江市晋兴职业中专学校","是",{"$f":"VLOOKUP(I371,#REF!,2,0)","v":{"$error":"#REF!"}}]
[371,"黎明职业大学",490104,"食品检验检测技术","联办","福建经贸学校","食品加工工艺",690101,"黎明职业大学490104福建经贸学校","是",{"$f":"VLOOKUP(I372,#REF!,2,0)","v":{"$error":"#REF!"}}]
[372,"黎明职业大学",510107,"汽车智能技术","联办","晋江华侨职业中专学校","新能源汽车运用与维修",700209,"黎明职业大学510107晋江华侨职业中专学校","是",{"$f":"VLOOKUP(I373,#REF!,2,0)","v":{"$error":"#REF!"}}]
[373,"黎明职业大学",510215,"动漫制作技术","联办","晋江华侨职业中专学校","动漫与游戏制作",760204,"黎明职业大学510215晋江华侨职业中专学校","是",{"$f":"VLOOKUP(I374,#REF!,2,0)","v":{"$error":"#REF!"}}]
[374,"黎明职业大学",510215,"动漫制作技术","联办","厦门信息学校","动漫与游戏制作",760204,"黎明职业大学510215厦门信息学校","是",{"$f":"VLOOKUP(I375,#REF!,2,0)","v":{"$error":"#REF!"}}]
[375,"黎明职业大学",530701,"电子商务","联办","安溪陈利职业中专学校","电子商务",730701,"黎明职业大学530701安溪陈利职业中专学校","是",{"$f":"VLOOKUP(I376,#REF!,2,0)","v":{"$error":"#REF!"}}]
[376,"黎明职业大学",540101,"旅游管理","联办","泉州市工商旅游职业中专学校","旅游服务与管理",740101,"黎明职业大学540101泉州市工商旅游职业中专学校","是",{"$f":"VLOOKUP(I377,#REF!,2,0)","v":{"$error":"#REF!"}}]
[377,"泉州幼儿师范高等专科学校",540113,"休闲服务与管理","联办","晋江华侨职业中专学校","旅游服务与管理",740101,"泉州幼儿师范高等专科学校540113晋江华侨职业中专学校","是",{"$f":"VLOOKUP(I378,#REF!,2,0)","v":{"$error":"#REF!"}}]
[378,"泉州幼儿师范高等专科学校",540113,"休闲服务与管理","联办","石狮鹏山工贸学校","高星级饭店运营与管理",740104,"泉州幼儿师范高等专科学校540113石狮鹏山工贸学校","是",{"$f":"VLOOKUP(I379,#REF!,2,0)","v":{"$error":"#REF!"}}]
[379,"泉州幼儿师范高等专科学校","570102K","学前教育","联办","泉州华侨职业中专学校","幼儿保育",770101,"泉州幼儿师范高等专科学校570102K泉州华侨职业中专学校","是",{"$f":"VLOOKUP(I380,#REF!,2,0)","v":{"$error":"#REF!"}}]
[380,"泉州幼儿师范高等专科学校","570102K","学前教育","联办","龙岩华侨职业中专学校","幼儿保育",770101,"泉州幼儿师范高等专科学校570102K龙岩华侨职业中专学校","是",{"$f":"VLOOKUP(I381,#REF!,2,0)","v":{"$error":"#REF!"}}]
[381,"泉州幼儿师范高等专科学校","570102K","学前教育","联办","晋江华侨职业中专学校","幼儿保育",770101,"泉州幼儿师范高等专科学校570102K晋江华侨职业中专学校","是",{"$f":"VLOOKUP(I382,#REF!,2,0)","v":{"$error":"#REF!"}}]
[382,"泉州幼儿师范高等专科学校","570102K","学前教育","联办","厦门信息学校","幼儿保育",770101,"泉州幼儿师范高等专科学校570102K厦门信息学校","是",{"$f":"VLOOKUP(I383,#REF!,2,0)","v":{"$error":"#REF!"}}]
[383,"泉州幼儿师范高等专科学校","570102K","学前教育","联办","石狮鹏山工贸学校","幼儿保育",770101,"泉州幼儿师范高等专科学校570102K石狮鹏山工贸学校","是",{"$f":"VLOOKUP(I384,#REF!,2,0)","v":{"$error":"#REF!"}}]
[384,"泉州幼儿师范高等专科学校","570102K","学前教育","联办","泉州市工商旅游职业中专学校","幼儿保育",770101,"泉州幼儿师范高等专科学校570102K泉州市工商旅游职业中专学校","是",{"$f":"VLOOKUP(I385,#REF!,2,0)","v":{"$error":"#REF!"}}]
[385,"泉州幼儿师范高等专科学校","570102K","学前教育","联办","平和职业技术学校","幼儿保育",770101,"泉州幼儿师范高等专科学校570102K平和职业技术学校","是",{"$f":"VLOOKUP(I386,#REF!,2,0)","v":{"$error":"#REF!"}}]
[386,"泉州幼儿师范高等专科学校","570102K","学前教育","联办","莆田职业技术学校","幼儿保育",770101,{"$f":"CONCATENATE(B387,C387,F387)","v":"泉州幼儿师范高等专科学校570102K莆田职业技术学校"},"是",{"$f":"VLOOKUP(I387,#REF!,2,0)","v":{"$error":"#REF!"}}]
[387,"泉州幼儿师范高等专科学校","570102K","学前教育","联办","三明工贸学校","幼儿保育",770101,"泉州幼儿师范高等专科学校570102K三明工贸学校","是",{"$f":"VLOOKUP(I388,#REF!,2,0)","v":{"$error":"#REF!"}}]
[388,"泉州幼儿师范高等专科学校","570102K","学前教育","联办","南安职业中专学校","幼儿保育",770101,"泉州幼儿师范高等专科学校570102K南安职业中专学校","是",{"$f":"VLOOKUP(I389,#REF!,2,0)","v":{"$error":"#REF!"}}]
[389,"泉州幼儿师范高等专科学校","570112K","舞蹈教育","联办","泉州艺术学校","舞蹈表演",750202,"泉州幼儿师范高等专科学校570112K泉州艺术学校","是",{"$f":"VLOOKUP(I390,#REF!,2,0)","v":{"$error":"#REF!"}}]
[390,"泉州幼儿师范高等专科学校","570113K","艺术教育","联办","泉州艺术学校","音乐表演",750201,"泉州幼儿师范高等专科学校570113K泉州艺术学校","是",{"$f":"VLOOKUP(I391,#REF!,2,0)","v":{"$error":"#REF!"}}]
[391,"泉州经贸职业技术学院",480402,"服装设计与工艺","联办","福建经贸学校","服装设计与工艺",680402,"泉州经贸职业技术学院480402福建经贸学校","是",{"$f":"VLOOKUP(I392,#REF!,2,0)","v":{"$error":"#REF!"}}]
[392,"泉州经贸职业技术学院",480402,"服装设计与工艺","联办","惠安职业中专学校","服装设计与工艺",680402,"泉州经贸职业技术学院480402惠安职业中专学校","是",{"$f":"VLOOKUP(I393,#REF!,2,0)","v":{"$error":"#REF!"}}]
[393,"泉州经贸职业技术学院",480402,"服装设计与工艺","联办","厦门市集美职业技术学校","服装设计与工艺",680402,"泉州经贸职业技术学院480402厦门市集美职业技术学校","是",{"$f":"VLOOKUP(I394,#REF!,2,0)","v":{"$error":"#REF!"}}]
[394,"泉州经贸职业技术学院",500211,"汽车检测与维修技术","联办","南安市工业学校","汽车运用与维修",700206,"泉州经贸职业技术学院500211南安市工业学校","是",{"$f":"VLOOKUP(I395,#REF!,2,0)","v":{"$error":"#REF!"}}]
[395,"泉州经贸职业技术学院",510103,"应用电子技术","联办","南安市工业学校","电子信息技术",710101,"泉州经贸职业技术学院510103南安市工业学校","是",{"$f":"VLOOKUP(I396,#REF!,2,0)","v":{"$error":"#REF!"}},"停招"]
[396,"泉州经贸职业技术学院",510201,"计算机应用技术","联办","南安职业中专学校","计算机网络技术",710202,"泉州经贸职业技术学院510201南安职业中专学校","是",{"$f":"VLOOKUP(I397,#REF!,2,0)","v":{"$error":"#REF!"}}]
[397,"泉州经贸职业技术学院",510201,"计算机应用技术","联办","泉州市农业学校","计算机应用",710201,"泉州经贸职业技术学院510201泉州市农业学校","是",{"$f":"VLOOKUP(I398,#REF!,2,0)","v":{"$error":"#REF!"}}]
[398,"泉州经贸职业技术学院",530304,"会计信息管理","联办","安溪陈利职业中专学校","会计事务",730301,"泉州经贸职业技术学院530304安溪陈利职业中专学校","是",{"$f":"VLOOKUP(I399,#REF!,2,0)","v":{"$error":"#REF!"}}]
[399,"泉州经贸职业技术学院",530304,"会计信息管理","联办","石狮鹏山工贸学校","会计事务",730301,"泉州经贸职业技术学院530304石狮鹏山工贸学校","是",{"$f":"VLOOKUP(I400,#REF!,2,0)","v":{"$error":"#REF!"}}]
[400,"泉州经贸职业技术学院",530402,"统计与会计核算","联办","惠安职业中专学校","会计事务",730301,"泉州经贸职业技术学院530402惠安职业中专学校","是",{"$f":"VLOOKUP(I401,#REF!,2,0)","v":{"$error":"#REF!"}}]
[401,"泉州经贸职业技术学院",530402,"统计与会计核算","联办","泉州市农业学校","会计事务",730301,"泉州经贸职业技术学院530402泉州市农业学校","是",{"$f":"VLOOKUP(I402,#REF!,2,0)","v":{"$error":"#REF!"}}]
[402,"泉州经贸职业技术学院",530701,"电子商务","联办","南安职业中专学校","电子商务",730701,"泉州经贸职业技术学院530701南安职业中专学校","是",{"$f":"VLOOKUP(I403,#REF!,2,0)","v":{"$error":"#REF!"}}]
[403,"泉州经贸职业技术学院",530701,"电子商务","联办","泉州市农业学校","电子商务",730701,"泉州经贸职业技术学院530701泉州市农业学校","是",{"$f":"VLOOKUP(I404,#REF!,2,0)","v":{"$error":"#REF!"}}]
[404,"泉州经贸职业技术学院",530802,"现代物流管理","联办","福建经贸学校","物流服务与管理",730801,"泉州经贸职业技术学院530802福建经贸学校","是",{"$f":"VLOOKUP(I405,#REF!,2,0)","v":{"$error":"#REF!"}}]
[405,"泉州经贸职业技术学院",530802,"现代物流管理","联办","晋江职业中专学校","物流服务与管理",730801,"泉州经贸职业技术学院530802晋江职业中专学校","是",{"$f":"VLOOKUP(I406,#REF!,2,0)","v":{"$error":"#REF!"}}]
[406,"泉州经贸职业技术学院",550103,"数字媒体艺术设计","联办","闽清职业中专学校","动漫与游戏制作",760204,"泉州经贸职业技术学院550103闽清职业中专学校","是",{"$f":"VLOOKUP(I407,#REF!,2,0)","v":{"$error":"#REF!"}}]
[407,"泉州经贸职业技术学院",550103,"数字媒体艺术设计","联办","永安职业中专学校","数字媒体技术应用",710204,"泉州经贸职业技术学院550103永安职业中专学校","是",{"$f":"VLOOKUP(I408,#REF!,2,0)","v":{"$error":"#REF!"}}]
[408,"泉州经贸职业技术学院",550113,"广告艺术设计","联办","连城县职业中专学校","计算机平面设计",710210,"泉州经贸职业技术学院550113连城县职业中专学校","是",{"$f":"VLOOKUP(I409,#REF!,2,0)","v":{"$error":"#REF!"}}]
[409,"泉州工艺美术职业学院",530701,"电子商务","联办","德化职业技术学校","电子商务",730701,"泉州工艺美术职业学院530701德化职业技术学校","是",{"$f":"VLOOKUP(I410,#REF!,2,0)","v":{"$error":"#REF!"}}]
[410,"泉州工艺美术职业学院",540113,"休闲服务与管理","联办","德化职业技术学校","旅游服务与管理",740101,"泉州工艺美术职业学院540113德化职业技术学校","是",{"$f":"VLOOKUP(I411,#REF!,2,0)","v":{"$error":"#REF!"}}]
[411,"泉州工艺美术职业学院",550101,"艺术设计","联办","德化职业技术学校","工艺美术",750106,"泉州工艺美术职业学院550101德化职业技术学校","是",{"$f":"VLOOKUP(I412,#REF!,2,0)","v":{"$error":"#REF!"}}]
[412,"泉州工艺美术职业学院",550102,"视觉传达设计","联办","福建经贸学校","工艺美术",750106,"泉州工艺美术职业学院550102福建经贸学校","是",{"$f":"VLOOKUP(I413,#REF!,2,0)","v":{"$error":"#REF!"}}]
[413,"泉州工艺美术职业学院",550102,"视觉传达设计","联办","德化职业技术学校","艺术设计与制作",750101,"泉州工艺美术职业学院550102德化职业技术学校","是",{"$f":"VLOOKUP(I414,#REF!,2,0)","v":{"$error":"#REF!"}}]
[414,"泉州工艺美术职业学院",550103,"数字媒体艺术设计","联办","福建经贸学校","计算机平面设计",710210,"泉州工艺美术职业学院550103福建经贸学校","是",{"$f":"VLOOKUP(I415,#REF!,2,0)","v":{"$error":"#REF!"}}]
[415,"泉州工艺美术职业学院",550103,"数字媒体艺术设计","联办","惠安职业中专学校","艺术设计与制作",750101,"泉州工艺美术职业学院550103惠安职业中专学校","是",{"$f":"VLOOKUP(I416,#REF!,2,0)","v":{"$error":"#REF!"}}]
[416,"泉州工艺美术职业学院",550112,"工艺美术品设计","联办","惠安开成职业中专学校","工艺美术",750106,"泉州工艺美术职业学院550112惠安开成职业中专学校","是",{"$f":"VLOOKUP(I417,#REF!,2,0)","v":{"$error":"#REF!"}}]
[417,"泉州轻工职业学院",440106,"建筑室内设计","联办","晋江市晋兴职业中专学校","建筑装饰技术",640102,"泉州轻工职业学院440106晋江市晋兴职业中专学校","是",{"$f":"VLOOKUP(I418,#REF!,2,0)","v":{"$error":"#REF!"}}]
[418,"泉州轻工职业学院",440301,"建筑工程技术","联办","惠安职业中专学校","建筑工程施工",640301,"泉州轻工职业学院440301惠安职业中专学校","是",{"$f":"VLOOKUP(I419,#REF!,2,0)","v":{"$error":"#REF!"}}]
[419,"泉州轻工职业学院",440301,"建筑工程技术","联办","泉州市工商旅游职业中专学校","建筑工程施工",640301,"泉州轻工职业学院440301泉州市工商旅游职业中专学校","是",{"$f":"VLOOKUP(I420,#REF!,2,0)","v":{"$error":"#REF!"}}]
[420,"泉州轻工职业学院",460301,"机电一体化技术","联办","南安市工业学校","机电技术应用",660301,"泉州轻工职业学院460301南安市工业学校","是",{"$f":"VLOOKUP(I421,#REF!,2,0)","v":{"$error":"#REF!"}}]
[421,"泉州轻工职业学院",460301,"机电一体化技术","联办","晋江职业中专学校","机电技术应用",660301,"泉州轻工职业学院460301晋江职业中专学校","是",{"$f":"VLOOKUP(I422,#REF!,2,0)","v":{"$error":"#REF!"}}]
[422,"泉州轻工职业学院",480104,"鞋类设计与工艺","联办","晋江华侨职业中专学校","皮革制品设计与制作",750104,"泉州轻工职业学院480104晋江华侨职业中专学校","是",{"$f":"VLOOKUP(I423,#REF!,2,0)","v":{"$error":"#REF!"}}]
[423,"泉州轻工职业学院",490104,"食品检验检测技术","联办","龙海职业技术学校","食品加工工艺",690101,"泉州轻工职业学院490104龙海职业技术学校","是",{"$f":"VLOOKUP(I424,#REF!,2,0)","v":{"$error":"#REF!"}}]
[424,"泉州轻工职业学院",490104,"食品检验检测技术","联办","惠安职业中专学校","食品加工工艺",690101,"泉州轻工职业学院490104惠安职业中专学校","是",{"$f":"VLOOKUP(I425,#REF!,2,0)","v":{"$error":"#REF!"}}]
[425,"泉州轻工职业学院",510215,"动漫制作技术","联办","泉州市泉中职业中专学校","动漫与游戏制作",760204,"泉州轻工职业学院510215泉州市泉中职业中专学校","是",{"$f":"VLOOKUP(I426,#REF!,2,0)","v":{"$error":"#REF!"}}]
[426,"泉州轻工职业学院",510215,"动漫制作技术","联办","南安职业中专学校","动漫与游戏制作",760204,"泉州轻工职业学院510215南安职业中专学校","是",{"$f":"VLOOKUP(I427,#REF!,2,0)","v":{"$error":"#REF!"}}]
[427,"泉州轻工职业学院",530301,"大数据与财务管理","联办","晋江华侨职业中专学校","会计事务",730301,"泉州轻工职业学院530301晋江华侨职业中专学校","是",{"$f":"VLOOKUP(I428,#REF!,2,0)","v":{"$error":"#REF!"}}]
[428,"泉州轻工职业学院",530301,"大数据与财务管理","联办","漳州第一职业中专学校","会计事务",730301,"泉州轻工职业学院530301漳州第一职业中专学校","是",{"$f":"VLOOKUP(I429,#REF!,2,0)","v":{"$error":"#REF!"}}]
[429,"泉州轻工职业学院",530701,"电子商务","联办","泉州市工商旅游职业中专学校","电子商务",730701,"泉州轻工职业学院530701泉州市工商旅游职业中专学校","是",{"$f":"VLOOKUP(I430,#REF!,2,0)","v":{"$error":"#REF!"}}]
[430,"泉州轻工职业学院",540204,"西式烹饪工艺","联办","福鼎职业中专学校","西餐烹饪",740202,"泉州轻工职业学院540204福鼎职业中专学校","是",{"$f":"VLOOKUP(I431,#REF!,2,0)","v":{"$error":"#REF!"}}]
[431,"泉州轻工职业学院",540204,"西式烹饪工艺","联办","惠安职业中专学校","中餐烹饪",740201,"泉州轻工职业学院540204惠安职业中专学校","是",{"$f":"VLOOKUP(I432,#REF!,2,0)","v":{"$error":"#REF!"}}]
[432,"泉州轻工职业学院",550105,"服装与服饰设计","联办","永春职业中专学校","服装设计与工艺",680402,"泉州轻工职业学院550105永春职业中专学校","是",{"$f":"VLOOKUP(I433,#REF!,2,0)","v":{"$error":"#REF!"}}]
[433,"泉州轻工职业学院",550105,"服装与服饰设计","联办","泉州市泉中职业中专学校","服装设计与工艺",680402,"泉州轻工职业学院550105泉州市泉中职业中专学校","是",{"$f":"VLOOKUP(I434,#REF!,2,0)","v":{"$error":"#REF!"}}]
[434,"泉州轻工职业学院",550105,"服装与服饰设计","联办","莆田职业技术学校","服装制作与生产管理",680406,"泉州轻工职业学院550105莆田职业技术学校","是",{"$f":"VLOOKUP(I435,#REF!,2,0)","v":{"$error":"#REF!"}}]
[435,"泉州轻工职业学院",550113,"广告艺术设计","联办","南安职业中专学校","艺术设计与制作",750101,"泉州轻工职业学院550113南安职业中专学校","是",{"$f":"VLOOKUP(I436,#REF!,2,0)","v":{"$error":"#REF!"}}]
[436,"泉州轻工职业学院",550113,"广告艺术设计","联办","晋江职业中专学校","计算机平面设计",710210,"泉州轻工职业学院550113晋江职业中专学校","是",{"$f":"VLOOKUP(I437,#REF!,2,0)","v":{"$error":"#REF!"}}]
[437,"泉州纺织服装职业学院",480402,"服装设计与工艺","自办","自办","服装设计与工艺",680402,"泉州纺织服装职业学院480402自办","是",{"$f":"VLOOKUP(I438,#REF!,2,0)","v":{"$error":"#REF!"}}]
[438,"泉州纺织服装职业学院",520201,"护理","自办","自办","护理",720201,"泉州纺织服装职业学院520201自办","是",{"$f":"VLOOKUP(I439,#REF!,2,0)","v":{"$error":"#REF!"}}]
[439,"泉州纺织服装职业学院",520802,"婴幼儿托育服务与管理","联办","漳州市交通职业技术学校","幼儿保育",770101,"泉州纺织服装职业学院520802漳州市交通职业技术学校","是",{"$f":"VLOOKUP(I440,#REF!,2,0)","v":{"$error":"#REF!"}}]
[440,"泉州纺织服装职业学院",520802,"婴幼儿托育服务与管理","自办","自办","幼儿保育",770101,"泉州纺织服装职业学院520802自办","是",{"$f":"VLOOKUP(I441,#REF!,2,0)","v":{"$error":"#REF!"}}]
[441,"泉州纺织服装职业学院",530701,"电子商务","自办","自办","电子商务",730701,"泉州纺织服装职业学院530701自办","是",{"$f":"VLOOKUP(I442,#REF!,2,0)","v":{"$error":"#REF!"}}]
[442,"泉州纺织服装职业学院",550105,"服装与服饰设计","自办","自办","服装设计与工艺",680402,"泉州纺织服装职业学院550105自办","是",{"$f":"VLOOKUP(I443,#REF!,2,0)","v":{"$error":"#REF!"}}]
[443,"泉州纺织服装职业学院",550106,"环境艺术设计","自办","自办","建筑装饰技术",640102,"泉州纺织服装职业学院550106自办","是",{"$f":"VLOOKUP(I444,#REF!,2,0)","v":{"$error":"#REF!"}}]
[444,"泉州纺织服装职业学院",550114,"室内艺术设计","自办","自办","建筑装饰技术",640102,"泉州纺织服装职业学院550114自办","是",{"$f":"VLOOKUP(I445,#REF!,2,0)","v":{"$error":"#REF!"}}]
[445,"泉州纺织服装职业学院",550117,"人物形象设计","自办","自办","美发与形象设计",750110,"泉州纺织服装职业学院550117自办","是",{"$f":"VLOOKUP(I446,#REF!,2,0)","v":{"$error":"#REF!"}}]
[446,"泉州纺织服装职业学院",570301,"社会体育","自办","自办","休闲体育服务与管理",770302,"泉州纺织服装职业学院570301自办","是",{"$f":"VLOOKUP(I447,#REF!,2,0)","v":{"$error":"#REF!"}}]
[447,"泉州华光职业学院",440106,"建筑室内设计","联办","惠安职业中专学校","建筑装饰技术",640102,"泉州华光职业学院440106惠安职业中专学校","是",{"$f":"VLOOKUP(I448,#REF!,2,0)","v":{"$error":"#REF!"}}]
[448,"泉州华光职业学院",510204,"数字媒体技术","联办","集美工业学校","数字媒体技术应用",710204,"泉州华光职业学院510204集美工业学校","是",{"$f":"VLOOKUP(I449,#REF!,2,0)","v":{"$error":"#REF!"}}]
[449,"泉州华光职业学院",520802,"婴幼儿托育服务与管理","联办","惠安职业中专学校","幼儿保育",770101,"泉州华光职业学院520802惠安职业中专学校","是",{"$f":"VLOOKUP(I450,#REF!,2,0)","v":{"$error":"#REF!"}}]
[450,"泉州华光职业学院",530701,"电子商务","联办","惠安开成职业中专学校","电子商务",730701,{"$f":"CONCATENATE(B451,C451,F451)","v":"泉州华光职业学院530701惠安开成职业中专学校"},"是",{"$f":"VLOOKUP(I451,#REF!,2,0)","v":{"$error":"#REF!"}}]
[451,"泉州华光职业学院",550105,"服装与服饰设计","自办","自办","服装设计与工艺",680402,"泉州华光职业学院550105自办","是",{"$f":"VLOOKUP(I452,#REF!,2,0)","v":{"$error":"#REF!"}}]
[452,"泉州华光职业学院",550113,"广告艺术设计","联办","安溪华侨职业中专学校","艺术设计与制作",750101,"泉州华光职业学院550113安溪华侨职业中专学校","是",{"$f":"VLOOKUP(I453,#REF!,2,0)","v":{"$error":"#REF!"}}]
[453,"泉州华光职业学院",550113,"广告艺术设计","自办","自办","艺术设计与制作",750101,"泉州华光职业学院550113自办","是",{"$f":"VLOOKUP(I454,#REF!,2,0)","v":{"$error":"#REF!"}}]
[454,"泉州华光职业学院",550114,"室内艺术设计","自办","自办","建筑装饰技术",640102,"泉州华光职业学院550114自办","是",{"$f":"VLOOKUP(I455,#REF!,2,0)","v":{"$error":"#REF!"}}]
[455,"泉州华光职业学院",550118,"摄影与摄像艺术","自办","自办","影像与影视技术",760203,"泉州华光职业学院550118自办","是",{"$f":"VLOOKUP(I456,#REF!,2,0)","v":{"$error":"#REF!"}}]
[456,"泉州华光职业学院",550204,"表演艺术","自办","自办","舞蹈表演",750202,"泉州华光职业学院550204自办","是",{"$f":"VLOOKUP(I457,#REF!,2,0)","v":{"$error":"#REF!"}}]
[457,"泉州华光职业学院",570302,"休闲体育","自办","自办","休闲体育服务与管理",770302,"泉州华光职业学院570302自办","是",{"$f":"VLOOKUP(I458,#REF!,2,0)","v":{"$error":"#REF!"}}]
[458,"泉州华光职业学院","570102K","学前教育","联办","惠安职业中专学校","幼儿保育",770101,"泉州华光职业学院570102K惠安职业中专学校","是",{"$f":"VLOOKUP(I459,#REF!,2,0)","v":{"$error":"#REF!"}}]
[459,"泉州华光职业学院","570102K","学前教育","自办","自办","幼儿保育",770101,"泉州华光职业学院570102K自办","是",{"$f":"VLOOKUP(I460,#REF!,2,0)","v":{"$error":"#REF!"}}]
[460,"泉州华光职业学院","570102K","学前教育","联办","泉州华侨职业中专学校","幼儿保育",770101,"泉州华光职业学院570102K泉州华侨职业中专学校","是",{"$f":"VLOOKUP(I461,#REF!,2,0)","v":{"$error":"#REF!"}}]
[461,"泉州华光职业学院","570102K","学前教育","联办","南安职业中专学校","幼儿保育",770101,"泉州华光职业学院570102K南安职业中专学校","是",{"$f":"VLOOKUP(I462,#REF!,2,0)","v":{"$error":"#REF!"}}]
[462,"泉州华光职业学院","570102K","学前教育","联办","泉州市工商旅游职业中专学校","幼儿保育",770101,"泉州华光职业学院570102K泉州市工商旅游职业中专学校","是",{"$f":"VLOOKUP(I463,#REF!,2,0)","v":{"$error":"#REF!"}}]
[463,"泉州海洋职业学院",460301,"机电一体化技术","联办","仙游职业中专学校","数控技术应用",660103,"泉州海洋职业学院460301仙游职业中专学校","是",{"$f":"VLOOKUP(I464,#REF!,2,0)","v":{"$error":"#REF!"}}]
[464,"泉州海洋职业学院",500113,"高速铁路客运服务","联办","南平市农业学校","城市轨道交通运营服务",700604,"泉州海洋职业学院500113南平市农业学校","是",{"$f":"VLOOKUP(I465,#REF!,2,0)","v":{"$error":"#REF!"}},"停招"]
[465,"泉州海洋职业学院",500113,"高速铁路客运服务","联办","福建省民政学校","铁道运输服务",700107,"泉州海洋职业学院500113福建省民政学校","是",{"$f":"VLOOKUP(I466,#REF!,2,0)","v":{"$error":"#REF!"}}]
[466,"泉州海洋职业学院",500113,"高速铁路客运服务","联办","南平机电职业学校","高速铁路乘务",700108,"泉州海洋职业学院500113南平机电职业学校","是",{"$f":"VLOOKUP(I467,#REF!,2,0)","v":{"$error":"#REF!"}},"停招"]
[467,"泉州海洋职业学院",500301,"航海技术","自办","自办","船舶机工与水手",700302,"泉州海洋职业学院500301自办","是",{"$f":"VLOOKUP(I468,#REF!,2,0)","v":{"$error":"#REF!"}}]
[468,"泉州海洋职业学院",500301,"航海技术","联办","福建海洋职业技术学校","船舶驾驶",700301,"泉州海洋职业学院500301福建海洋职业技术学校","是",{"$f":"VLOOKUP(I469,#REF!,2,0)","v":{"$error":"#REF!"}}]
[469,"泉州海洋职业学院",500303,"轮机工程技术","自办","自办","船舶机工与水手",700302,"泉州海洋职业学院500303自办","是",{"$f":"VLOOKUP(I470,#REF!,2,0)","v":{"$error":"#REF!"}}]
[470,"泉州海洋职业学院",500303,"轮机工程技术","联办","福建海洋职业技术学校","轮机维护与管理",700303,"泉州海洋职业学院500303福建海洋职业技术学校","是",{"$f":"VLOOKUP(I471,#REF!,2,0)","v":{"$error":"#REF!"}}]
[471,"泉州海洋职业学院",500405,"空中乘务","自办","自办","航空服务",700402,"泉州海洋职业学院500405自办","是",{"$f":"VLOOKUP(I472,#REF!,2,0)","v":{"$error":"#REF!"}}]
[472,"泉州海洋职业学院",530701,"电子商务","联办","石狮鹏山工贸学校","电子商务",730701,"泉州海洋职业学院530701石狮鹏山工贸学校","是",{"$f":"VLOOKUP(I473,#REF!,2,0)","v":{"$error":"#REF!"}}]
[473,"泉州海洋职业学院",550101,"艺术设计","自办","自办","艺术设计与制作",750101,"泉州海洋职业学院550101自办","是",{"$f":"VLOOKUP(I474,#REF!,2,0)","v":{"$error":"#REF!"}}]
[474,"泉州海洋职业学院",550204,"表演艺术","自办","自办","音乐表演",750201,"泉州海洋职业学院550204自办","是",{"$f":"VLOOKUP(I475,#REF!,2,0)","v":{"$error":"#REF!"}}]
[475,"泉州海洋职业学院",570301,"社会体育","自办","自办","休闲体育服务与管理",770302,"泉州海洋职业学院570301自办","是",{"$f":"VLOOKUP(I476,#REF!,2,0)","v":{"$error":"#REF!"}}]
[476,"泉州工程职业技术学院",460301,"机电一体化技术","自办","自办","机电技术应用",660301,"泉州工程职业技术学院460301自办","是",{"$f":"VLOOKUP(I477,#REF!,2,0)","v":{"$error":"#REF!"}}]
[477,"泉州工程职业技术学院",490208,"药品经营与管理","自办","自办","药品食品检验",690204,"泉州工程职业技术学院490208自办","是",{"$f":"VLOOKUP(I478,#REF!,2,0)","v":{"$error":"#REF!"}}]
[478,"泉州工程职业技术学院",510203,"软件技术","自办","自办","软件与信息服务",710203,"泉州工程职业技术学院510203自办","是",{"$f":"VLOOKUP(I479,#REF!,2,0)","v":{"$error":"#REF!"}}]
[479,"三明医学科技职业学院",440502,"建设工程管理","联办","尤溪职业中专学校","建筑工程施工",640301,"三明医学科技职业学院440502尤溪职业中专学校","是",{"$f":"VLOOKUP(I480,#REF!,2,0)","v":{"$error":"#REF!"}}]
[480,"三明医学科技职业学院",440502,"建设工程管理","联办","福州建筑工程职业中专学校","建筑工程施工",640301,"三明医学科技职业学院440502福州建筑工程职业中专学校","是",{"$f":"VLOOKUP(I481,#REF!,2,0)","v":{"$error":"#REF!"}}]
[481,"三明医学科技职业学院",440502,"建设工程管理","联办","三明工贸学校","建筑工程施工",640301,"三明医学科技职业学院440502三明工贸学校","是",{"$f":"VLOOKUP(I482,#REF!,2,0)","v":{"$error":"#REF!"}}]
[482,"三明医学科技职业学院",460103,"数控技术","联办","福建理工学校","数控技术应用",660103,"三明医学科技职业学院460103福建理工学校","是",{"$f":"VLOOKUP(I483,#REF!,2,0)","v":{"$error":"#REF!"}}]
[483,"三明医学科技职业学院",460103,"数控技术","联办","永安职业中专学校","数控技术应用",660103,"三明医学科技职业学院460103永安职业中专学校","是",{"$f":"VLOOKUP(I484,#REF!,2,0)","v":{"$error":"#REF!"}}]
[484,"三明医学科技职业学院",460103,"数控技术","联办","三明市农业学校","数控技术应用",660103,"三明医学科技职业学院460103三明市农业学校","是",{"$f":"VLOOKUP(I485,#REF!,2,0)","v":{"$error":"#REF!"}}]
[485,"三明医学科技职业学院",460103,"数控技术","联办","南安职业中专学校","数控技术应用",660103,"三明医学科技职业学院460103南安职业中专学校","是",{"$f":"VLOOKUP(I486,#REF!,2,0)","v":{"$error":"#REF!"}}]
[486,"三明医学科技职业学院",460104,"机械制造及自动化","联办","尤溪职业中专学校","机械加工技术",660102,"三明医学科技职业学院460104尤溪职业中专学校","是",{"$f":"VLOOKUP(I487,#REF!,2,0)","v":{"$error":"#REF!"}}]
[487,"三明医学科技职业学院",460104,"机械制造及自动化","联办","大田职业中专学校","机械制造技术",660101,"三明医学科技职业学院460104大田职业中专学校","是",{"$f":"VLOOKUP(I488,#REF!,2,0)","v":{"$error":"#REF!"}}]
[488,"三明医学科技职业学院",460104,"机械制造及自动化","联办","三明工贸学校","机电技术应用",660301,"三明医学科技职业学院460104三明工贸学校","是",{"$f":"VLOOKUP(I489,#REF!,2,0)","v":{"$error":"#REF!"}}]
[489,"三明医学科技职业学院",460301,"机电一体化技术","联办","永安职业中专学校","电子技术应用",710103,"三明医学科技职业学院460301永安职业中专学校","是",{"$f":"VLOOKUP(I490,#REF!,2,0)","v":{"$error":"#REF!"}}]
[490,"三明医学科技职业学院",460301,"机电一体化技术","联办","闽清职业中专学校","电子技术应用",710103,"三明医学科技职业学院460301闽清职业中专学校","是",{"$f":"VLOOKUP(I491,#REF!,2,0)","v":{"$error":"#REF!"}}]
[491,"三明医学科技职业学院",460301,"机电一体化技术","联办","厦门市集美职业技术学校","机电技术应用",660301,"三明医学科技职业学院460301厦门市集美职业技术学校","是",{"$f":"VLOOKUP(I492,#REF!,2,0)","v":{"$error":"#REF!"}}]
[492,"三明医学科技职业学院",460303,"智能控制技术","联办","福建三明林业学校","数控技术应用",660103,"三明医学科技职业学院460303福建三明林业学校","是",{"$f":"VLOOKUP(I493,#REF!,2,0)","v":{"$error":"#REF!"}}]
[493,"三明医学科技职业学院",460303,"智能控制技术","联办","安溪华侨职业中专学校","电子技术应用",710103,"三明医学科技职业学院460303安溪华侨职业中专学校","是",{"$f":"VLOOKUP(I494,#REF!,2,0)","v":{"$error":"#REF!"}}]
[494,"三明医学科技职业学院",460303,"智能控制技术","联办","长乐职业中专学校","工业机器人技术应用",660303,"三明医学科技职业学院460303长乐职业中专学校","是",{"$f":"VLOOKUP(I495,#REF!,2,0)","v":{"$error":"#REF!"}}]
[495,"三明医学科技职业学院",460701,"汽车制造与试验技术","联办","三明工贸学校","汽车运用与维修",700206,"三明医学科技职业学院460701三明工贸学校","是",{"$f":"VLOOKUP(I496,#REF!,2,0)","v":{"$error":"#REF!"}}]
[496,"三明医学科技职业学院",460701,"汽车制造与试验技术","联办","安溪华侨职业中专学校","汽车运用与维修",700206,"三明医学科技职业学院460701安溪华侨职业中专学校","是",{"$f":"VLOOKUP(I497,#REF!,2,0)","v":{"$error":"#REF!"}}]
[497,"三明医学科技职业学院",460701,"汽车制造与试验技术","联办","厦门市集美职业技术学校","汽车车身修复",700207,"三明医学科技职业学院460701厦门市集美职业技术学校","是",{"$f":"VLOOKUP(I498,#REF!,2,0)","v":{"$error":"#REF!"}}]
[498,"三明医学科技职业学院",520201,"护理","自办","自办","护理",720201,"三明医学科技职业学院520201自办","是",{"$f":"VLOOKUP(I499,#REF!,2,0)","v":{"$error":"#REF!"}}]
[499,"三明医学科技职业学院",520301,"药学","联办","三明市农业学校","药剂",720301,"三明医学科技职业学院520301三明市农业学校","是",{"$f":"VLOOKUP(I500,#REF!,2,0)","v":{"$error":"#REF!"}}]
[500,"三明医学科技职业学院",530304,"会计信息管理","联办","永安职业中专学校","会计事务",730301,"三明医学科技职业学院530304永安职业中专学校","是",{"$f":"VLOOKUP(I501,#REF!,2,0)","v":{"$error":"#REF!"}}]
[501,"三明医学科技职业学院",530304,"会计信息管理","联办","南安职业中专学校","会计事务",730301,"三明医学科技职业学院530304南安职业中专学校","是",{"$f":"VLOOKUP(I502,#REF!,2,0)","v":{"$error":"#REF!"}}]
[502,"三明医学科技职业学院",530304,"会计信息管理","联办","福建三明林业学校","会计事务",730301,"三明医学科技职业学院530304福建三明林业学校","是",{"$f":"VLOOKUP(I503,#REF!,2,0)","v":{"$error":"#REF!"}}]
[503,"三明医学科技职业学院",530304,"会计信息管理","联办","厦门工商旅游学校","会计事务",730301,"三明医学科技职业学院530304厦门工商旅游学校","是",{"$f":"VLOOKUP(I504,#REF!,2,0)","v":{"$error":"#REF!"}}]
[504,"三明医学科技职业学院",530304,"会计信息管理","联办","尤溪职业中专学校","会计事务",730301,"三明医学科技职业学院530304尤溪职业中专学校","是",{"$f":"VLOOKUP(I505,#REF!,2,0)","v":{"$error":"#REF!"}}]
[505,"三明医学科技职业学院",530701,"电子商务","联办","福建三明林业学校","电子商务",730701,"三明医学科技职业学院530701福建三明林业学校","是",{"$f":"VLOOKUP(I506,#REF!,2,0)","v":{"$error":"#REF!"}}]
[506,"三明医学科技职业学院",530701,"电子商务","联办","三明市金湖旅游职业中专学校","电子商务",730701,"三明医学科技职业学院530701三明市金湖旅游职业中专学校","是",{"$f":"VLOOKUP(I507,#REF!,2,0)","v":{"$error":"#REF!"}}]
[507,"三明医学科技职业学院",530701,"电子商务","联办","尤溪职业中专学校","电子商务",730701,"三明医学科技职业学院530701尤溪职业中专学校","是",{"$f":"VLOOKUP(I508,#REF!,2,0)","v":{"$error":"#REF!"}}]
[508,"三明医学科技职业学院",540101,"旅游管理","联办","三明市金湖旅游职业中专学校","旅游服务与管理",740101,"三明医学科技职业学院540101三明市金湖旅游职业中专学校","是",{"$f":"VLOOKUP(I509,#REF!,2,0)","v":{"$error":"#REF!"}}]
[509,"三明医学科技职业学院",540101,"旅游管理","联办","厦门工商旅游学校","旅游服务与管理",740101,"三明医学科技职业学院540101厦门工商旅游学校","是",{"$f":"VLOOKUP(I510,#REF!,2,0)","v":{"$error":"#REF!"}}]
[510,"三明医学科技职业学院",540106,"酒店管理与数字化运营","联办","永安职业中专学校","旅游服务与管理",740101,"三明医学科技职业学院540106永安职业中专学校","是",{"$f":"VLOOKUP(I511,#REF!,2,0)","v":{"$error":"#REF!"}}]
[511,"三明医学科技职业学院",550102,"视觉传达设计","联办","福建第二轻工业学校","计算机平面设计",710210,"三明医学科技职业学院550102福建第二轻工业学校","是",{"$f":"VLOOKUP(I512,#REF!,2,0)","v":{"$error":"#REF!"}}]
[512,"三明医学科技职业学院",550102,"视觉传达设计","联办","福建理工学校","计算机平面设计",710210,"三明医学科技职业学院550102福建理工学校","是",{"$f":"VLOOKUP(I513,#REF!,2,0)","v":{"$error":"#REF!"}}]
[513,"三明医学科技职业学院",550103,"数字媒体艺术设计","联办","安溪华侨职业中专学校","数字影像技术",750103,"三明医学科技职业学院550103安溪华侨职业中专学校","是",{"$f":"VLOOKUP(I514,#REF!,2,0)","v":{"$error":"#REF!"}}]
[514,"三明医学科技职业学院",550103,"数字媒体艺术设计","联办","三明市金湖旅游职业中专学校","数字媒体技术应用",710204,{"$f":"CONCATENATE(B515,C515,F515)","v":"三明医学科技职业学院550103三明市金湖旅游职业中专学校"},"是",{"$f":"VLOOKUP(I515,#REF!,2,0)","v":{"$error":"#REF!"}}]
[515,"三明医学科技职业学院",550105,"服装与服饰设计","联办","安溪华侨职业中专学校","服装设计与工艺",680402,"三明医学科技职业学院550105安溪华侨职业中专学校","是",{"$f":"VLOOKUP(I516,#REF!,2,0)","v":{"$error":"#REF!"}}]
[516,"三明医学科技职业学院","570101K","早期教育","联办","三明工贸学校","幼儿保育",770101,"三明医学科技职业学院570101K三明工贸学校","是",{"$f":"VLOOKUP(I517,#REF!,2,0)","v":{"$error":"#REF!"}}]
[517,"三明医学科技职业学院","570101K","早期教育","联办","南安职业中专学校","幼儿保育",770101,"三明医学科技职业学院570101K南安职业中专学校","是",{"$f":"VLOOKUP(I518,#REF!,2,0)","v":{"$error":"#REF!"}}]
[518,"三明医学科技职业学院","570101K","早期教育","联办","闽清职业中专学校","幼儿保育",770101,"三明医学科技职业学院570101K闽清职业中专学校","是",{"$f":"VLOOKUP(I519,#REF!,2,0)","v":{"$error":"#REF!"}}]
[519,"三明医学科技职业学院","570102K","学前教育","联办","三明工贸学校","幼儿保育",770101,"三明医学科技职业学院570102K三明工贸学校","是",{"$f":"VLOOKUP(I520,#REF!,2,0)","v":{"$error":"#REF!"}}]
[520,"三明医学科技职业学院","570102K","学前教育","联办","厦门工商旅游学校","幼儿保育",770101,"三明医学科技职业学院570102K厦门工商旅游学校","是",{"$f":"VLOOKUP(I521,#REF!,2,0)","v":{"$error":"#REF!"}}]
[521,"三明医学科技职业学院","570102K","学前教育","联办","尤溪职业中专学校","幼儿保育",770101,"三明医学科技职业学院570102K尤溪职业中专学校","是",{"$f":"VLOOKUP(I522,#REF!,2,0)","v":{"$error":"#REF!"}}]
[522,"湄洲湾职业技术学院",440301,"建筑工程技术","联办","湄洲湾职业技术学校","建筑工程施工",640301,"湄洲湾职业技术学院440301湄洲湾职业技术学校","是",{"$f":"VLOOKUP(I523,#REF!,2,0)","v":{"$error":"#REF!"}}]
[523,"湄洲湾职业技术学院",440301,"建筑工程技术","联办","仙游华侨职业中专学校","建筑工程施工",640301,"湄洲湾职业技术学院440301仙游华侨职业中专学校","是",{"$f":"VLOOKUP(I524,#REF!,2,0)","v":{"$error":"#REF!"}}]
[524,"湄洲湾职业技术学院",460103,"数控技术","联办","湄洲湾职业技术学校","数控技术应用",660103,"湄洲湾职业技术学院460103湄洲湾职业技术学校","是",{"$f":"VLOOKUP(I525,#REF!,2,0)","v":{"$error":"#REF!"}}]
[525,"湄洲湾职业技术学院",460103,"数控技术","联办","莆田华侨职业中专学校","数控技术应用",660103,"湄洲湾职业技术学院460103莆田华侨职业中专学校","是",{"$f":"VLOOKUP(I526,#REF!,2,0)","v":{"$error":"#REF!"}}]
[526,"湄洲湾职业技术学院",460301,"机电一体化技术","联办","湄洲湾职业技术学校","机电技术应用",660301,"湄洲湾职业技术学院460301湄洲湾职业技术学校","是",{"$f":"VLOOKUP(I527,#REF!,2,0)","v":{"$error":"#REF!"}}]
[527,"湄洲湾职业技术学院",460301,"机电一体化技术","联办","莆田华侨职业中专学校","机电技术应用",660301,"湄洲湾职业技术学院460301莆田华侨职业中专学校","是",{"$f":"VLOOKUP(I528,#REF!,2,0)","v":{"$error":"#REF!"}}]
[528,"湄洲湾职业技术学院",460305,"工业机器人技术","联办","湄洲湾职业技术学校","工业机器人技术应用",660303,"湄洲湾职业技术学院460305湄洲湾职业技术学校","是",{"$f":"VLOOKUP(I529,#REF!,2,0)","v":{"$error":"#REF!"}}]
[529,"湄洲湾职业技术学院",460305,"工业机器人技术","联办","南安职业中专学校","工业机器人技术应用",660303,"湄洲湾职业技术学院460305南安职业中专学校","是",{"$f":"VLOOKUP(I530,#REF!,2,0)","v":{"$error":"#REF!"}}]
[530,"湄洲湾职业技术学院",460306,"电气自动化技术","联办","湄洲湾职业技术学校","电气设备运行与控制",660302,"湄洲湾职业技术学院460306湄洲湾职业技术学校","是",{"$f":"VLOOKUP(I531,#REF!,2,0)","v":{"$error":"#REF!"}}]
[531,"湄洲湾职业技术学院",460701,"汽车制造与试验技术","联办","湄洲湾职业技术学校","汽车运用与维修",700206,"湄洲湾职业技术学院460701湄洲湾职业技术学校","是",{"$f":"VLOOKUP(I532,#REF!,2,0)","v":{"$error":"#REF!"}}]
[532,"湄洲湾职业技术学院",470201,"应用化工技术","联办","清流县高级职业中学","化学工艺",670201,"湄洲湾职业技术学院470201清流县高级职业中学","是",{"$f":"VLOOKUP(I533,#REF!,2,0)","v":{"$error":"#REF!"}}]
[533,"湄洲湾职业技术学院",470201,"应用化工技术","联办","湄洲湾职业技术学校","化学工艺",670201,"湄洲湾职业技术学院470201湄洲湾职业技术学校","是",{"$f":"VLOOKUP(I534,#REF!,2,0)","v":{"$error":"#REF!"}}]
[534,"湄洲湾职业技术学院",510101,"电子信息工程技术","联办","湄洲湾职业技术学校","电子信息技术",710101,"湄洲湾职业技术学院510101湄洲湾职业技术学校","是",{"$f":"VLOOKUP(I535,#REF!,2,0)","v":{"$error":"#REF!"}}]
[535,"湄洲湾职业技术学院",510101,"电子信息工程技术","联办","莆田职业技术学校","电子信息技术",710101,"湄洲湾职业技术学院510101莆田职业技术学校","是",{"$f":"VLOOKUP(I536,#REF!,2,0)","v":{"$error":"#REF!"}}]
[536,"湄洲湾职业技术学院",510215,"动漫制作技术","联办","湄洲湾职业技术学校","动漫与游戏制作",760204,"湄洲湾职业技术学院510215湄洲湾职业技术学校","是",{"$f":"VLOOKUP(I537,#REF!,2,0)","v":{"$error":"#REF!"}}]
[537,"湄洲湾职业技术学院",520201,"护理","联办","莆田卫生学校","护理",720201,"湄洲湾职业技术学院520201莆田卫生学校","是",{"$f":"VLOOKUP(I538,#REF!,2,0)","v":{"$error":"#REF!"}}]
[538,"闽北职业技术学院",440106,"建筑室内设计","联办","南平市武夷旅游商贸学校","建筑装饰技术",640102,"闽北职业技术学院440106南平市武夷旅游商贸学校","是",{"$f":"VLOOKUP(I539,#REF!,2,0)","v":{"$error":"#REF!"}}]
[539,"闽北职业技术学院",460103,"数控技术","联办","福建经贸学校","数控技术应用",660103,"闽北职业技术学院460103福建经贸学校","是",{"$f":"VLOOKUP(I540,#REF!,2,0)","v":{"$error":"#REF!"}}]
[540,"闽北职业技术学院",460103,"数控技术","联办","松溪县中等职业技术学校","机械加工技术",660102,"闽北职业技术学院460103松溪县中等职业技术学校","是",{"$f":"VLOOKUP(I541,#REF!,2,0)","v":{"$error":"#REF!"}}]
[541,"闽北职业技术学院",460301,"机电一体化技术","联办","邵武职业中专学校","电子技术应用",710103,"闽北职业技术学院460301邵武职业中专学校","是",{"$f":"VLOOKUP(I542,#REF!,2,0)","v":{"$error":"#REF!"}}]
[542,"闽北职业技术学院",460301,"机电一体化技术","联办","南平机电职业学校","机电技术应用",660301,"闽北职业技术学院460301南平机电职业学校","是",{"$f":"VLOOKUP(I543,#REF!,2,0)","v":{"$error":"#REF!"}}]
[543,"闽北职业技术学院",490101,"食品智能加工技术","联办","南平职业中专学校","食品加工工艺",690101,"闽北职业技术学院490101南平职业中专学校","是",{"$f":"VLOOKUP(I544,#REF!,2,0)","v":{"$error":"#REF!"}}]
[544,"闽北职业技术学院",490104,"食品检验检测技术","联办","福建经贸学校","粮油储运与检验技术",690302,"闽北职业技术学院490104福建经贸学校","是",{"$f":"VLOOKUP(I545,#REF!,2,0)","v":{"$error":"#REF!"}}]
[545,"闽北职业技术学院",490104,"食品检验检测技术","联办","南平市农业学校","农产品贮藏与加工",610115,"闽北职业技术学院490104南平市农业学校","是",{"$f":"VLOOKUP(I546,#REF!,2,0)","v":{"$error":"#REF!"}}]
[546,"闽北职业技术学院",510201,"计算机应用技术","联办","南平职业中专学校","计算机应用",710201,"闽北职业技术学院510201南平职业中专学校","是",{"$f":"VLOOKUP(I547,#REF!,2,0)","v":{"$error":"#REF!"}}]
[547,"闽北职业技术学院",510201,"计算机应用技术","联办","南平市农业学校","动漫与游戏制作",760204,"闽北职业技术学院510201南平市农业学校","是",{"$f":"VLOOKUP(I548,#REF!,2,0)","v":{"$error":"#REF!"}}]
[548,"闽北职业技术学院",530301,"大数据与财务管理","联办","南平市武夷旅游商贸学校","会计事务",730301,"闽北职业技术学院530301南平市武夷旅游商贸学校","是",{"$f":"VLOOKUP(I549,#REF!,2,0)","v":{"$error":"#REF!"}}]
[549,"闽北职业技术学院",530301,"大数据与财务管理","联办","建瓯职业中专学校","会计事务",730301,"闽北职业技术学院530301建瓯职业中专学校","是",{"$f":"VLOOKUP(I550,#REF!,2,0)","v":{"$error":"#REF!"}}]
[550,"闽北职业技术学院",530701,"电子商务","联办","南平市武夷旅游商贸学校","电子商务",730701,"闽北职业技术学院530701南平市武夷旅游商贸学校","是",{"$f":"VLOOKUP(I551,#REF!,2,0)","v":{"$error":"#REF!"}}]
[551,"闽北职业技术学院",530701,"电子商务","联办","邵武职业中专学校","电子商务",730701,"闽北职业技术学院530701邵武职业中专学校","是",{"$f":"VLOOKUP(I552,#REF!,2,0)","v":{"$error":"#REF!"}}]
[552,"闽北职业技术学院",530701,"电子商务","联办","松溪县中等职业技术学校","电子商务",730701,"闽北职业技术学院530701松溪县中等职业技术学校","是",{"$f":"VLOOKUP(I553,#REF!,2,0)","v":{"$error":"#REF!"}}]
[553,"闽北职业技术学院",540101,"旅游管理","联办","南平职业中专学校","旅游服务与管理",740101,"闽北职业技术学院540101南平职业中专学校","是",{"$f":"VLOOKUP(I554,#REF!,2,0)","v":{"$error":"#REF!"}}]
[554,"闽北职业技术学院",540101,"旅游管理","联办","南平市武夷旅游商贸学校","旅游服务与管理",740101,"闽北职业技术学院540101南平市武夷旅游商贸学校","是",{"$f":"VLOOKUP(I555,#REF!,2,0)","v":{"$error":"#REF!"}}]
[555,"闽北职业技术学院",540101,"旅游管理","联办","顺昌中等职业学校","旅游服务与管理",740101,"闽北职业技术学院540101顺昌中等职业学校","是",{"$f":"VLOOKUP(I556,#REF!,2,0)","v":{"$error":"#REF!"}}]
[556,"闽北职业技术学院",550105,"服装与服饰设计","联办","南平市武夷旅游商贸学校","服装设计与工艺",680402,"闽北职业技术学院550105南平市武夷旅游商贸学校","是",{"$f":"VLOOKUP(I557,#REF!,2,0)","v":{"$error":"#REF!"}}]
[557,"闽北职业技术学院","570102K","学前教育","联办","南平职业中专学校","幼儿保育",770101,"闽北职业技术学院570102K南平职业中专学校","是",{"$f":"VLOOKUP(I558,#REF!,2,0)","v":{"$error":"#REF!"}}]
[558,"闽北职业技术学院","570102K","学前教育","联办","福州环保职业中专学校","幼儿保育",770101,"闽北职业技术学院570102K福州环保职业中专学校","是",{"$f":"VLOOKUP(I559,#REF!,2,0)","v":{"$error":"#REF!"}}]
[559,"武夷山职业学院",500113,"高速铁路客运服务","自办","自办","城市轨道交通运营服务",700604,"武夷山职业学院500113自办","是",{"$f":"VLOOKUP(I560,#REF!,2,0)","v":{"$error":"#REF!"}}]
[560,"武夷山职业学院",510201,"计算机应用技术","自办","自办","计算机应用",710201,"武夷山职业学院510201自办","是",{"$f":"VLOOKUP(I561,#REF!,2,0)","v":{"$error":"#REF!"}}]
[561,"武夷山职业学院",510201,"计算机应用技术","联办","武夷山市华职中等职业学校","计算机网络技术",710202,"武夷山职业学院510201武夷山市华职中等职业学校","是",{"$f":"VLOOKUP(I562,#REF!,2,0)","v":{"$error":"#REF!"}}]
[562,"武夷山职业学院",530301,"大数据与财务管理","自办","自办","会计事务",730301,"武夷山职业学院530301自办","是",{"$f":"VLOOKUP(I563,#REF!,2,0)","v":{"$error":"#REF!"}}]
[563,"武夷山职业学院",540109,"茶艺与茶文化","自办","自办","茶艺与茶营销",740105,"武夷山职业学院540109自办","是",{"$f":"VLOOKUP(I564,#REF!,2,0)","v":{"$error":"#REF!"}}]
[564,"武夷山职业学院",540202,"烹饪工艺与营养","自办","自办","中餐烹饪",740201,"武夷山职业学院540202自办","是",{"$f":"VLOOKUP(I565,#REF!,2,0)","v":{"$error":"#REF!"}}]
[565,"武夷山职业学院",550204,"表演艺术","自办","自办","舞蹈表演",750202,"武夷山职业学院550204自办","是",{"$f":"VLOOKUP(I566,#REF!,2,0)","v":{"$error":"#REF!"}}]
[566,"闽西职业技术学院",420802,"环境工程技术","联办","福州环保职业中专学校","环境监测技术",620801,"闽西职业技术学院420802福州环保职业中专学校","是",{"$f":"VLOOKUP(I567,#REF!,2,0)","v":{"$error":"#REF!"}}]
[567,"闽西职业技术学院",440102,"建筑装饰工程技术","联办","龙岩市农业学校","艺术设计与制作",750101,"闽西职业技术学院440102龙岩市农业学校","是",{"$f":"VLOOKUP(I568,#REF!,2,0)","v":{"$error":"#REF!"}}]
[568,"闽西职业技术学院",440105,"风景园林设计","联办","龙岩市农业学校","园林技术",610202,"闽西职业技术学院440105龙岩市农业学校","是",{"$f":"VLOOKUP(I569,#REF!,2,0)","v":{"$error":"#REF!"}}]
[569,"闽西职业技术学院",440601,"市政工程技术","联办","上杭职业中专学校","市政工程施工",640601,"闽西职业技术学院440601上杭职业中专学校","是",{"$f":"VLOOKUP(I570,#REF!,2,0)","v":{"$error":"#REF!"}}]
[570,"闽西职业技术学院",460104,"机械制造及自动化","联办","武平职业中专学校","机械加工技术",660102,"闽西职业技术学院460104武平职业中专学校","是",{"$f":"VLOOKUP(I571,#REF!,2,0)","v":{"$error":"#REF!"}}]
[571,"闽西职业技术学院",460104,"机械制造及自动化","联办","永定侨荣职业中专学校","数控技术应用",660103,"闽西职业技术学院460104永定侨荣职业中专学校","是",{"$f":"VLOOKUP(I572,#REF!,2,0)","v":{"$error":"#REF!"}}]
[572,"闽西职业技术学院",460301,"机电一体化技术","联办","漳平职业中专学校","机械加工技术",660102,"闽西职业技术学院460301漳平职业中专学校","是",{"$f":"VLOOKUP(I573,#REF!,2,0)","v":{"$error":"#REF!"}}]
[573,"闽西职业技术学院",460306,"电气自动化技术","联办","上杭职业中专学校","电气设备运行与控制",660302,"闽西职业技术学院460306上杭职业中专学校","是",{"$f":"VLOOKUP(I574,#REF!,2,0)","v":{"$error":"#REF!"}}]
[574,"闽西职业技术学院",470201,"应用化工技术","联办","长汀职业中专学校","有色金属冶炼技术",630501,"闽西职业技术学院470201长汀职业中专学校","是",{"$f":"VLOOKUP(I575,#REF!,2,0)","v":{"$error":"#REF!"}}]
[575,"闽西职业技术学院",510101,"电子信息工程技术","联办","连城县职业中专学校","微电子技术与器件制造",710401,"闽西职业技术学院510101连城县职业中专学校","是",{"$f":"VLOOKUP(I576,#REF!,2,0)","v":{"$error":"#REF!"}}]
[576,"闽西职业技术学院",510101,"电子信息工程技术","联办","武平职业中专学校","电子技术应用",710103,"闽西职业技术学院510101武平职业中专学校","是",{"$f":"VLOOKUP(I577,#REF!,2,0)","v":{"$error":"#REF!"}}]
[577,"闽西职业技术学院",520201,"护理","联办","龙岩卫生学校","护理",720201,"闽西职业技术学院520201龙岩卫生学校","是",{"$f":"VLOOKUP(I578,#REF!,2,0)","v":{"$error":"#REF!"}}]
[578,"闽西职业技术学院",520301,"药学","联办","龙岩卫生学校","药剂",720301,{"$f":"CONCATENATE(B579,C579,F579)","v":"闽西职业技术学院520301龙岩卫生学校"},"是",{"$f":"VLOOKUP(I579,#REF!,2,0)","v":{"$error":"#REF!"}}]
[579,"闽西职业技术学院",530701,"电子商务","联办","龙岩市农业学校","电子商务",730701,"闽西职业技术学院530701龙岩市农业学校","是",{"$f":"VLOOKUP(I580,#REF!,2,0)","v":{"$error":"#REF!"}}]
[580,"闽西职业技术学院",530701,"电子商务","联办","永定侨荣职业中专学校","电子商务",730701,"闽西职业技术学院530701永定侨荣职业中专学校","是",{"$f":"VLOOKUP(I581,#REF!,2,0)","v":{"$error":"#REF!"}}]
[581,"闽西职业技术学院",540101,"旅游管理","联办","连城县职业中专学校","旅游服务与管理",740101,"闽西职业技术学院540101连城县职业中专学校","是",{"$f":"VLOOKUP(I582,#REF!,2,0)","v":{"$error":"#REF!"}}]
[582,"闽西职业技术学院",540101,"旅游管理","联办","永定侨荣职业中专学校","旅游服务与管理",740101,"闽西职业技术学院540101永定侨荣职业中专学校","是",{"$f":"VLOOKUP(I583,#REF!,2,0)","v":{"$error":"#REF!"}}]
[583,"闽西职业技术学院","570102K","学前教育","联办","连城县职业中专学校","幼儿保育",770101,"闽西职业技术学院570102K连城县职业中专学校","是",{"$f":"VLOOKUP(I584,#REF!,2,0)","v":{"$error":"#REF!"}}]
[584,"闽西职业技术学院","570102K","学前教育","联办","上杭职业中专学校","幼儿保育",770101,"闽西职业技术学院570102K上杭职业中专学校","是",{"$f":"VLOOKUP(I585,#REF!,2,0)","v":{"$error":"#REF!"}}]
[585,"宁德职业技术学院",440106,"建筑室内设计","联办","宁德职业中专学校","工艺美术",750106,"宁德职业技术学院440106宁德职业中专学校","是",{"$f":"VLOOKUP(I586,#REF!,2,0)","v":{"$error":"#REF!"}}]
[586,"宁德职业技术学院",440106,"建筑室内设计","联办","柘荣职业技术学校","工艺美术",750106,"宁德职业技术学院440106柘荣职业技术学校","是",{"$f":"VLOOKUP(I587,#REF!,2,0)","v":{"$error":"#REF!"}}]
[587,"宁德职业技术学院",460103,"数控技术","联办","福安职业技术学校","数控技术应用",660103,"宁德职业技术学院460103福安职业技术学校","是",{"$f":"VLOOKUP(I588,#REF!,2,0)","v":{"$error":"#REF!"}}]
[588,"宁德职业技术学院",460103,"数控技术","联办","霞浦职业中专学校","数控技术应用",660103,"宁德职业技术学院460103霞浦职业中专学校","是",{"$f":"VLOOKUP(I589,#REF!,2,0)","v":{"$error":"#REF!"}}]
[589,"宁德职业技术学院",460203,"电机与电器技术","联办","霞浦职业中专学校","电子电器应用与维修",710105,"宁德职业技术学院460203霞浦职业中专学校","是",{"$f":"VLOOKUP(I590,#REF!,2,0)","v":{"$error":"#REF!"}}]
[590,"宁德职业技术学院",460301,"机电一体化技术","联办","古田职业中专学校","电气设备运行与控制",660302,"宁德职业技术学院460301古田职业中专学校","是",{"$f":"VLOOKUP(I591,#REF!,2,0)","v":{"$error":"#REF!"}}]
[591,"宁德职业技术学院",510201,"计算机应用技术","联办","古田职业中专学校","计算机应用",710201,"宁德职业技术学院510201古田职业中专学校","是",{"$f":"VLOOKUP(I592,#REF!,2,0)","v":{"$error":"#REF!"}}]
[592,"宁德职业技术学院",510201,"计算机应用技术","联办","福安职业技术学校","计算机应用",710201,"宁德职业技术学院510201福安职业技术学校","是",{"$f":"VLOOKUP(I593,#REF!,2,0)","v":{"$error":"#REF!"}}]
[593,"宁德职业技术学院",510201,"计算机应用技术","联办","宁德职业中专学校","计算机应用",710201,"宁德职业技术学院510201宁德职业中专学校","是",{"$f":"VLOOKUP(I594,#REF!,2,0)","v":{"$error":"#REF!"}}]
[594,"宁德职业技术学院",510215,"动漫制作技术","联办","寿宁职业技术学校","动漫与游戏制作",760204,"宁德职业技术学院510215寿宁职业技术学校","是",{"$f":"VLOOKUP(I595,#REF!,2,0)","v":{"$error":"#REF!"}}]
[595,"宁德职业技术学院",530703,"移动商务","联办","宁德财经学校","电子商务",730701,"宁德职业技术学院530703宁德财经学校","是",{"$f":"VLOOKUP(I596,#REF!,2,0)","v":{"$error":"#REF!"}}]
[596,"宁德职业技术学院",530703,"移动商务","联办","福建经济学校","电子商务",730701,"宁德职业技术学院530703福建经济学校","是",{"$f":"VLOOKUP(I597,#REF!,2,0)","v":{"$error":"#REF!"}}]
[597,"宁德职业技术学院",550102,"视觉传达设计","联办","宁德职业中专学校","艺术设计与制作",750101,"宁德职业技术学院550102宁德职业中专学校","是",{"$f":"VLOOKUP(I598,#REF!,2,0)","v":{"$error":"#REF!"}}]
[598,"宁德职业技术学院",550102,"视觉传达设计","联办","福建经济学校","计算机平面设计",710210,"宁德职业技术学院550102福建经济学校","是",{"$f":"VLOOKUP(I599,#REF!,2,0)","v":{"$error":"#REF!"}}]
[599,"宁德职业技术学院","570102K","学前教育","联办","福安职业技术学校","幼儿保育",770101,"宁德职业技术学院570102K福安职业技术学校","是",{"$f":"VLOOKUP(I600,#REF!,2,0)","v":{"$error":"#REF!"}}]
[600,"宁德职业技术学院","570102K","学前教育","联办","宁德职业中专学校","幼儿保育",770101,"宁德职业技术学院570102K宁德职业中专学校","是",{"$f":"VLOOKUP(I601,#REF!,2,0)","v":{"$error":"#REF!"}}]
[601,"宁德职业技术学院","570102K","学前教育","联办","福鼎职业中专学校","幼儿保育",770101,"宁德职业技术学院570102K福鼎职业中专学校","是",{"$f":"VLOOKUP(I602,#REF!,2,0)","v":{"$error":"#REF!"}}]
[602,"闽北职业技术学院",460301,"机电一体化技术","联办","浦城职业技术学校","机电技术应用",660301,"闽北职业技术学院460301浦城职业技术学校","是",{"$f":"VLOOKUP(I603,#REF!,2,0)","v":{"$error":"#REF!"}}]
[603,"闽北职业技术学院",460301,"机电一体化技术","联办","政和县中等职业技术学校","电子技术应用",710103,"闽北职业技术学院460301政和县中等职业技术学校","是",{"$f":"VLOOKUP(I604,#REF!,2,0)","v":{"$error":"#REF!"}}]
[604,"闽北职业技术学院",490101,"食品智能加工技术","联办","光泽县职业技术教育中心","禽畜生产技术",610301,"闽北职业技术学院490101光泽县职业技术教育中心","是",{"$f":"VLOOKUP(I605,#REF!,2,0)","v":{"$error":"#REF!"}}]

{"sheet":"职成处公布院校名单","index":4,"n_rows":45,"n_cols":3,"rows_kept":45,"hidden":true}
["高职院校名称","高职专业名称","报送情况"]
["福建船政交通职业学院",12,{"$f":"IFERROR(VLOOKUP(A2,#REF!,1,0),\"未报送\")","v":"未报送"}]
["福建华南女子职业学院",20,{"$f":"IFERROR(VLOOKUP(A3,#REF!,1,0),\"未报送\")","v":"未报送"}]
["福建林业职业技术学院",29,{"$f":"IFERROR(VLOOKUP(A4,#REF!,1,0),\"未报送\")","v":"未报送"}]
["福建农业职业技术学院",18,{"$f":"IFERROR(VLOOKUP(A5,#REF!,1,0),\"未报送\")","v":"未报送"}]
["福建生物工程职业技术学院",13,{"$f":"IFERROR(VLOOKUP(A6,#REF!,1,0),\"未报送\")","v":"未报送"}]
["福建水利电力职业技术学院",28,{"$f":"IFERROR(VLOOKUP(A7,#REF!,1,0),\"未报送\")","v":"未报送"}]
["福建体育职业技术学院",1,{"$f":"IFERROR(VLOOKUP(A8,#REF!,1,0),\"未报送\")","v":"未报送"}]
["福建卫生职业技术学院",8,{"$f":"IFERROR(VLOOKUP(A9,#REF!,1,0),\"未报送\")","v":"未报送"}]
["福建信息职业技术学院",17,{"$f":"IFERROR(VLOOKUP(A10,#REF!,1,0),\"未报送\")","v":"未报送"}]
["福建艺术职业学院",6,{"$f":"IFERROR(VLOOKUP(A11,#REF!,1,0),\"未报送\")","v":"未报送"}]
["福建幼儿师范高等专科学校",3,{"$f":"IFERROR(VLOOKUP(A12,#REF!,1,0),\"未报送\")","v":"未报送"}]
["福州黎明职业技术学院",10,{"$f":"IFERROR(VLOOKUP(A13,#REF!,1,0),\"未报送\")","v":"未报送"}]
["福州软件职业技术学院",15,{"$f":"IFERROR(VLOOKUP(A14,#REF!,1,0),\"未报送\")","v":"未报送"}]
["福州英华职业学院",21,{"$f":"IFERROR(VLOOKUP(A15,#REF!,1,0),\"未报送\")","v":"未报送"}]
["福州职业技术学院",13,{"$f":"IFERROR(VLOOKUP(A16,#REF!,1,0),\"未报送\")","v":"未报送"}]
["黎明职业大学",15,{"$f":"IFERROR(VLOOKUP(A17,#REF!,1,0),\"未报送\")","v":"未报送"}]
["湄洲湾职业技术学院",16,{"$f":"IFERROR(VLOOKUP(A18,#REF!,1,0),\"未报送\")","v":"未报送"}]
["闽北职业技术学院",21,{"$f":"IFERROR(VLOOKUP(A19,#REF!,1,0),\"未报送\")","v":"未报送"}]
["闽江师范高等专科学校",18,{"$f":"IFERROR(VLOOKUP(A20,#REF!,1,0),\"未报送\")","v":"未报送"}]
["闽西职业技术学院",19,{"$f":"IFERROR(VLOOKUP(A21,#REF!,1,0),\"未报送\")","v":"未报送"}]
["宁德职业技术学院",17,{"$f":"IFERROR(VLOOKUP(A22,#REF!,1,0),\"未报送\")","v":"未报送"}]
["泉州纺织服装职业学院",10,{"$f":"IFERROR(VLOOKUP(A23,#REF!,1,0),\"未报送\")","v":"未报送"}]
["泉州工程职业技术学院",3,{"$f":"IFERROR(VLOOKUP(A24,#REF!,1,0),\"未报送\")","v":"未报送"}]
["泉州工艺美术职业学院",8,{"$f":"IFERROR(VLOOKUP(A25,#REF!,1,0),\"未报送\")","v":"未报送"}]
["泉州海洋职业学院",13,{"$f":"IFERROR(VLOOKUP(A26,#REF!,1,0),\"未报送\")","v":"未报送"}]
["泉州华光职业学院",16,{"$f":"IFERROR(VLOOKUP(A27,#REF!,1,0),\"未报送\")","v":"未报送"}]
["泉州经贸职业技术学院",18,{"$f":"IFERROR(VLOOKUP(A28,#REF!,1,0),\"未报送\")","v":"未报送"}]
["泉州轻工职业学院",20,{"$f":"IFERROR(VLOOKUP(A29,#REF!,1,0),\"未报送\")","v":"未报送"}]
["泉州幼儿师范高等专科学校",14,{"$f":"IFERROR(VLOOKUP(A30,#REF!,1,0),\"未报送\")","v":"未报送"}]
["三明医学科技职业学院",43,{"$f":"IFERROR(VLOOKUP(A31,#REF!,1,0),\"未报送\")","v":"未报送"}]
["厦门安防科技职业学院",11,{"$f":"IFERROR(VLOOKUP(A32,#REF!,1,0),\"未报送\")","v":"未报送"}]
["厦门城市职业学院",3,{"$f":"IFERROR(VLOOKUP(A33,#REF!,1,0),\"未报送\")","v":"未报送"}]
["厦门东海职业技术学院",8,{"$f":"IFERROR(VLOOKUP(A34,#REF!,1,0),\"未报送\")","v":"未报送"}]
["厦门华天涉外职业技术学院",4,{"$f":"IFERROR(VLOOKUP(A35,#REF!,1,0),\"未报送\")","v":"未报送"}]
["厦门南洋职业学院",15,{"$f":"IFERROR(VLOOKUP(A36,#REF!,1,0),\"未报送\")","v":"未报送"}]
["厦门软件职业技术学院",8,{"$f":"IFERROR(VLOOKUP(A37,#REF!,1,0),\"未报送\")","v":"未报送"}]
["厦门兴才职业技术学院",7,{"$f":"IFERROR(VLOOKUP(A38,#REF!,1,0),\"未报送\")","v":"未报送"}]
["厦门演艺职业学院",5,{"$f":"IFERROR(VLOOKUP(A39,#REF!,1,0),\"未报送\")","v":"未报送"}]
["武夷山职业学院",7,{"$f":"IFERROR(VLOOKUP(A40,#REF!,1,0),\"未报送\")","v":"未报送"}]
["漳州城市职业学院",8,{"$f":"IFERROR(VLOOKUP(A41,#REF!,1,0),\"未报送\")","v":"未报送"}]
["漳州科技职业学院",20,{"$f":"IFERROR(VLOOKUP(A42,#REF!,1,0),\"未报送\")","v":"未报送"}]
["漳州理工职业学院",17,{"$f":"IFERROR(VLOOKUP(A43,#REF!,1,0),\"未报送\")","v":"未报送"}]
["漳州卫生职业学院",4,{"$f":"IFERROR(VLOOKUP(A44,#REF!,1,0),\"未报送\")","v":"未报送"}]
["漳州职业技术学院",19,{"$f":"IFERROR(VLOOKUP(A45,#REF!,1,0),\"未报送\")","v":"未报送"}]

{"sheet":"学校序号","index":5,"n_rows":95,"n_cols":2,"rows_kept":95,"hidden":true}
["学校名称","序号"]
["全省合计",1]
["本科合计",2]
["公办本科",3]
["福州大学",4]
["福建师范大学",5]
["福建农林大学",6]
["福建医科大学",7]
["福建中医药大学",8]
["集美大学",9]
["闽南师范大学",10]
["福建工程学院",11]
["厦门理工学院",12]
["闽江学院",13]
["泉州师范学院",14]
["福建江夏学院",15]
["福建警察学院",16]
["福建技术师范学院",17]
["莆田学院",18]
["龙岩学院",19]
["三明学院",20]
["武夷学院",21]
["宁德师范学院",22]
["福建商学院",23]
["厦门医学院",24]
["民办本科",25]
["仰恩大学",26]
["闽南理工学院",27]
["福州外语外贸学院",28]
["泉州信息工程学院",29]
["厦门工学院",30]
["阳光学院",31]
["厦门华厦学院",32]
["福州理工学院",33]
["闽南科技学院",34]
["福州工商学院",35]
["泉州职业技术大学",36]
["独立学院",37]
["厦门大学嘉庚学院",38]
["福州大学至诚学院",39]
["福建师范大学协和学院",40]
["福建农林大学金山学院",41]
["集美大学诚毅学院",42]
["专科合计",43]
["公办专科",44]
["福建船政交通职业学院",45]
["福建信息职业技术学院",46]
["福建幼儿师范高等专科学校",47]
["福建林业职业技术学院",48]
["福建水利电力职业技术学院",49]
["福建电力职业技术学院",50]
["厦门海洋职业技术学院",51]
["福建农业职业技术学院",52]
["福建卫生职业技术学院",53]
["福建生物工程职业技术学院",54]
["福建艺术职业学院",55]
["福建体育职业技术学院",56]
["泉州医学高等专科学校",57]
["泉州幼儿师范高等专科学校",58]
["闽江师范高等专科学校",59]
["漳州职业技术学院",60]
["闽西职业技术学院",61]
["黎明职业大学",62]
["福州职业技术学院",63]
["闽北职业技术学院",64]
["泉州经贸职业技术学院",65]
["湄洲湾职业技术学院",66]
["厦门城市职业学院",67]
["泉州工艺美术职业学院",68]
["三明医学科技职业学院",69]
["宁德职业技术学院",70]
["漳州城市职业学院",71]
["漳州卫生职业学院",72]
["民办专科",73]
["福建华南女子职业学院",74]
["福州英华职业学院",75]
["泉州纺织服装职业学院",76]
["泉州华光职业学院",77]
["福州黎明职业技术学院",78]
["厦门演艺职业学院",79]
["厦门华天涉外职业技术学院",80]
["福州科技职业技术学院",81]
["福州软件职业技术学院",82]
["厦门兴才职业技术学院",83]
["厦门软件职业技术学院",84]
["厦门南洋职业学院",85]
["厦门东海职业技术学院",86]
["漳州科技职业学院",87]
["漳州理工职业学院",88]
["武夷山职业学院",89]
["泉州海洋职业学院",90]
["泉州轻工职业学院",91]
["厦门安防科技职业学院",92]
["泉州工程职业技术学院",93]
["福州墨尔本理工职业学院",94]

{"sheet":"专业超400","index":6,"n_rows":369,"n_cols":3,"rows_kept":369,"hidden":true}
["甲","丙","求和项:1"]
["福建船政交通职业学院","电子商务",150]
["福建船政交通职业学院","机械制造及自动化",100]
["福建船政交通职业学院","建设工程管理",100]
["福建船政交通职业学院","轮机工程技术",90]
["福建船政交通职业学院","汽车检测与维修技术",110]
["福建船政交通职业学院","汽车制造与试验技术",120]
["福建华南女子职业学院","服装与服饰设计",110]
["福建华南女子职业学院","工程造价",105]
["福建华南女子职业学院","空中乘务",100]
["福建华南女子职业学院","旅游管理",30]
["福建华南女子职业学院","人物形象设计",80]
["福建华南女子职业学院","食品检验检测技术",50]
["福建华南女子职业学院","数字媒体艺术设计",145]
["福建华南女子职业学院","现代家政服务与管理",50]
["福建华南女子职业学院","学前教育",150]
["福建华南女子职业学院","智慧健康养老服务与管理",50]
["福建林业职业技术学院","道路与桥梁工程技术",100]
["福建林业职业技术学院","风景园林设计",150]
["福建林业职业技术学院","广告艺术设计",100]
["福建林业职业技术学院","会计信息管理",100]
["福建林业职业技术学院","机电一体化技术",150]
["福建林业职业技术学院","计算机应用技术",200]
["福建林业职业技术学院","建筑室内设计",150]
["福建林业职业技术学院","建筑智能化工程技术",100]
["福建林业职业技术学院","林业技术",50]
["福建林业职业技术学院","旅游管理",95]
["福建林业职业技术学院","市政工程技术",50]
["福建林业职业技术学院","园林工程技术",50]
["福建林业职业技术学院","园林技术",150]
["福建农业职业技术学院","宠物养护与驯导",40]
["福建农业职业技术学院","畜牧兽医",200]
["福建农业职业技术学院","金融服务与管理",160]
["福建农业职业技术学院","食品检验检测技术",40]
["福建农业职业技术学院","食品智能加工技术",120]
["福建农业职业技术学院","园林技术",160]
["福建生物工程职业技术学院","生物制药技术",80]
["福建生物工程职业技术学院","食品检验检测技术",50]
["福建生物工程职业技术学院","药品经营与管理",90]
["福建生物工程职业技术学院","药品生产技术",80]
["福建生物工程职业技术学院","药学",140]
["福建生物工程职业技术学院","医疗器械维护与管理",35]
["福建生物工程职业技术学院","中药学",95]
["福建水利电力职业技术学院","道路与桥梁工程技术",45]
["福建水利电力职业技术学院","电气自动化技术",135]
["福建水利电力职业技术学院","电子商务",90]
["福建水利电力职业技术学院","电子信息工程技术",90]
["福建水利电力职业技术学院","供用电技术",135]
["福建水利电力职业技术学院","环境艺术设计",135]
["福建水利电力职业技术学院","机电一体化技术",90]
["福建水利电力职业技术学院","计算机应用技术",40]
["福建水利电力职业技术学院","汽车制造与试验技术",40]
["福建水利电力职业技术学院","市政工程技术",130]
["福建水利电力职业技术学院","数字媒体技术",45]
["福建水利电力职业技术学院","水电站设备安装与管理",50]
["福建水利电力职业技术学院","水利水电工程智能管理",40]
["福建水利电力职业技术学院","新能源汽车技术",135]
["福建水利电力职业技术学院","智能控制技术",40]
["福建体育职业技术学院","运动训练",400]
["福建卫生职业技术学院","护理",55]
["福建卫生职业技术学院","康复治疗技术",55]
["福建卫生职业技术学院","药品生产技术",55]
["福建卫生职业技术学院","药学",110]
["福建卫生职业技术学院","医学美容技术",110]
["福建卫生职业技术学院","智能医疗装备技术",55]
["福建信息职业技术学院","大数据与会计",50]
["福建信息职业技术学院","电子商务",50]
["福建信息职业技术学院","电子信息工程技术",150]
["福建信息职业技术学院","工业机器人技术",50]
["福建信息职业技术学院","国际邮轮乘务管理",50]
["福建信息职业技术学院","机械制造及自动化",50]
["福建信息职业技术学院","建筑装饰工程技术",50]
["福建信息职业技术学院","旅游管理",50]
["福建信息职业技术学院","汽车检测与维修技术",50]
["福建信息职业技术学院","摄影测量与遥感技术",50]
["福建信息职业技术学院","物联网应用技术",100]
["福建信息职业技术学院","现代通信技术",100]
["福建信息职业技术学院","信息安全技术应用",50]
["福建信息职业技术学院","休闲服务与管理",50]
["福建艺术职业学院","茶艺与茶文化",30]
["福建艺术职业学院","服装与服饰设计",40]
["福建艺术职业学院","工艺美术品设计（漆艺方向）",30]
["福建艺术职业学院","舞蹈表演（中国舞方向）",50]
["福建艺术职业学院","艺术设计",50]
["福建艺术职业学院","音乐表演",55]
["福建幼儿师范高等专科学校","首饰设计与工艺",30]
["福建幼儿师范高等专科学校","艺术教育",100]
["福建幼儿师范高等专科学校","艺术设计",30]
["福州黎明职业技术学院","电子商务",90]
["福州黎明职业技术学院","高速铁路客运服务",120]
["福州黎明职业技术学院","工程造价",50]
["福州黎明职业技术学院","建筑室内设计",50]
["福州黎明职业技术学院","烹饪工艺与营养",85]
["福州黎明职业技术学院","新能源汽车技术",40]
["福州软件职业技术学院","大数据与会计",110]
["福州软件职业技术学院","动漫制作技术",220]
["福州软件职业技术学院","建筑室内设计",85]
["福州软件职业技术学院","软件技术",110]
["福州软件职业技术学院","数字媒体技术",130]
["福州软件职业技术学院","现代物流管理",90]
["福州英华职业学院","电子商务",240]
["福州英华职业学院","动漫制作技术",90]
["福州英华职业学院","工程造价",100]
["福州英华职业学院","护理",45]
["福州英华职业学院","计算机应用技术",230]
["福州英华职业学院","建设工程管理",50]
["福州英华职业学院","建筑室内设计",150]
["福州英华职业学院","金融服务与管理",110]
["福州英华职业学院","商务英语",60]
["福州职业技术学院","电子商务",50]
["福州职业技术学院","空中乘务",45]
["福州职业技术学院","汽车检测与维修技术",50]
["福州职业技术学院","软件技术",50]
["福州职业技术学院","室内艺术设计",40]
["福州职业技术学院","信息安全技术应用",50]
["福州职业技术学院","艺术设计",40]
["福州职业技术学院","应用电子技术",50]
["黎明职业大学","电子商务",40]
["黎明职业大学","动漫制作技术",80]
["黎明职业大学","服装设计与工艺",45]
["黎明职业大学","机械设计与制造",40]
["黎明职业大学","建筑室内设计",40]
["黎明职业大学","旅游管理",45]
["黎明职业大学","汽车智能技术",45]
["黎明职业大学","食品检验检测技术",45]
["黎明职业大学","市政工程技术",40]
["黎明职业大学","数控技术",40]
["黎明职业大学","应用化工技术",70]
["湄洲湾职业技术学院","电气自动化技术",50]
["湄洲湾职业技术学院","电子信息工程技术",100]
["湄洲湾职业技术学院","动漫制作技术",50]
["湄洲湾职业技术学院","工业机器人技术",90]
["湄洲湾职业技术学院","护理",100]
["湄洲湾职业技术学院","机电一体化技术",100]
["湄洲湾职业技术学院","建筑工程技术",100]
["湄洲湾职业技术学院","汽车制造与试验技术",50]
["湄洲湾职业技术学院","数控技术",100]
["湄洲湾职业技术学院","应用化工技术",100]
["闽北职业技术学院","大数据与财务管理",90]
["闽北职业技术学院","电子商务",110]
["闽北职业技术学院","服装与服饰设计",50]
["闽北职业技术学院","机电一体化技术",140]
["闽北职业技术学院","计算机应用技术",95]
["闽北职业技术学院","建筑室内设计",50]
["闽北职业技术学院","旅游管理",135]
["闽北职业技术学院","食品检验检测技术",80]
["闽北职业技术学院","食品智能加工技术",75]
["闽北职业技术学院","数控技术",85]
["闽北职业技术学院","学前教育",100]
["闽江师范高等专科学校","表演艺术",85]
["闽江师范高等专科学校","导游",50]
["闽江师范高等专科学校","分析检验技术",160]
["闽江师范高等专科学校","工业机器人技术",50]
["闽江师范高等专科学校","汽车制造与试验技术",45]
["闽江师范高等专科学校","数字媒体技术",90]
["闽江师范高等专科学校","物联网应用技术",115]
["闽江师范高等专科学校","学前教育",130]
["闽江师范高等专科学校","应用英语",50]
["闽西职业技术学院","电气自动化技术",45]
["闽西职业技术学院","电子商务",90]
["闽西职业技术学院","电子信息工程技术",95]
["闽西职业技术学院","风景园林设计",45]
["闽西职业技术学院","护理",150]
["闽西职业技术学院","环境工程技术",60]
["闽西职业技术学院","机电一体化技术",45]
["闽西职业技术学院","机械制造及自动化",95]
["闽西职业技术学院","建筑装饰工程技术",90]
["闽西职业技术学院","旅游管理",90]
["闽西职业技术学院","市政工程技术",45]
["闽西职业技术学院","学前教育",90]
["闽西职业技术学院","药学",100]
["闽西职业技术学院","应用化工技术",45]
["宁德职业技术学院","电机与电器技术",40]
["宁德职业技术学院","动漫制作技术",35]
["宁德职业技术学院","机电一体化技术",48]
["宁德职业技术学院","计算机应用技术",143]
["宁德职业技术学院","建筑室内设计",85]
["宁德职业技术学院","视觉传达设计",95]
["宁德职业技术学院","数控技术",90]
["宁德职业技术学院","学前教育",240]
["宁德职业技术学院","移动商务",100]
["泉州纺织服装职业学院","电子商务",200]
["泉州纺织服装职业学院","服装设计与工艺",200]
["泉州纺织服装职业学院","服装与服饰设计",200]
["泉州纺织服装职业学院","护理",200]
["泉州纺织服装职业学院","环境艺术设计",200]
["泉州纺织服装职业学院","人物形象设计",200]
["泉州纺织服装职业学院","社会体育",200]
["泉州纺织服装职业学院","室内艺术设计",200]
["泉州纺织服装职业学院","婴幼儿托育服务与管理",400]
["泉州工程职业技术学院","机电一体化技术",50]
["泉州工程职业技术学院","软件技术",50]
["泉州工程职业技术学院","药品经营与管理",50]
["泉州工艺美术职业学院","电子商务",100]
["泉州工艺美术职业学院","工艺美术品设计",45]
["泉州工艺美术职业学院","视觉传达设计",135]
["泉州工艺美术职业学院","数字媒体艺术设计",85]
["泉州工艺美术职业学院","休闲服务与管理",50]
["泉州工艺美术职业学院","艺术设计",90]
["泉州海洋职业学院","表演艺术",200]
["泉州海洋职业学院","电子商务",50]
["泉州海洋职业学院","高速铁路客运服务",50]
["泉州海洋职业学院","航海技术",240]
["泉州海洋职业学院","机电一体化技术",50]
["泉州海洋职业学院","空中乘务",200]
["泉州海洋职业学院","轮机工程技术",240]
["泉州海洋职业学院","社会体育",200]
["泉州海洋职业学院","艺术设计",200]
["泉州华光职业学院","表演艺术",250]
["泉州华光职业学院","电子商务",50]
["泉州华光职业学院","服装与服饰设计",200]
["泉州华光职业学院","广告艺术设计",250]
["泉州华光职业学院","建筑室内设计",50]
["泉州华光职业学院","摄影与摄像艺术",200]
["泉州华光职业学院","室内艺术设计",250]
["泉州华光职业学院","数字媒体技术",45]
["泉州华光职业学院","休闲体育",300]
["泉州华光职业学院","学前教育",400]
["泉州华光职业学院","婴幼儿托育服务与管理",30]
["泉州经贸职业技术学院","电子商务",100]
["泉州经贸职业技术学院","服装设计与工艺",150]
["泉州经贸职业技术学院","广告艺术设计",45]
["泉州经贸职业技术学院","会计信息管理",100]
["泉州经贸职业技术学院","计算机应用技术",100]
["泉州经贸职业技术学院","汽车检测与维修技术",50]
["泉州经贸职业技术学院","数字媒体艺术设计",100]
["泉州经贸职业技术学院","统计与会计核算",100]
["泉州经贸职业技术学院","现代物流管理",100]
["泉州轻工职业学院","大数据与财务管理",95]
["泉州轻工职业学院","电子商务",50]
["泉州轻工职业学院","动漫制作技术",90]
["泉州轻工职业学院","服装与服饰设计",120]
["泉州轻工职业学院","广告艺术设计",100]
["泉州轻工职业学院","机电一体化技术",100]
["泉州轻工职业学院","建筑工程技术",95]
["泉州轻工职业学院","建筑室内设计",50]
["泉州轻工职业学院","食品检验检测技术",85]
["泉州轻工职业学院","西式烹饪工艺",90]
["泉州轻工职业学院","鞋类设计与工艺",50]
["泉州幼儿师范高等专科学校","舞蹈教育",40]
["泉州幼儿师范高等专科学校","休闲服务与管理",100]
["泉州幼儿师范高等专科学校","学前教育",430]
["泉州幼儿师范高等专科学校","艺术教育",50]
["三明医学科技职业学院","电子商务",150]
["三明医学科技职业学院","服装与服饰设计",50]
["三明医学科技职业学院","护理",160]
["三明医学科技职业学院","会计信息管理",250]
["三明医学科技职业学院","机电一体化技术",130]
["三明医学科技职业学院","机械制造及自动化",145]
["三明医学科技职业学院","建设工程管理",150]
["三明医学科技职业学院","酒店管理与数字化运营",50]
["三明医学科技职业学院","旅游管理",100]
["三明医学科技职业学院","汽车制造与试验技术",130]
["三明医学科技职业学院","视觉传达设计",105]
["三明医学科技职业学院","数控技术",225]
["三明医学科技职业学院","数字媒体艺术设计",80]
["三明医学科技职业学院","学前教育",150]
["三明医学科技职业学院","药学",50]
["三明医学科技职业学院","早期教育",150]
["三明医学科技职业学院","智能控制技术",120]
["厦门安防科技职业学院","动漫制作技术",200]
["厦门安防科技职业学院","会计信息管理",100]
["厦门安防科技职业学院","建筑消防技术",200]
["厦门安防科技职业学院","健康管理",200]
["厦门安防科技职业学院","软件技术",200]
["厦门安防科技职业学院","社会体育",200]
["厦门安防科技职业学院","室内艺术设计",200]
["厦门安防科技职业学院","数字媒体技术",200]
["厦门安防科技职业学院","物联网应用技术",100]
["厦门安防科技职业学院","婴幼儿托育服务与管理",200]
["厦门城市职业学院","城市轨道交通运营管理",50]
["厦门城市职业学院","空中乘务",50]
["厦门城市职业学院","现代物流管理",50]
["厦门东海职业技术学院","电子商务",40]
["厦门东海职业技术学院","护理",200]
["厦门东海职业技术学院","建筑装饰工程技术",70]
["厦门东海职业技术学院","空中乘务",40]
["厦门东海职业技术学院","汽车制造与试验技术",40]
["厦门东海职业技术学院","艺术设计",200]
["厦门东海职业技术学院","婴幼儿托育服务与管理",70]
["厦门东海职业技术学院","智慧健康养老服务与管理",70]
["厦门华天涉外职业技术学院","动漫制作技术",300]
["厦门华天涉外职业技术学院","计算机应用技术",100]
["厦门华天涉外职业技术学院","视觉传达设计",300]
["厦门华天涉外职业技术学院","室内艺术设计",300]
["厦门南洋职业学院","电子商务",90]
["厦门南洋职业学院","动漫设计",400]
["厦门南洋职业学院","服装与服饰设计",400]
["厦门南洋职业学院","高速铁路客运服务",50]
["厦门南洋职业学院","广告艺术设计",400]
["厦门南洋职业学院","护理",400]
["厦门南洋职业学院","环境艺术设计",400]
["厦门南洋职业学院","社会体育",400]
["厦门南洋职业学院","数字媒体艺术设计",400]
["厦门南洋职业学院","无人机应用技术",150]
["厦门南洋职业学院","现代家政服务与管理",400]
["厦门南洋职业学院","学前教育",400]
["厦门南洋职业学院","音乐表演",400]
["厦门南洋职业学院","婴幼儿托育服务与管理",400]
["厦门软件职业技术学院","大数据与会计",200]
["厦门软件职业技术学院","电子商务",250]
["厦门软件职业技术学院","动漫制作技术",60]
["厦门软件职业技术学院","计算机网络技术",265]
["厦门软件职业技术学院","建筑室内设计",200]
["厦门软件职业技术学院","数字媒体技术",205]
["厦门兴才职业技术学院","大数据与会计",50]
["厦门兴才职业技术学院","动漫设计",40]
["厦门兴才职业技术学院","广告艺术设计",50]
["厦门兴才职业技术学院","计算机应用技术",50]
["厦门兴才职业技术学院","学前教育",135]
["厦门演艺职业学院","播音与主持",300]
["厦门演艺职业学院","电子商务",300]
["厦门演艺职业学院","国际标准舞",300]
["厦门演艺职业学院","舞蹈表演",300]
["厦门演艺职业学院","音乐表演",300]
["武夷山职业学院","表演艺术",315]
["武夷山职业学院","茶艺与茶文化",280]
["武夷山职业学院","大数据与财务管理",245]
["武夷山职业学院","高速铁路客运服务",315]
["武夷山职业学院","计算机应用技术",445]
["武夷山职业学院","烹饪工艺与营养",200]
["漳州城市职业学院","大数据与财务管理",40]
["漳州城市职业学院","食品质量与安全",40]
["漳州城市职业学院","学前教育",250]
["漳州科技职业学院","茶叶生产与加工技术",40]
["漳州科技职业学院","茶艺与茶文化",60]
["漳州科技职业学院","产品艺术设计",40]
["漳州科技职业学院","大数据与会计",40]
["漳州科技职业学院","电子商务",80]
["漳州科技职业学院","护理",155]
["漳州科技职业学院","建设工程管理",80]
["漳州科技职业学院","旅游管理",80]
["漳州科技职业学院","食品检验检测技术",60]
["漳州科技职业学院","食品智能加工技术",130]
["漳州科技职业学院","室内艺术设计",120]
["漳州科技职业学院","数字媒体艺术设计",120]
["漳州科技职业学院","网络营销与直播电商",50]
["漳州科技职业学院","学前教育",195]
["漳州科技职业学院","艺术设计",80]
["漳州理工职业学院","电子商务",200]
["漳州理工职业学院","广告艺术设计",150]
["漳州理工职业学院","护理",200]
["漳州理工职业学院","环境艺术设计",150]
["漳州理工职业学院","机电一体化技术",110]
["漳州理工职业学院","计算机网络技术",200]
["漳州理工职业学院","汽车制造与试验技术",50]
["漳州理工职业学院","软件技术",60]
["漳州理工职业学院","社会体育",95]
["漳州理工职业学院","数字媒体艺术设计",200]
["漳州理工职业学院","新能源汽车技术",100]
["漳州理工职业学院","艺术设计",200]
["漳州理工职业学院","印刷媒体技术",40]
["漳州理工职业学院","婴幼儿托育服务与管理",150]
["漳州理工职业学院","应用电子技术",160]
["漳州卫生职业学院","康复治疗技术",50]
["漳州卫生职业学院","口腔医学技术",50]
["漳州卫生职业学院","药物制剂技术",50]
["漳州卫生职业学院","智能医疗装备技术",50]
["漳州职业技术学院","电子商务",70]
["漳州职业技术学院","电子信息工程技术",40]
["漳州职业技术学院","机电一体化技术",70]
["漳州职业技术学院","机械设计与制造",40]
["漳州职业技术学院","建筑室内设计",40]
["漳州职业技术学院","旅游管理",105]
["漳州职业技术学院","汽车检测与维修技术",105]
["漳州职业技术学院","食品智能加工技术",70]
["漳州职业技术学院","数字媒体技术",40]
["漳州职业技术学院","物联网应用技术",40]
["漳州职业技术学院","应用电子技术",70]